BEGIN:VCALENDAR
VERSION:2.0
PRODID:-//Gowanus Dredgers Canoe Club - ECPv6.15.20//NONSGML v1.0//EN
CALSCALE:GREGORIAN
METHOD:PUBLISH
X-ORIGINAL-URL:https://gowanusdredgers.org
X-WR-CALDESC:Events for Gowanus Dredgers Canoe Club
REFRESH-INTERVAL;VALUE=DURATION:PT1H
X-Robots-Tag:noindex
X-PUBLISHED-TTL:PT1H
BEGIN:VTIMEZONE
TZID:America/New_York
BEGIN:DAYLIGHT
TZOFFSETFROM:-0500
TZOFFSETTO:-0400
TZNAME:EDT
DTSTART:20240310T070000
END:DAYLIGHT
BEGIN:STANDARD
TZOFFSETFROM:-0400
TZOFFSETTO:-0500
TZNAME:EST
DTSTART:20241103T060000
END:STANDARD
BEGIN:DAYLIGHT
TZOFFSETFROM:-0500
TZOFFSETTO:-0400
TZNAME:EDT
DTSTART:20250309T070000
END:DAYLIGHT
BEGIN:STANDARD
TZOFFSETFROM:-0400
TZOFFSETTO:-0500
TZNAME:EST
DTSTART:20251102T060000
END:STANDARD
BEGIN:DAYLIGHT
TZOFFSETFROM:-0500
TZOFFSETTO:-0400
TZNAME:EDT
DTSTART:20260308T070000
END:DAYLIGHT
BEGIN:STANDARD
TZOFFSETFROM:-0400
TZOFFSETTO:-0500
TZNAME:EST
DTSTART:20261101T060000
END:STANDARD
END:VTIMEZONE
BEGIN:VEVENT
DTSTART;TZID=America/New_York:20250705T160000
DTEND;TZID=America/New_York:20250705T170000
DTSTAMP:20260424T231111
CREATED:20250626T130805Z
LAST-MODIFIED:20250626T130805Z
UID:10000608-1751731200-1751734800@gowanusdredgers.org
SUMMARY:Release
DESCRIPTION:Come witness and participate in Release\, a temporary installation and informal movement session developed as part of a two-part workshop held at Coney Island Creek and Gowanus. Join us at the Dredgers Boat House to witness and explore: what gets collected and recorded when we connect to a place and the living things that occupy the place? What gets activated when these recordings are shared in a different space and time? How to move and make movements from these activations? \nPresented by Nora Almeida and iki nakagawa
URL:https://gowanusdredgers.org/event/release/
LOCATION:Gowanus Dredgers Canoe Club Boathouse\, 165 2nd St\, Brooklyn\, NY\, 11231\, United States
CATEGORIES:Arts,Community
ATTACH;FMTTYPE=image/jpeg:https://gowanusdredgers.org/wp-content/uploads/2025/06/4Release_PressPhoto16x9-scaled.jpg
END:VEVENT
BEGIN:VEVENT
DTSTART;TZID=America/New_York:20250712T130000
DTEND;TZID=America/New_York:20250712T210000
DTSTAMP:20260424T231111
CREATED:20250627T013629Z
LAST-MODIFIED:20250718T203911Z
UID:10000620-1752325200-1752354000@gowanusdredgers.org
SUMMARY:PAST PRESENTS the FUTURE: Joann Amitrano and AURAxDR
DESCRIPTION:PAST PRESENTS the FUTURE is a show by 2 Gowanus artists (Joann Amitrano and AURAxDR) whose work connects feelings\, places\, and the passing of time. \nParticipate in Our Collaborative Art Raffle\, starting July 19th!\nThe artists invite you to be part of a unique\, interactive art experience—and support the Gowanus Dredgers at the same time.\nHow to Enter:\nDonate $5 (or more!) directly to the Gowanus Dredgers’ PayPal using the QR code on-site or this link. Be sure to leave your name and contact info. \nPaint Together:\nWith your donation\, you’ll get the chance to add your own creative touch to a collaborative canvas. Art supplies will be provided. On August 2nd at 3pm\, AURAxDR will add his signature “AURA” image to the completed piece\, transforming it into a one-of-a-kind artwork. \nWin Big: At 4pm on August 2\, we’ll draw the winning ticket. The lucky winner will take home this unique\, community-created artwork—an original piece—valued at $4\,500! If the winner isn’t present at the drawing\, they’ll be contacted directly.  \nAll proceeds go directly to support the Gowanus Dredgers’ ongoing community programming. Don’t miss your chance to create—and win—a piece of Gowanus art history! \nPAST PRESENTS the FUTURE\nReception: July 12 6-9pm\nArtists at the Gallery Saturdays in July (19\, 26\, Aug 2) 1-5PM or by appointment\nCurated by Pam Wong\n  \nABOUT THE ARTISTS \nJoann began her artistic career in 1986\, when she would create wearable art from beads and found objects. As time went on she ventured into working with metals and would specialize in sculptural wire work jewelry and unique home decor art pieces.\nShe creates what she feels and has many mediums in which she works. She is currently creating works that use her photographs combined within her paintings. The combination of an abstract painting and a familiar place in a photo come together to create a semi abstract landscape.\nDriven by the desire to document the ever-changing environment around her\, Joann has naturally began cataloguing as much of the changes as she could. Through her lens\, she is saying these places\, people or times won’t be forgotten. While bearing witness to and capturing the transformations of entire neighborhoods and the complexities of the landscape she is also finding the source of her next mixed media painting. Her belief is that photographs serve as a living journal and that change is the one constant in life. \nThe street art of AURAxDR is the work of an established artist and musician that needed an anonymous space to share his deeper reflections of life and emotion on. The works evoke a mood or a meditative state.
URL:https://gowanusdredgers.org/event/past-presents-the-future-joann-amitrano-and-auraxdr/2025-07-12/
LOCATION:Gowanus Dredgers Canoe Club Boathouse\, 165 2nd St\, Brooklyn\, NY\, 11231\, United States
CATEGORIES:Arts
ATTACH;FMTTYPE=image/webp:https://gowanusdredgers.org/wp-content/uploads/2025/06/Past-Presents-the-Future-JULY-Gowanus-Flyer-Web-16x9-1.jpg
END:VEVENT
BEGIN:VEVENT
DTSTART;TZID=America/New_York:20250713T133000
DTEND;TZID=America/New_York:20250713T153000
DTSTAMP:20260424T231111
CREATED:20250313T143323Z
LAST-MODIFIED:20250911T205334Z
UID:10000563-1752413400-1752420600@gowanusdredgers.org
SUMMARY:A Persistence of Cormorants Poetry Reading
DESCRIPTION:A Persistence of Cormorants is a summer-long poetry reading series on our shoreline featuring accomplished and exceptional poets from the New York area\, many of who live in Brooklyn. On each of the scheduled Sundays\, from 1:30 to 3:30\, up to four featured poets will read for 10 to 15 minutes each. \nGerry reads poetry at the canal\nThe readings will be followed by open mic time limited to ten readers (one poem no longer than 3 minutes) who have signed up the day of the reading on a first come basis. \nReading will be outdoors at the Gowanus open shoreline and we invite you to engage with the emerging Gowanus Canal habitat as we witness the EPA conduct their SuperFUN/d cleanup program. Event may move to inside the boathouse if it begins to rain or we want to escape the summer heat. If other activity is occurring on the street or esplanade\, event may move inside. \nParticipation is free but we encourage donations to sustain the efforts of the Gowanus Dredgers Canoe Club\, an advocacy stewardship organization who has been representing neighborhood interests for over two decades. \nMay4th: Gregory Crosby\, Brad Vogel\, Melinda Wilson\, Anthony Cappo18th: Scott Hightower\, Abigail Wellhouse\, Kristina Andersson\, Estha Weiner 25th: Michael Broder\, James Diaz\, Kristine Esser Stenz\, Sarah Sari \nJune1st: Susan Cohen\, Sarah Wallace\, Jiwon Choi\, Caroline Hagood 8th: Jo Solfren\, Amy Lemmon\, Sam Cha\, TBA22nd: Bruce E. Whitacre\, Gerry La Femina\, Jordan Franklin\, TBA29th: Ruth Danon\, Miranda Beeson\, Matt Coonan\, Joanna Fuhrman \nJuly13th: Mervyn Taylor\, Pichchenda Bao\, Carla Carlson\, Sarah Arvio20th: Jennifer Micael Hecht\, Amy Holman\, Billy Cancel\, Genevieve Farnsworth27th: Broadstone Books: Hilary Sideris\, Myra Malkin\, Meredith Trede\, Amy Barone TBA \nAugust3rd: Lynn Mcgee\, Ashley Mabbit\, Jennifer Franklin\, Sarah Sarai 10th: Linda Lerner\, David Francis\, William Lesard\, Mary Newell 17th: KGB Hosts: John Deming\, Tyler Allan Penny\, Susan Lewis\, Selena Spier\, Jada Gordon 24th: Michael Montlack\, Jerome Ellison Murphy\, Sarah Sala\, David Formanek \nSeptember7th: Terence Degnan\, Caitlin McDonnell\, Nicole Callihan\, Zoe Ryder White\, Denver Butson14th: Tom Sleigh\, Neil Shepard\, Karen Neuberg\, Dennis Nurkse 21st: Richard Levine\, Wendy Sloan\, Elaine Sexton\, JoAnne MacFarland\, Rachelle Parker28th: Austin Alexis\, Karen Hildebrand\, Lisa Badner\, Lisa Andrews \nOctober5th: Sean Singer\, Arden Levine\, Robin Rosen Chang\, Lily Greenberg 13th: Broadstone Books: Ellen Devlin\, Margo Stever\, Susana H. Case\, Mary Moloney\, Macia Le Beau
URL:https://gowanusdredgers.org/event/a-persistence-of-cormorants-poetry-reading-2/2025-07-13/
LOCATION:Gowanus Dredgers Canoe Club Boathouse\, 165 2nd St\, Brooklyn\, NY\, 11231\, United States
CATEGORIES:Arts,Community
ATTACH;FMTTYPE=image/jpeg:https://gowanusdredgers.org/wp-content/uploads/2024/03/A_Persistence_of_Cormorants-crop.jpeg
END:VEVENT
BEGIN:VEVENT
DTSTART;TZID=America/New_York:20250717T183000
DTEND;TZID=America/New_York:20250717T203000
DTSTAMP:20260424T231111
CREATED:20250110T225121Z
LAST-MODIFIED:20250225T031717Z
UID:10000458-1752777000-1752784200@gowanusdredgers.org
SUMMARY:Monthly Meeting + Paddle
DESCRIPTION:Socialize with the Dredgers at our BUNKER (2 19th St\, off of 3rd Ave) for a casual volunteer orientation (sign-up here)\, member catch-up and paddle! We’ll gather at 6:30 to start the orientation and aim to be on-water around 7:15. \nMeet at the Gowanus Dredgers Canoe Club 19th St. Launch\, 2 19 St\, Brooklyn\, (off of 3rd Ave.). If you plan to join the paddle\, wear sunscreen and bring a bottle filled with water. Close-toed shoes are recommended\, and wear clothing you don’t mind potentially being splashed. Use a restroom before arrival\, as we have limited facilities on-site. All paddlers must sign a waiver. \nWeather (wind\, waves or evidence of storm) may cancel the paddling portion with one hour advance notice. In case of inclement weather\, meeting will be relocated follow us on Instagram or sign up for our mailing list to stay informed.
URL:https://gowanusdredgers.org/event/monthly-meeting-paddle/2025-07-17/
CATEGORIES:Arts,Community,On the Water
ATTACH;FMTTYPE=image/webp:https://gowanusdredgers.org/wp-content/uploads/2025/01/NVergalla_Dredgers_DSC02115.jpg
END:VEVENT
BEGIN:VEVENT
DTSTART;TZID=America/New_York:20250719T130000
DTEND;TZID=America/New_York:20250719T170000
DTSTAMP:20260424T231111
CREATED:20250627T013629Z
LAST-MODIFIED:20250718T203911Z
UID:10000619-1752930000-1752944400@gowanusdredgers.org
SUMMARY:PAST PRESENTS the FUTURE: Joann Amitrano and AURAxDR
DESCRIPTION:PAST PRESENTS the FUTURE is a show by 2 Gowanus artists (Joann Amitrano and AURAxDR) whose work connects feelings\, places\, and the passing of time. \nParticipate in Our Collaborative Art Raffle\, starting July 19th!\nThe artists invite you to be part of a unique\, interactive art experience—and support the Gowanus Dredgers at the same time.\nHow to Enter:\nDonate $5 (or more!) directly to the Gowanus Dredgers’ PayPal using the QR code on-site or this link. Be sure to leave your name and contact info. \nPaint Together:\nWith your donation\, you’ll get the chance to add your own creative touch to a collaborative canvas. Art supplies will be provided. On August 2nd at 3pm\, AURAxDR will add his signature “AURA” image to the completed piece\, transforming it into a one-of-a-kind artwork. \nWin Big: At 4pm on August 2\, we’ll draw the winning ticket. The lucky winner will take home this unique\, community-created artwork—an original piece—valued at $4\,500! If the winner isn’t present at the drawing\, they’ll be contacted directly.  \nAll proceeds go directly to support the Gowanus Dredgers’ ongoing community programming. Don’t miss your chance to create—and win—a piece of Gowanus art history! \nPAST PRESENTS the FUTURE\nReception: July 12 6-9pm\nArtists at the Gallery Saturdays in July (19\, 26\, Aug 2) 1-5PM or by appointment\nCurated by Pam Wong\n  \nABOUT THE ARTISTS \nJoann began her artistic career in 1986\, when she would create wearable art from beads and found objects. As time went on she ventured into working with metals and would specialize in sculptural wire work jewelry and unique home decor art pieces.\nShe creates what she feels and has many mediums in which she works. She is currently creating works that use her photographs combined within her paintings. The combination of an abstract painting and a familiar place in a photo come together to create a semi abstract landscape.\nDriven by the desire to document the ever-changing environment around her\, Joann has naturally began cataloguing as much of the changes as she could. Through her lens\, she is saying these places\, people or times won’t be forgotten. While bearing witness to and capturing the transformations of entire neighborhoods and the complexities of the landscape she is also finding the source of her next mixed media painting. Her belief is that photographs serve as a living journal and that change is the one constant in life. \nThe street art of AURAxDR is the work of an established artist and musician that needed an anonymous space to share his deeper reflections of life and emotion on. The works evoke a mood or a meditative state.
URL:https://gowanusdredgers.org/event/past-presents-the-future-joann-amitrano-and-auraxdr/2025-07-19/
LOCATION:Gowanus Dredgers Canoe Club Boathouse\, 165 2nd St\, Brooklyn\, NY\, 11231\, United States
CATEGORIES:Arts
ATTACH;FMTTYPE=image/webp:https://gowanusdredgers.org/wp-content/uploads/2025/06/Past-Presents-the-Future-JULY-Gowanus-Flyer-Web-16x9-1.jpg
END:VEVENT
BEGIN:VEVENT
DTSTART;TZID=America/New_York:20250720T133000
DTEND;TZID=America/New_York:20250720T153000
DTSTAMP:20260424T231111
CREATED:20250313T143323Z
LAST-MODIFIED:20250911T205334Z
UID:10000564-1753018200-1753025400@gowanusdredgers.org
SUMMARY:A Persistence of Cormorants Poetry Reading
DESCRIPTION:A Persistence of Cormorants is a summer-long poetry reading series on our shoreline featuring accomplished and exceptional poets from the New York area\, many of who live in Brooklyn. On each of the scheduled Sundays\, from 1:30 to 3:30\, up to four featured poets will read for 10 to 15 minutes each. \nGerry reads poetry at the canal\nThe readings will be followed by open mic time limited to ten readers (one poem no longer than 3 minutes) who have signed up the day of the reading on a first come basis. \nReading will be outdoors at the Gowanus open shoreline and we invite you to engage with the emerging Gowanus Canal habitat as we witness the EPA conduct their SuperFUN/d cleanup program. Event may move to inside the boathouse if it begins to rain or we want to escape the summer heat. If other activity is occurring on the street or esplanade\, event may move inside. \nParticipation is free but we encourage donations to sustain the efforts of the Gowanus Dredgers Canoe Club\, an advocacy stewardship organization who has been representing neighborhood interests for over two decades. \nMay4th: Gregory Crosby\, Brad Vogel\, Melinda Wilson\, Anthony Cappo18th: Scott Hightower\, Abigail Wellhouse\, Kristina Andersson\, Estha Weiner 25th: Michael Broder\, James Diaz\, Kristine Esser Stenz\, Sarah Sari \nJune1st: Susan Cohen\, Sarah Wallace\, Jiwon Choi\, Caroline Hagood 8th: Jo Solfren\, Amy Lemmon\, Sam Cha\, TBA22nd: Bruce E. Whitacre\, Gerry La Femina\, Jordan Franklin\, TBA29th: Ruth Danon\, Miranda Beeson\, Matt Coonan\, Joanna Fuhrman \nJuly13th: Mervyn Taylor\, Pichchenda Bao\, Carla Carlson\, Sarah Arvio20th: Jennifer Micael Hecht\, Amy Holman\, Billy Cancel\, Genevieve Farnsworth27th: Broadstone Books: Hilary Sideris\, Myra Malkin\, Meredith Trede\, Amy Barone TBA \nAugust3rd: Lynn Mcgee\, Ashley Mabbit\, Jennifer Franklin\, Sarah Sarai 10th: Linda Lerner\, David Francis\, William Lesard\, Mary Newell 17th: KGB Hosts: John Deming\, Tyler Allan Penny\, Susan Lewis\, Selena Spier\, Jada Gordon 24th: Michael Montlack\, Jerome Ellison Murphy\, Sarah Sala\, David Formanek \nSeptember7th: Terence Degnan\, Caitlin McDonnell\, Nicole Callihan\, Zoe Ryder White\, Denver Butson14th: Tom Sleigh\, Neil Shepard\, Karen Neuberg\, Dennis Nurkse 21st: Richard Levine\, Wendy Sloan\, Elaine Sexton\, JoAnne MacFarland\, Rachelle Parker28th: Austin Alexis\, Karen Hildebrand\, Lisa Badner\, Lisa Andrews \nOctober5th: Sean Singer\, Arden Levine\, Robin Rosen Chang\, Lily Greenberg 13th: Broadstone Books: Ellen Devlin\, Margo Stever\, Susana H. Case\, Mary Moloney\, Macia Le Beau
URL:https://gowanusdredgers.org/event/a-persistence-of-cormorants-poetry-reading-2/2025-07-20/
LOCATION:Gowanus Dredgers Canoe Club Boathouse\, 165 2nd St\, Brooklyn\, NY\, 11231\, United States
CATEGORIES:Arts,Community
ATTACH;FMTTYPE=image/jpeg:https://gowanusdredgers.org/wp-content/uploads/2024/03/A_Persistence_of_Cormorants-crop.jpeg
END:VEVENT
BEGIN:VEVENT
DTSTART;TZID=America/New_York:20250726T130000
DTEND;TZID=America/New_York:20250726T170000
DTSTAMP:20260424T231111
CREATED:20250627T013629Z
LAST-MODIFIED:20250718T203911Z
UID:10000615-1753534800-1753549200@gowanusdredgers.org
SUMMARY:PAST PRESENTS the FUTURE: Joann Amitrano and AURAxDR
DESCRIPTION:PAST PRESENTS the FUTURE is a show by 2 Gowanus artists (Joann Amitrano and AURAxDR) whose work connects feelings\, places\, and the passing of time. \nParticipate in Our Collaborative Art Raffle\, starting July 19th!\nThe artists invite you to be part of a unique\, interactive art experience—and support the Gowanus Dredgers at the same time.\nHow to Enter:\nDonate $5 (or more!) directly to the Gowanus Dredgers’ PayPal using the QR code on-site or this link. Be sure to leave your name and contact info. \nPaint Together:\nWith your donation\, you’ll get the chance to add your own creative touch to a collaborative canvas. Art supplies will be provided. On August 2nd at 3pm\, AURAxDR will add his signature “AURA” image to the completed piece\, transforming it into a one-of-a-kind artwork. \nWin Big: At 4pm on August 2\, we’ll draw the winning ticket. The lucky winner will take home this unique\, community-created artwork—an original piece—valued at $4\,500! If the winner isn’t present at the drawing\, they’ll be contacted directly.  \nAll proceeds go directly to support the Gowanus Dredgers’ ongoing community programming. Don’t miss your chance to create—and win—a piece of Gowanus art history! \nPAST PRESENTS the FUTURE\nReception: July 12 6-9pm\nArtists at the Gallery Saturdays in July (19\, 26\, Aug 2) 1-5PM or by appointment\nCurated by Pam Wong\n  \nABOUT THE ARTISTS \nJoann began her artistic career in 1986\, when she would create wearable art from beads and found objects. As time went on she ventured into working with metals and would specialize in sculptural wire work jewelry and unique home decor art pieces.\nShe creates what she feels and has many mediums in which she works. She is currently creating works that use her photographs combined within her paintings. The combination of an abstract painting and a familiar place in a photo come together to create a semi abstract landscape.\nDriven by the desire to document the ever-changing environment around her\, Joann has naturally began cataloguing as much of the changes as she could. Through her lens\, she is saying these places\, people or times won’t be forgotten. While bearing witness to and capturing the transformations of entire neighborhoods and the complexities of the landscape she is also finding the source of her next mixed media painting. Her belief is that photographs serve as a living journal and that change is the one constant in life. \nThe street art of AURAxDR is the work of an established artist and musician that needed an anonymous space to share his deeper reflections of life and emotion on. The works evoke a mood or a meditative state.
URL:https://gowanusdredgers.org/event/past-presents-the-future-joann-amitrano-and-auraxdr/2025-07-26/
LOCATION:Gowanus Dredgers Canoe Club Boathouse\, 165 2nd St\, Brooklyn\, NY\, 11231\, United States
CATEGORIES:Arts
ATTACH;FMTTYPE=image/webp:https://gowanusdredgers.org/wp-content/uploads/2025/06/Past-Presents-the-Future-JULY-Gowanus-Flyer-Web-16x9-1.jpg
END:VEVENT
BEGIN:VEVENT
DTSTART;TZID=America/New_York:20250727T133000
DTEND;TZID=America/New_York:20250727T153000
DTSTAMP:20260424T231111
CREATED:20250313T143323Z
LAST-MODIFIED:20250911T205334Z
UID:10000565-1753623000-1753630200@gowanusdredgers.org
SUMMARY:A Persistence of Cormorants Poetry Reading
DESCRIPTION:A Persistence of Cormorants is a summer-long poetry reading series on our shoreline featuring accomplished and exceptional poets from the New York area\, many of who live in Brooklyn. On each of the scheduled Sundays\, from 1:30 to 3:30\, up to four featured poets will read for 10 to 15 minutes each. \nGerry reads poetry at the canal\nThe readings will be followed by open mic time limited to ten readers (one poem no longer than 3 minutes) who have signed up the day of the reading on a first come basis. \nReading will be outdoors at the Gowanus open shoreline and we invite you to engage with the emerging Gowanus Canal habitat as we witness the EPA conduct their SuperFUN/d cleanup program. Event may move to inside the boathouse if it begins to rain or we want to escape the summer heat. If other activity is occurring on the street or esplanade\, event may move inside. \nParticipation is free but we encourage donations to sustain the efforts of the Gowanus Dredgers Canoe Club\, an advocacy stewardship organization who has been representing neighborhood interests for over two decades. \nMay4th: Gregory Crosby\, Brad Vogel\, Melinda Wilson\, Anthony Cappo18th: Scott Hightower\, Abigail Wellhouse\, Kristina Andersson\, Estha Weiner 25th: Michael Broder\, James Diaz\, Kristine Esser Stenz\, Sarah Sari \nJune1st: Susan Cohen\, Sarah Wallace\, Jiwon Choi\, Caroline Hagood 8th: Jo Solfren\, Amy Lemmon\, Sam Cha\, TBA22nd: Bruce E. Whitacre\, Gerry La Femina\, Jordan Franklin\, TBA29th: Ruth Danon\, Miranda Beeson\, Matt Coonan\, Joanna Fuhrman \nJuly13th: Mervyn Taylor\, Pichchenda Bao\, Carla Carlson\, Sarah Arvio20th: Jennifer Micael Hecht\, Amy Holman\, Billy Cancel\, Genevieve Farnsworth27th: Broadstone Books: Hilary Sideris\, Myra Malkin\, Meredith Trede\, Amy Barone TBA \nAugust3rd: Lynn Mcgee\, Ashley Mabbit\, Jennifer Franklin\, Sarah Sarai 10th: Linda Lerner\, David Francis\, William Lesard\, Mary Newell 17th: KGB Hosts: John Deming\, Tyler Allan Penny\, Susan Lewis\, Selena Spier\, Jada Gordon 24th: Michael Montlack\, Jerome Ellison Murphy\, Sarah Sala\, David Formanek \nSeptember7th: Terence Degnan\, Caitlin McDonnell\, Nicole Callihan\, Zoe Ryder White\, Denver Butson14th: Tom Sleigh\, Neil Shepard\, Karen Neuberg\, Dennis Nurkse 21st: Richard Levine\, Wendy Sloan\, Elaine Sexton\, JoAnne MacFarland\, Rachelle Parker28th: Austin Alexis\, Karen Hildebrand\, Lisa Badner\, Lisa Andrews \nOctober5th: Sean Singer\, Arden Levine\, Robin Rosen Chang\, Lily Greenberg 13th: Broadstone Books: Ellen Devlin\, Margo Stever\, Susana H. Case\, Mary Moloney\, Macia Le Beau
URL:https://gowanusdredgers.org/event/a-persistence-of-cormorants-poetry-reading-2/2025-07-27/
LOCATION:Gowanus Dredgers Canoe Club Boathouse\, 165 2nd St\, Brooklyn\, NY\, 11231\, United States
CATEGORIES:Arts,Community
ATTACH;FMTTYPE=image/jpeg:https://gowanusdredgers.org/wp-content/uploads/2024/03/A_Persistence_of_Cormorants-crop.jpeg
END:VEVENT
END:VCALENDAR