BEGIN:VCALENDAR
VERSION:2.0
PRODID:-//Gowanus Dredgers Canoe Club - ECPv6.15.20//NONSGML v1.0//EN
CALSCALE:GREGORIAN
METHOD:PUBLISH
X-WR-CALNAME:Gowanus Dredgers Canoe Club
X-ORIGINAL-URL:https://gowanusdredgers.org
X-WR-CALDESC:Events for Gowanus Dredgers Canoe Club
REFRESH-INTERVAL;VALUE=DURATION:PT1H
X-Robots-Tag:noindex
X-PUBLISHED-TTL:PT1H
BEGIN:VTIMEZONE
TZID:America/New_York
BEGIN:DAYLIGHT
TZOFFSETFROM:-0500
TZOFFSETTO:-0400
TZNAME:EDT
DTSTART:20240310T070000
END:DAYLIGHT
BEGIN:STANDARD
TZOFFSETFROM:-0400
TZOFFSETTO:-0500
TZNAME:EST
DTSTART:20241103T060000
END:STANDARD
BEGIN:DAYLIGHT
TZOFFSETFROM:-0500
TZOFFSETTO:-0400
TZNAME:EDT
DTSTART:20250309T070000
END:DAYLIGHT
BEGIN:STANDARD
TZOFFSETFROM:-0400
TZOFFSETTO:-0500
TZNAME:EST
DTSTART:20251102T060000
END:STANDARD
BEGIN:DAYLIGHT
TZOFFSETFROM:-0500
TZOFFSETTO:-0400
TZNAME:EDT
DTSTART:20260308T070000
END:DAYLIGHT
BEGIN:STANDARD
TZOFFSETFROM:-0400
TZOFFSETTO:-0500
TZNAME:EST
DTSTART:20261101T060000
END:STANDARD
END:VTIMEZONE
BEGIN:VEVENT
DTSTART;TZID=America/New_York:20250906T130000
DTEND;TZID=America/New_York:20250906T200000
DTSTAMP:20260424T200103
CREATED:20250814T204059Z
LAST-MODIFIED:20250815T032142Z
UID:10000802-1757163600-1757188800@gowanusdredgers.org
SUMMARY:The Fall | Dan Noble & Robin Roi
DESCRIPTION:The Fall | Dan Noble & Robin Roi\nOpening Reception: Saturday\, September 6\, 5-7pm\nOn view Saturdays\, September\, 6\, 13\, 20\, 27\, 1-5pm or by appointment\nCurated by Pam Wong \nFeaturing paintings by Dan Noble and collage works by Robin Roi\, The Fall contemplates human fragility and resilience. \nDan Noble’s recent paintings explore the profound and unsettling moment of falling\, focusing on the human body in motion and the moment when the body succumbs to gravity. While the act of falling carries a sense of danger\, the focus of this collection is not on the impact\, but on the journey down—that brief\, weightless instant when the mundane world dissolves and a person is suspended between solid ground and an uncertain future. The figures exist in a liminal space\, an instance of pure\, unchoreographed movement. \nNoble’s paintings explore the moments when we are most vulnerable. But within that vulnerability\, there is beauty and grace — the human spirit that\, despite the fall\, may eventually rise again. \nRobin Roi’s works combine three of her loves – paper\, pattern\, and narrative. The Four Fiancés and Milagros are composed with Joss paper\, a symbolic material traditionally burned as an offering during Buddhist and Taoist funerals or ceremonies honoring ancestors. “Milagros” or “miracles” are a form of Latin American folk art related to faith and healing. The small charms are typically placed on altars as offerings or symbols of devotion\, \nRepresenting formal wear and finery from another era\, Roi’s pieces consider mortality\, tradition\, and hope. \nhttps://www.robroidesign.com/\n@robroidesign
URL:https://gowanusdredgers.org/event/the-fall-dan-noble-robin-roi/2025-09-06/
LOCATION:Gowanus Dredgers Canoe Club Boathouse\, 165 2nd St\, Brooklyn\, NY\, 11231\, United States
CATEGORIES:Arts
ATTACH;FMTTYPE=image/png:https://gowanusdredgers.org/wp-content/uploads/2025/08/The-Fall-Dan-Noble-Robin-Roi-5-1.png
END:VEVENT
BEGIN:VEVENT
DTSTART;TZID=America/New_York:20250907T133000
DTEND;TZID=America/New_York:20250907T153000
DTSTAMP:20260424T200103
CREATED:20250313T143323Z
LAST-MODIFIED:20250911T205334Z
UID:10000791-1757251800-1757259000@gowanusdredgers.org
SUMMARY:A Persistence of Cormorants Poetry Reading
DESCRIPTION:A Persistence of Cormorants is a summer-long poetry reading series on our shoreline featuring accomplished and exceptional poets from the New York area\, many of who live in Brooklyn. On each of the scheduled Sundays\, from 1:30 to 3:30\, up to four featured poets will read for 10 to 15 minutes each. \nGerry reads poetry at the canal\nThe readings will be followed by open mic time limited to ten readers (one poem no longer than 3 minutes) who have signed up the day of the reading on a first come basis. \nReading will be outdoors at the Gowanus open shoreline and we invite you to engage with the emerging Gowanus Canal habitat as we witness the EPA conduct their SuperFUN/d cleanup program. Event may move to inside the boathouse if it begins to rain or we want to escape the summer heat. If other activity is occurring on the street or esplanade\, event may move inside. \nParticipation is free but we encourage donations to sustain the efforts of the Gowanus Dredgers Canoe Club\, an advocacy stewardship organization who has been representing neighborhood interests for over two decades. \nMay4th: Gregory Crosby\, Brad Vogel\, Melinda Wilson\, Anthony Cappo18th: Scott Hightower\, Abigail Wellhouse\, Kristina Andersson\, Estha Weiner 25th: Michael Broder\, James Diaz\, Kristine Esser Stenz\, Sarah Sari \nJune1st: Susan Cohen\, Sarah Wallace\, Jiwon Choi\, Caroline Hagood 8th: Jo Solfren\, Amy Lemmon\, Sam Cha\, TBA22nd: Bruce E. Whitacre\, Gerry La Femina\, Jordan Franklin\, TBA29th: Ruth Danon\, Miranda Beeson\, Matt Coonan\, Joanna Fuhrman \nJuly13th: Mervyn Taylor\, Pichchenda Bao\, Carla Carlson\, Sarah Arvio20th: Jennifer Micael Hecht\, Amy Holman\, Billy Cancel\, Genevieve Farnsworth27th: Broadstone Books: Hilary Sideris\, Myra Malkin\, Meredith Trede\, Amy Barone TBA \nAugust3rd: Lynn Mcgee\, Ashley Mabbit\, Jennifer Franklin\, Sarah Sarai 10th: Linda Lerner\, David Francis\, William Lesard\, Mary Newell 17th: KGB Hosts: John Deming\, Tyler Allan Penny\, Susan Lewis\, Selena Spier\, Jada Gordon 24th: Michael Montlack\, Jerome Ellison Murphy\, Sarah Sala\, David Formanek \nSeptember7th: Terence Degnan\, Caitlin McDonnell\, Nicole Callihan\, Zoe Ryder White\, Denver Butson14th: Tom Sleigh\, Neil Shepard\, Karen Neuberg\, Dennis Nurkse 21st: Richard Levine\, Wendy Sloan\, Elaine Sexton\, JoAnne MacFarland\, Rachelle Parker28th: Austin Alexis\, Karen Hildebrand\, Lisa Badner\, Lisa Andrews \nOctober5th: Sean Singer\, Arden Levine\, Robin Rosen Chang\, Lily Greenberg 13th: Broadstone Books: Ellen Devlin\, Margo Stever\, Susana H. Case\, Mary Moloney\, Macia Le Beau
URL:https://gowanusdredgers.org/event/a-persistence-of-cormorants-poetry-reading-2/2025-09-07/
LOCATION:Gowanus Dredgers Canoe Club Boathouse\, 165 2nd St\, Brooklyn\, NY\, 11231\, United States
CATEGORIES:Arts,Community
ATTACH;FMTTYPE=image/jpeg:https://gowanusdredgers.org/wp-content/uploads/2024/03/A_Persistence_of_Cormorants-crop.jpeg
END:VEVENT
BEGIN:VEVENT
DTSTART;TZID=America/New_York:20250913T130000
DTEND;TZID=America/New_York:20250913T170000
DTSTAMP:20260424T200103
CREATED:20250814T204059Z
LAST-MODIFIED:20250815T032142Z
UID:10000799-1757768400-1757782800@gowanusdredgers.org
SUMMARY:The Fall | Dan Noble & Robin Roi
DESCRIPTION:The Fall | Dan Noble & Robin Roi\nOpening Reception: Saturday\, September 6\, 5-7pm\nOn view Saturdays\, September\, 6\, 13\, 20\, 27\, 1-5pm or by appointment\nCurated by Pam Wong \nFeaturing paintings by Dan Noble and collage works by Robin Roi\, The Fall contemplates human fragility and resilience. \nDan Noble’s recent paintings explore the profound and unsettling moment of falling\, focusing on the human body in motion and the moment when the body succumbs to gravity. While the act of falling carries a sense of danger\, the focus of this collection is not on the impact\, but on the journey down—that brief\, weightless instant when the mundane world dissolves and a person is suspended between solid ground and an uncertain future. The figures exist in a liminal space\, an instance of pure\, unchoreographed movement. \nNoble’s paintings explore the moments when we are most vulnerable. But within that vulnerability\, there is beauty and grace — the human spirit that\, despite the fall\, may eventually rise again. \nRobin Roi’s works combine three of her loves – paper\, pattern\, and narrative. The Four Fiancés and Milagros are composed with Joss paper\, a symbolic material traditionally burned as an offering during Buddhist and Taoist funerals or ceremonies honoring ancestors. “Milagros” or “miracles” are a form of Latin American folk art related to faith and healing. The small charms are typically placed on altars as offerings or symbols of devotion\, \nRepresenting formal wear and finery from another era\, Roi’s pieces consider mortality\, tradition\, and hope. \nhttps://www.robroidesign.com/\n@robroidesign
URL:https://gowanusdredgers.org/event/the-fall-dan-noble-robin-roi/2025-09-13/
LOCATION:Gowanus Dredgers Canoe Club Boathouse\, 165 2nd St\, Brooklyn\, NY\, 11231\, United States
CATEGORIES:Arts
ATTACH;FMTTYPE=image/png:https://gowanusdredgers.org/wp-content/uploads/2025/08/The-Fall-Dan-Noble-Robin-Roi-5-1.png
END:VEVENT
BEGIN:VEVENT
DTSTART;TZID=America/New_York:20250914T133000
DTEND;TZID=America/New_York:20250914T153000
DTSTAMP:20260424T200103
CREATED:20250313T143323Z
LAST-MODIFIED:20250911T205334Z
UID:10000571-1757856600-1757863800@gowanusdredgers.org
SUMMARY:A Persistence of Cormorants Poetry Reading
DESCRIPTION:A Persistence of Cormorants is a summer-long poetry reading series on our shoreline featuring accomplished and exceptional poets from the New York area\, many of who live in Brooklyn. On each of the scheduled Sundays\, from 1:30 to 3:30\, up to four featured poets will read for 10 to 15 minutes each. \nGerry reads poetry at the canal\nThe readings will be followed by open mic time limited to ten readers (one poem no longer than 3 minutes) who have signed up the day of the reading on a first come basis. \nReading will be outdoors at the Gowanus open shoreline and we invite you to engage with the emerging Gowanus Canal habitat as we witness the EPA conduct their SuperFUN/d cleanup program. Event may move to inside the boathouse if it begins to rain or we want to escape the summer heat. If other activity is occurring on the street or esplanade\, event may move inside. \nParticipation is free but we encourage donations to sustain the efforts of the Gowanus Dredgers Canoe Club\, an advocacy stewardship organization who has been representing neighborhood interests for over two decades. \nMay4th: Gregory Crosby\, Brad Vogel\, Melinda Wilson\, Anthony Cappo18th: Scott Hightower\, Abigail Wellhouse\, Kristina Andersson\, Estha Weiner 25th: Michael Broder\, James Diaz\, Kristine Esser Stenz\, Sarah Sari \nJune1st: Susan Cohen\, Sarah Wallace\, Jiwon Choi\, Caroline Hagood 8th: Jo Solfren\, Amy Lemmon\, Sam Cha\, TBA22nd: Bruce E. Whitacre\, Gerry La Femina\, Jordan Franklin\, TBA29th: Ruth Danon\, Miranda Beeson\, Matt Coonan\, Joanna Fuhrman \nJuly13th: Mervyn Taylor\, Pichchenda Bao\, Carla Carlson\, Sarah Arvio20th: Jennifer Micael Hecht\, Amy Holman\, Billy Cancel\, Genevieve Farnsworth27th: Broadstone Books: Hilary Sideris\, Myra Malkin\, Meredith Trede\, Amy Barone TBA \nAugust3rd: Lynn Mcgee\, Ashley Mabbit\, Jennifer Franklin\, Sarah Sarai 10th: Linda Lerner\, David Francis\, William Lesard\, Mary Newell 17th: KGB Hosts: John Deming\, Tyler Allan Penny\, Susan Lewis\, Selena Spier\, Jada Gordon 24th: Michael Montlack\, Jerome Ellison Murphy\, Sarah Sala\, David Formanek \nSeptember7th: Terence Degnan\, Caitlin McDonnell\, Nicole Callihan\, Zoe Ryder White\, Denver Butson14th: Tom Sleigh\, Neil Shepard\, Karen Neuberg\, Dennis Nurkse 21st: Richard Levine\, Wendy Sloan\, Elaine Sexton\, JoAnne MacFarland\, Rachelle Parker28th: Austin Alexis\, Karen Hildebrand\, Lisa Badner\, Lisa Andrews \nOctober5th: Sean Singer\, Arden Levine\, Robin Rosen Chang\, Lily Greenberg 13th: Broadstone Books: Ellen Devlin\, Margo Stever\, Susana H. Case\, Mary Moloney\, Macia Le Beau
URL:https://gowanusdredgers.org/event/a-persistence-of-cormorants-poetry-reading-2/2025-09-14/
LOCATION:Gowanus Dredgers Canoe Club Boathouse\, 165 2nd St\, Brooklyn\, NY\, 11231\, United States
CATEGORIES:Arts,Community
ATTACH;FMTTYPE=image/jpeg:https://gowanusdredgers.org/wp-content/uploads/2024/03/A_Persistence_of_Cormorants-crop.jpeg
END:VEVENT
BEGIN:VEVENT
DTSTART;TZID=America/New_York:20250918T183000
DTEND;TZID=America/New_York:20250918T203000
DTSTAMP:20260424T200103
CREATED:20250110T225121Z
LAST-MODIFIED:20250225T031717Z
UID:10000460-1758220200-1758227400@gowanusdredgers.org
SUMMARY:Monthly Meeting + Paddle
DESCRIPTION:Socialize with the Dredgers at our BUNKER (2 19th St\, off of 3rd Ave) for a casual volunteer orientation (sign-up here)\, member catch-up and paddle! We’ll gather at 6:30 to start the orientation and aim to be on-water around 7:15. \nMeet at the Gowanus Dredgers Canoe Club 19th St. Launch\, 2 19 St\, Brooklyn\, (off of 3rd Ave.). If you plan to join the paddle\, wear sunscreen and bring a bottle filled with water. Close-toed shoes are recommended\, and wear clothing you don’t mind potentially being splashed. Use a restroom before arrival\, as we have limited facilities on-site. All paddlers must sign a waiver. \nWeather (wind\, waves or evidence of storm) may cancel the paddling portion with one hour advance notice. In case of inclement weather\, meeting will be relocated follow us on Instagram or sign up for our mailing list to stay informed.
URL:https://gowanusdredgers.org/event/monthly-meeting-paddle/2025-09-18/
CATEGORIES:Arts,Community,On the Water
ATTACH;FMTTYPE=image/webp:https://gowanusdredgers.org/wp-content/uploads/2025/01/NVergalla_Dredgers_DSC02115.jpg
END:VEVENT
BEGIN:VEVENT
DTSTART;TZID=America/New_York:20250919T070000
DTEND;TZID=America/New_York:20250919T090000
DTSTAMP:20260424T200103
CREATED:20250702T120134Z
LAST-MODIFIED:20250702T120614Z
UID:10000773-1758265200-1758272400@gowanusdredgers.org
SUMMARY:9th Annual Gowanus Dawn Reading
DESCRIPTION:Our 9th annual Gowanus Dawn Reading!\n\nWe’ll proclaim poetry from Brad Vogel’s book “Find Me In the Feral Pockets” in canoes on the Gowanus Canal!\n\nReaders: Arrive at 7:00AM for boat launch. Request spot as a canoe reader in advance: poetsafloatnyc[@]gmail.com. (Launch location TBD)\n\nAudience: 7:45AM arrival to our reading location to hear via bridge and land. Location to be announced. Follow us on social media and/or sign up for our email list to get full details\, we’ll update here when the locations are confirmed.\n\nDredgers Captain Emeritus Brad Vogel & performer Melody Bates lead the colorful crew.
URL:https://gowanusdredgers.org/event/9th-annual-gowanus-dawn-reading/
CATEGORIES:Arts,Community
ATTACH;FMTTYPE=image/jpeg:https://gowanusdredgers.org/wp-content/uploads/2025/07/9th-Annual-Gowanus-Dawn-Reading-1.jpg
END:VEVENT
BEGIN:VEVENT
DTSTART;TZID=America/New_York:20250920T130000
DTEND;TZID=America/New_York:20250920T170000
DTSTAMP:20260424T200103
CREATED:20250814T204059Z
LAST-MODIFIED:20250815T032142Z
UID:10000800-1758373200-1758387600@gowanusdredgers.org
SUMMARY:The Fall | Dan Noble & Robin Roi
DESCRIPTION:The Fall | Dan Noble & Robin Roi\nOpening Reception: Saturday\, September 6\, 5-7pm\nOn view Saturdays\, September\, 6\, 13\, 20\, 27\, 1-5pm or by appointment\nCurated by Pam Wong \nFeaturing paintings by Dan Noble and collage works by Robin Roi\, The Fall contemplates human fragility and resilience. \nDan Noble’s recent paintings explore the profound and unsettling moment of falling\, focusing on the human body in motion and the moment when the body succumbs to gravity. While the act of falling carries a sense of danger\, the focus of this collection is not on the impact\, but on the journey down—that brief\, weightless instant when the mundane world dissolves and a person is suspended between solid ground and an uncertain future. The figures exist in a liminal space\, an instance of pure\, unchoreographed movement. \nNoble’s paintings explore the moments when we are most vulnerable. But within that vulnerability\, there is beauty and grace — the human spirit that\, despite the fall\, may eventually rise again. \nRobin Roi’s works combine three of her loves – paper\, pattern\, and narrative. The Four Fiancés and Milagros are composed with Joss paper\, a symbolic material traditionally burned as an offering during Buddhist and Taoist funerals or ceremonies honoring ancestors. “Milagros” or “miracles” are a form of Latin American folk art related to faith and healing. The small charms are typically placed on altars as offerings or symbols of devotion\, \nRepresenting formal wear and finery from another era\, Roi’s pieces consider mortality\, tradition\, and hope. \nhttps://www.robroidesign.com/\n@robroidesign
URL:https://gowanusdredgers.org/event/the-fall-dan-noble-robin-roi/2025-09-20/
LOCATION:Gowanus Dredgers Canoe Club Boathouse\, 165 2nd St\, Brooklyn\, NY\, 11231\, United States
CATEGORIES:Arts
ATTACH;FMTTYPE=image/png:https://gowanusdredgers.org/wp-content/uploads/2025/08/The-Fall-Dan-Noble-Robin-Roi-5-1.png
END:VEVENT
BEGIN:VEVENT
DTSTART;TZID=America/New_York:20250921T133000
DTEND;TZID=America/New_York:20250921T153000
DTSTAMP:20260424T200103
CREATED:20250313T143323Z
LAST-MODIFIED:20250911T205334Z
UID:10000572-1758461400-1758468600@gowanusdredgers.org
SUMMARY:A Persistence of Cormorants Poetry Reading
DESCRIPTION:A Persistence of Cormorants is a summer-long poetry reading series on our shoreline featuring accomplished and exceptional poets from the New York area\, many of who live in Brooklyn. On each of the scheduled Sundays\, from 1:30 to 3:30\, up to four featured poets will read for 10 to 15 minutes each. \nGerry reads poetry at the canal\nThe readings will be followed by open mic time limited to ten readers (one poem no longer than 3 minutes) who have signed up the day of the reading on a first come basis. \nReading will be outdoors at the Gowanus open shoreline and we invite you to engage with the emerging Gowanus Canal habitat as we witness the EPA conduct their SuperFUN/d cleanup program. Event may move to inside the boathouse if it begins to rain or we want to escape the summer heat. If other activity is occurring on the street or esplanade\, event may move inside. \nParticipation is free but we encourage donations to sustain the efforts of the Gowanus Dredgers Canoe Club\, an advocacy stewardship organization who has been representing neighborhood interests for over two decades. \nMay4th: Gregory Crosby\, Brad Vogel\, Melinda Wilson\, Anthony Cappo18th: Scott Hightower\, Abigail Wellhouse\, Kristina Andersson\, Estha Weiner 25th: Michael Broder\, James Diaz\, Kristine Esser Stenz\, Sarah Sari \nJune1st: Susan Cohen\, Sarah Wallace\, Jiwon Choi\, Caroline Hagood 8th: Jo Solfren\, Amy Lemmon\, Sam Cha\, TBA22nd: Bruce E. Whitacre\, Gerry La Femina\, Jordan Franklin\, TBA29th: Ruth Danon\, Miranda Beeson\, Matt Coonan\, Joanna Fuhrman \nJuly13th: Mervyn Taylor\, Pichchenda Bao\, Carla Carlson\, Sarah Arvio20th: Jennifer Micael Hecht\, Amy Holman\, Billy Cancel\, Genevieve Farnsworth27th: Broadstone Books: Hilary Sideris\, Myra Malkin\, Meredith Trede\, Amy Barone TBA \nAugust3rd: Lynn Mcgee\, Ashley Mabbit\, Jennifer Franklin\, Sarah Sarai 10th: Linda Lerner\, David Francis\, William Lesard\, Mary Newell 17th: KGB Hosts: John Deming\, Tyler Allan Penny\, Susan Lewis\, Selena Spier\, Jada Gordon 24th: Michael Montlack\, Jerome Ellison Murphy\, Sarah Sala\, David Formanek \nSeptember7th: Terence Degnan\, Caitlin McDonnell\, Nicole Callihan\, Zoe Ryder White\, Denver Butson14th: Tom Sleigh\, Neil Shepard\, Karen Neuberg\, Dennis Nurkse 21st: Richard Levine\, Wendy Sloan\, Elaine Sexton\, JoAnne MacFarland\, Rachelle Parker28th: Austin Alexis\, Karen Hildebrand\, Lisa Badner\, Lisa Andrews \nOctober5th: Sean Singer\, Arden Levine\, Robin Rosen Chang\, Lily Greenberg 13th: Broadstone Books: Ellen Devlin\, Margo Stever\, Susana H. Case\, Mary Moloney\, Macia Le Beau
URL:https://gowanusdredgers.org/event/a-persistence-of-cormorants-poetry-reading-2/2025-09-21/
LOCATION:Gowanus Dredgers Canoe Club Boathouse\, 165 2nd St\, Brooklyn\, NY\, 11231\, United States
CATEGORIES:Arts,Community
ATTACH;FMTTYPE=image/jpeg:https://gowanusdredgers.org/wp-content/uploads/2024/03/A_Persistence_of_Cormorants-crop.jpeg
END:VEVENT
BEGIN:VEVENT
DTSTART;TZID=America/New_York:20250927T130000
DTEND;TZID=America/New_York:20250927T170000
DTSTAMP:20260424T200103
CREATED:20250814T204059Z
LAST-MODIFIED:20250815T032142Z
UID:10000801-1758978000-1758992400@gowanusdredgers.org
SUMMARY:The Fall | Dan Noble & Robin Roi
DESCRIPTION:The Fall | Dan Noble & Robin Roi\nOpening Reception: Saturday\, September 6\, 5-7pm\nOn view Saturdays\, September\, 6\, 13\, 20\, 27\, 1-5pm or by appointment\nCurated by Pam Wong \nFeaturing paintings by Dan Noble and collage works by Robin Roi\, The Fall contemplates human fragility and resilience. \nDan Noble’s recent paintings explore the profound and unsettling moment of falling\, focusing on the human body in motion and the moment when the body succumbs to gravity. While the act of falling carries a sense of danger\, the focus of this collection is not on the impact\, but on the journey down—that brief\, weightless instant when the mundane world dissolves and a person is suspended between solid ground and an uncertain future. The figures exist in a liminal space\, an instance of pure\, unchoreographed movement. \nNoble’s paintings explore the moments when we are most vulnerable. But within that vulnerability\, there is beauty and grace — the human spirit that\, despite the fall\, may eventually rise again. \nRobin Roi’s works combine three of her loves – paper\, pattern\, and narrative. The Four Fiancés and Milagros are composed with Joss paper\, a symbolic material traditionally burned as an offering during Buddhist and Taoist funerals or ceremonies honoring ancestors. “Milagros” or “miracles” are a form of Latin American folk art related to faith and healing. The small charms are typically placed on altars as offerings or symbols of devotion\, \nRepresenting formal wear and finery from another era\, Roi’s pieces consider mortality\, tradition\, and hope. \nhttps://www.robroidesign.com/\n@robroidesign
URL:https://gowanusdredgers.org/event/the-fall-dan-noble-robin-roi/2025-09-27/
LOCATION:Gowanus Dredgers Canoe Club Boathouse\, 165 2nd St\, Brooklyn\, NY\, 11231\, United States
CATEGORIES:Arts
ATTACH;FMTTYPE=image/png:https://gowanusdredgers.org/wp-content/uploads/2025/08/The-Fall-Dan-Noble-Robin-Roi-5-1.png
END:VEVENT
BEGIN:VEVENT
DTSTART;TZID=America/New_York:20250927T180000
DTEND;TZID=America/New_York:20250927T213000
DTSTAMP:20260424T200103
CREATED:20250422T205710Z
LAST-MODIFIED:20250827T143911Z
UID:10000595-1758996000-1759008600@gowanusdredgers.org
SUMMARY:Unheard-of + Gowanus Dredgers Present: Fire Ecologies Album Release Party
DESCRIPTION:Fire Ecologies Album Release Party \nDate: September 27th\, 2025\, 6:30PM Music\, 6PM Canoe Launch\nLocation: Gowanus Dredgers Bunker\, 2 19th St\, Brooklyn\, NY 11232 \nJoin Unheard-of Ensemble\, the Dredgers\, and Christopher Stark for our Fire Ecologies album release party. The ensemble performs the entire album live followed by an afterparty featuring food and drink from some of our favorite Brooklyn breweries and distilleries. \nFire Ecologies is an album length Chamber Music America commission from Rome Prize-winning composer Christopher Stark\, exploring America’s changing landscapes in the face of climate change. The work incorporates field recordings of the 2020 California wildfires and sounds from Chris’s travel across Montana\, Oregon\, and California as well as parts of Colorado as well as explorations of nature from America’s heartland surrounding Missouri. The album will be released on New Focus Recordings and available in-person at the show. \n🎟️ Free RSVP for land viewing\, Paddle Tickets available here 🎟️ \n—— \nThis performance takes place on the Gowanus Canal\, from the 19th St. Bunker location. The audience can immerse themselves in the experience on the Gowanus\, enjoying the program from on land or on water. Limited boat access and on-water support are provided by The Gowanus Dredgers. Attendees may arrive in their own vessels\, as well. \nWeather may postpone event. \n—— \nThis program is supported\, in part\, by public funds from the New York City Department of Cultural Affairs in partnership with the City Council. \nUnheard-of’s performances are made possible by the New York State Council on the Arts with the support of the Office of the Governor and the New York State Legislature.
URL:https://gowanusdredgers.org/event/unheard-of-gowanus-dredgers-present-fire-ecologies-album-release-party/
LOCATION:Gowanus Dredgers Bunker (19th St.)\, 2 19th St.\, Brooklyn\, NY
CATEGORIES:Arts,Music,On the Water
ATTACH;FMTTYPE=image/avif:https://gowanusdredgers.org/wp-content/uploads/2025/04/Unheard-of-Gowanus-Dredgers-Present-Fire-Ecologies-Album-Release-Party.avif
GEO:40.66731229192;-74.000079337986
X-APPLE-STRUCTURED-LOCATION;VALUE=URI;X-ADDRESS=Gowanus Dredgers Bunker (19th St.) 2 19th St. Brooklyn NY;X-APPLE-RADIUS=500;X-TITLE=2 19th St.:geo:-74.000079337986,40.66731229192
END:VEVENT
BEGIN:VEVENT
DTSTART;TZID=America/New_York:20250928T133000
DTEND;TZID=America/New_York:20250928T153000
DTSTAMP:20260424T200103
CREATED:20250313T143323Z
LAST-MODIFIED:20250911T205334Z
UID:10000573-1759066200-1759073400@gowanusdredgers.org
SUMMARY:A Persistence of Cormorants Poetry Reading
DESCRIPTION:A Persistence of Cormorants is a summer-long poetry reading series on our shoreline featuring accomplished and exceptional poets from the New York area\, many of who live in Brooklyn. On each of the scheduled Sundays\, from 1:30 to 3:30\, up to four featured poets will read for 10 to 15 minutes each. \nGerry reads poetry at the canal\nThe readings will be followed by open mic time limited to ten readers (one poem no longer than 3 minutes) who have signed up the day of the reading on a first come basis. \nReading will be outdoors at the Gowanus open shoreline and we invite you to engage with the emerging Gowanus Canal habitat as we witness the EPA conduct their SuperFUN/d cleanup program. Event may move to inside the boathouse if it begins to rain or we want to escape the summer heat. If other activity is occurring on the street or esplanade\, event may move inside. \nParticipation is free but we encourage donations to sustain the efforts of the Gowanus Dredgers Canoe Club\, an advocacy stewardship organization who has been representing neighborhood interests for over two decades. \nMay4th: Gregory Crosby\, Brad Vogel\, Melinda Wilson\, Anthony Cappo18th: Scott Hightower\, Abigail Wellhouse\, Kristina Andersson\, Estha Weiner 25th: Michael Broder\, James Diaz\, Kristine Esser Stenz\, Sarah Sari \nJune1st: Susan Cohen\, Sarah Wallace\, Jiwon Choi\, Caroline Hagood 8th: Jo Solfren\, Amy Lemmon\, Sam Cha\, TBA22nd: Bruce E. Whitacre\, Gerry La Femina\, Jordan Franklin\, TBA29th: Ruth Danon\, Miranda Beeson\, Matt Coonan\, Joanna Fuhrman \nJuly13th: Mervyn Taylor\, Pichchenda Bao\, Carla Carlson\, Sarah Arvio20th: Jennifer Micael Hecht\, Amy Holman\, Billy Cancel\, Genevieve Farnsworth27th: Broadstone Books: Hilary Sideris\, Myra Malkin\, Meredith Trede\, Amy Barone TBA \nAugust3rd: Lynn Mcgee\, Ashley Mabbit\, Jennifer Franklin\, Sarah Sarai 10th: Linda Lerner\, David Francis\, William Lesard\, Mary Newell 17th: KGB Hosts: John Deming\, Tyler Allan Penny\, Susan Lewis\, Selena Spier\, Jada Gordon 24th: Michael Montlack\, Jerome Ellison Murphy\, Sarah Sala\, David Formanek \nSeptember7th: Terence Degnan\, Caitlin McDonnell\, Nicole Callihan\, Zoe Ryder White\, Denver Butson14th: Tom Sleigh\, Neil Shepard\, Karen Neuberg\, Dennis Nurkse 21st: Richard Levine\, Wendy Sloan\, Elaine Sexton\, JoAnne MacFarland\, Rachelle Parker28th: Austin Alexis\, Karen Hildebrand\, Lisa Badner\, Lisa Andrews \nOctober5th: Sean Singer\, Arden Levine\, Robin Rosen Chang\, Lily Greenberg 13th: Broadstone Books: Ellen Devlin\, Margo Stever\, Susana H. Case\, Mary Moloney\, Macia Le Beau
URL:https://gowanusdredgers.org/event/a-persistence-of-cormorants-poetry-reading-2/2025-09-28/
LOCATION:Gowanus Dredgers Canoe Club Boathouse\, 165 2nd St\, Brooklyn\, NY\, 11231\, United States
CATEGORIES:Arts,Community
ATTACH;FMTTYPE=image/jpeg:https://gowanusdredgers.org/wp-content/uploads/2024/03/A_Persistence_of_Cormorants-crop.jpeg
END:VEVENT
END:VCALENDAR