BEGIN:VCALENDAR
VERSION:2.0
PRODID:-//Gowanus Dredgers Canoe Club - ECPv6.15.20//NONSGML v1.0//EN
CALSCALE:GREGORIAN
METHOD:PUBLISH
X-ORIGINAL-URL:https://gowanusdredgers.org
X-WR-CALDESC:Events for Gowanus Dredgers Canoe Club
REFRESH-INTERVAL;VALUE=DURATION:PT1H
X-Robots-Tag:noindex
X-PUBLISHED-TTL:PT1H
BEGIN:VTIMEZONE
TZID:America/New_York
BEGIN:DAYLIGHT
TZOFFSETFROM:-0500
TZOFFSETTO:-0400
TZNAME:EDT
DTSTART:20250309T070000
END:DAYLIGHT
BEGIN:STANDARD
TZOFFSETFROM:-0400
TZOFFSETTO:-0500
TZNAME:EST
DTSTART:20251102T060000
END:STANDARD
BEGIN:DAYLIGHT
TZOFFSETFROM:-0500
TZOFFSETTO:-0400
TZNAME:EDT
DTSTART:20260308T070000
END:DAYLIGHT
BEGIN:STANDARD
TZOFFSETFROM:-0400
TZOFFSETTO:-0500
TZNAME:EST
DTSTART:20261101T060000
END:STANDARD
BEGIN:DAYLIGHT
TZOFFSETFROM:-0500
TZOFFSETTO:-0400
TZNAME:EDT
DTSTART:20270314T070000
END:DAYLIGHT
BEGIN:STANDARD
TZOFFSETFROM:-0400
TZOFFSETTO:-0500
TZNAME:EST
DTSTART:20271107T060000
END:STANDARD
END:VTIMEZONE
BEGIN:VEVENT
DTSTART;TZID=America/New_York:20260314T110000
DTEND;TZID=America/New_York:20260314T140000
DTSTAMP:20260424T102359
CREATED:20260222T044935Z
LAST-MODIFIED:20260401T012605Z
UID:10000844-1773486000-1773496800@gowanusdredgers.org
SUMMARY:Farm to Canal Felt Wool Crafting
DESCRIPTION:Come stay warm and make art at the Gowanus Dredgers Boathouse. \nThese collaborative wet felting sessions will be a time to slow down and get to know the community while working with raw wool from farms in New York and New Jersey. \nNo experience is needed\, and any level of participation is encouraged! Get out of your comfort zone and try something new\, or bring your textile arts experience and show us how it’s done. \nDress warm and prepare to get a little messy! We will be inside the Boathouse where the temperature tends to be in the 60s throughout the winter.
URL:https://gowanusdredgers.org/event/farm-to-canal-felt-wool-crafting-2/
LOCATION:Gowanus Dredgers Canoe Club Boathouse\, 165 2nd St\, Brooklyn\, NY\, 11231\, United States
CATEGORIES:Arts,Community
ATTACH;FMTTYPE=application/pdf:https://gowanusdredgers.org/wp-content/uploads/2026/02/come_join_collaborative_Wool_Felting-1.pdf
END:VEVENT
BEGIN:VEVENT
DTSTART;TZID=America/New_York:20260328T170000
DTEND;TZID=America/New_York:20260328T203000
DTSTAMP:20260424T102359
CREATED:20260304T154855Z
LAST-MODIFIED:20260326T160511Z
UID:10000846-1774717200-1774729800@gowanusdredgers.org
SUMMARY:Herb Lore - Mysticism Release
DESCRIPTION:Herb Lore – Mysticism Record Release\nLive Music\nw/ support from Sorcerer\n5-8:30pm (music starting at 5:30pm)\n$10-15 suggested donation (all proceeds donated to the Gowanus Dredgers)\nAddress: Gowanus Dredgers Boathouse\, 165 2nd St. Brooklyn\, NY 11231\nOutdoors; dress warmly\n\nA celebration of the Vernal Equinox & Herb Lore‘s second record Mysticism. The past is dead. The future is imaginary. Happiness can only be in the Eternal Now Moment. Drink from the Earth.
URL:https://gowanusdredgers.org/event/herb-lore-mysticism-release/
LOCATION:Gowanus Dredgers Canoe Club Boathouse\, 165 2nd St\, Brooklyn\, NY\, 11231\, United States
CATEGORIES:Arts,Community,Music
ATTACH;FMTTYPE=image/jpeg:https://gowanusdredgers.org/wp-content/uploads/2026/03/herblore-scaled.jpg
END:VEVENT
BEGIN:VEVENT
DTSTART;TZID=America/New_York:20260330T160000
DTEND;TZID=America/New_York:20260330T200000
DTSTAMP:20260424T102359
CREATED:20260222T045212Z
LAST-MODIFIED:20260401T012519Z
UID:10000845-1774886400-1774900800@gowanusdredgers.org
SUMMARY:Farm to Canal Felt Wool Crafting
DESCRIPTION:Come stay warm and make art at the Gowanus Dredgers Boathouse. \nThese collaborative wet felting sessions will be a time to slow down and get to know the community while working with raw wool from farms in New York and New Jersey. \nNo experience is needed\, and any level of participation is encouraged! Get out of your comfort zone and try something new\, or bring your textile arts experience and show us how it’s done. \nDress warm and prepare to get a little messy! We will be inside the Boathouse where the temperature tends to be in the 60s throughout the winter.
URL:https://gowanusdredgers.org/event/farm-to-canal-felt-wool-crafting-3/
LOCATION:Gowanus Dredgers Canoe Club Boathouse\, 165 2nd St\, Brooklyn\, NY\, 11231\, United States
CATEGORIES:Arts,Community
ATTACH;FMTTYPE=application/pdf:https://gowanusdredgers.org/wp-content/uploads/2026/02/come_join_collaborative_Wool_Felting-2.pdf
END:VEVENT
END:VCALENDAR