BEGIN:VCALENDAR
VERSION:2.0
PRODID:-//Gowanus Dredgers Canoe Club - ECPv6.15.20//NONSGML v1.0//EN
CALSCALE:GREGORIAN
METHOD:PUBLISH
X-WR-CALNAME:Gowanus Dredgers Canoe Club
X-ORIGINAL-URL:https://gowanusdredgers.org
X-WR-CALDESC:Events for Gowanus Dredgers Canoe Club
REFRESH-INTERVAL;VALUE=DURATION:PT1H
X-Robots-Tag:noindex
X-PUBLISHED-TTL:PT1H
BEGIN:VTIMEZONE
TZID:America/New_York
BEGIN:DAYLIGHT
TZOFFSETFROM:-0500
TZOFFSETTO:-0400
TZNAME:EDT
DTSTART:20240310T070000
END:DAYLIGHT
BEGIN:STANDARD
TZOFFSETFROM:-0400
TZOFFSETTO:-0500
TZNAME:EST
DTSTART:20241103T060000
END:STANDARD
BEGIN:DAYLIGHT
TZOFFSETFROM:-0500
TZOFFSETTO:-0400
TZNAME:EDT
DTSTART:20250309T070000
END:DAYLIGHT
BEGIN:STANDARD
TZOFFSETFROM:-0400
TZOFFSETTO:-0500
TZNAME:EST
DTSTART:20251102T060000
END:STANDARD
BEGIN:DAYLIGHT
TZOFFSETFROM:-0500
TZOFFSETTO:-0400
TZNAME:EDT
DTSTART:20260308T070000
END:DAYLIGHT
BEGIN:STANDARD
TZOFFSETFROM:-0400
TZOFFSETTO:-0500
TZNAME:EST
DTSTART:20261101T060000
END:STANDARD
END:VTIMEZONE
BEGIN:VEVENT
DTSTART;TZID=America/New_York:20251101T100000
DTEND;TZID=America/New_York:20251101T160000
DTSTAMP:20260424T164337
CREATED:20251023T183447Z
LAST-MODIFIED:20251023T183447Z
UID:10000834-1761991200-1762012800@gowanusdredgers.org
SUMMARY:Bunker Work Day
DESCRIPTION:Help us clean up and close out the 2025 on-water season at the Bunker! \nWe’ll be tidying up the space\, repainting some details\, cleaning and repairing gear\, linseeding the dock\, and other tasks as needed. \nDress for the weather and mess. Bring water\, a snack\, and work gloves if you have them!
URL:https://gowanusdredgers.org/event/bunker-work-day-2/
LOCATION:Gowanus Dredgers Bunker (19th St.)\, 2 19th St.\, Brooklyn\, NY
CATEGORIES:Community
ATTACH;FMTTYPE=image/webp:https://gowanusdredgers.org/wp-content/uploads/2025/03/NVergalla_DSC04406.jpg
GEO:40.66731229192;-74.000079337986
X-APPLE-STRUCTURED-LOCATION;VALUE=URI;X-ADDRESS=Gowanus Dredgers Bunker (19th St.) 2 19th St. Brooklyn NY;X-APPLE-RADIUS=500;X-TITLE=2 19th St.:geo:-74.000079337986,40.66731229192
END:VEVENT
BEGIN:VEVENT
DTSTART;TZID=America/New_York:20251106T180000
DTEND;TZID=America/New_York:20251106T203000
DTSTAMP:20260424T164337
CREATED:20251009T211339Z
LAST-MODIFIED:20251009T211339Z
UID:10000824-1762452000-1762461000@gowanusdredgers.org
SUMMARY:The Boathouse Jam: Winter Edition
DESCRIPTION:Keep jamming throughout the winter at the Gowanus Dredgers Boathouse. The focus of the winter jam is to work on harder bluegrass tunes in a welcoming group setting. Think tunes that are crooked\, go beyond I/IV/V\, or are outside the basic standards. Bring your acoustic instrument\, bring your jam busters\, and be ready to expand your jam comfort zone! \nDress warm! We play inside the Boathouse where the temperature tends to be in the 60s throughout the winter. \nSuggested donation $10
URL:https://gowanusdredgers.org/event/the-boathouse-jam-winter-edition/2025-11-06/
LOCATION:Gowanus Dredgers Canoe Club Boathouse\, 165 2nd St\, Brooklyn\, NY\, 11231\, United States
CATEGORIES:Community,Music
ATTACH;FMTTYPE=image/jpeg:https://gowanusdredgers.org/wp-content/uploads/2025/10/BoathouseJam-winter-scaled.jpg
END:VEVENT
BEGIN:VEVENT
DTSTART;TZID=America/New_York:20251109T130000
DTEND;TZID=America/New_York:20251109T143000
DTSTAMP:20260424T164337
CREATED:20250922T113332Z
LAST-MODIFIED:20250922T113332Z
UID:10000813-1762693200-1762698600@gowanusdredgers.org
SUMMARY:Brooklyn Folk Festival: Banjo Toss Competition
DESCRIPTION:Each year\, as part of the Brooklyn Folk Festival \, contestants gather on the banks of the fetid Gowanus Canal to see who can throw a banjo the farthest in the – BANJO TOSS: BANJO THROWING COMPETITION! The special “throwing banjo”\, attached to a rope is tossed into the canal\, a federally designate Super Fund site. The marked rope pays out\, showing how far the banjo has been tossed. It is then hauled back in for the next throw. \nThe Brooklyn Folk Festival is presented each year by the Jalopy Theatre & School of Music\, a grassroots Red Hook\, Brooklyn community space that is a music venue\, music school\, and record label.  We are excited to support the Banjo Toss event activity so please stop by and join the fun! \nWe are told the best preparation for this competition is to attend a show at the Brooklyn Folk Festival so purchase tickets now before they are sold out.  While bearded men and women are growing in popularity as more people live\, work and play in our Gowanus neighborhood\, we are assured by the organizers that beards are optional. Our amazing collection of competitors reinforces the Dredgers theme of inclusion so stop by to cheer our competitors or compete in the toss as well!
URL:https://gowanusdredgers.org/event/brooklyn-folk-festival-banjo-toss-competition-2/
LOCATION:Gowanus Dredgers Canoe Club Boathouse\, 165 2nd St\, Brooklyn\, NY\, 11231\, United States
CATEGORIES:Arts,Community,Music
ATTACH;FMTTYPE=image/webp:https://gowanusdredgers.org/wp-content/uploads/2024/08/Screenshot-2024-08-14-at-11.57.34-AM.webp
END:VEVENT
BEGIN:VEVENT
DTSTART;TZID=America/New_York:20251120T180000
DTEND;TZID=America/New_York:20251120T203000
DTSTAMP:20260424T164337
CREATED:20251009T211339Z
LAST-MODIFIED:20251009T211339Z
UID:10000825-1763661600-1763670600@gowanusdredgers.org
SUMMARY:The Boathouse Jam: Winter Edition
DESCRIPTION:Keep jamming throughout the winter at the Gowanus Dredgers Boathouse. The focus of the winter jam is to work on harder bluegrass tunes in a welcoming group setting. Think tunes that are crooked\, go beyond I/IV/V\, or are outside the basic standards. Bring your acoustic instrument\, bring your jam busters\, and be ready to expand your jam comfort zone! \nDress warm! We play inside the Boathouse where the temperature tends to be in the 60s throughout the winter. \nSuggested donation $10
URL:https://gowanusdredgers.org/event/the-boathouse-jam-winter-edition/2025-11-20/
LOCATION:Gowanus Dredgers Canoe Club Boathouse\, 165 2nd St\, Brooklyn\, NY\, 11231\, United States
CATEGORIES:Community,Music
ATTACH;FMTTYPE=image/jpeg:https://gowanusdredgers.org/wp-content/uploads/2025/10/BoathouseJam-winter-scaled.jpg
END:VEVENT
BEGIN:VEVENT
DTSTART;TZID=America/New_York:20251122T170000
DTEND;TZID=America/New_York:20251122T180000
DTSTAMP:20260424T164337
CREATED:20251118T222609Z
LAST-MODIFIED:20251118T222609Z
UID:10000836-1763830800-1763834400@gowanusdredgers.org
SUMMARY:VAULT|Gowanus : Landscape/Value
DESCRIPTION:KAJE is pleased to present VAULT|Gowanus : Landscape/Value\, a site-responsive performance commission taking place Saturday\, November 22nd at 2 19th Street at 5pm. The performance is programmed as part of a cross-disciplinary presentation by VAULT\, an expansive collaboration led by artists Kevin Hernández Rosa\, Arien Wilkerson\, and Marisa Williamson.\n\n \nThe VAULT project has drawn nearly a decade of inspiration from the shuttered John C. Clark Elementary School in Hartford\, CT\, which closed in 2015 after dangerous levels of carcinogenic PCBs were discovered in its construction materials. With the abandoned school standing to this day as a stark monument to systemic neglect\, racism\, classism\, and the enduring impact of toxic infrastructure on Black and Brown communities\, VAULT moves across varied sites of environmental contention to confront the hidden histories\, and ongoing structural violence that persists in the build geographies we inhabit. Drawing on performance\, mark-making\, and participatory programming\, VAULT embodies a vision for sustaining creative\, cultural\, and spiritual ecologies in the face of fascist\, racist\, and environmental adversities. \n \nVAULT|Gowanus : Landscape/Value\n\nSaturday\, November 22nd at 2 19th Street \nThe performance will begin at 5pm
URL:https://gowanusdredgers.org/event/vaultgowanus-landscape-value/
LOCATION:Gowanus Dredgers Bunker (19th St.)\, 2 19th St.\, Brooklyn\, NY
CATEGORIES:Arts,Community
GEO:40.66731229192;-74.000079337986
X-APPLE-STRUCTURED-LOCATION;VALUE=URI;X-ADDRESS=Gowanus Dredgers Bunker (19th St.) 2 19th St. Brooklyn NY;X-APPLE-RADIUS=500;X-TITLE=2 19th St.:geo:-74.000079337986,40.66731229192
END:VEVENT
END:VCALENDAR