BEGIN:VCALENDAR
VERSION:2.0
PRODID:-//Gowanus Dredgers Canoe Club - ECPv6.15.20//NONSGML v1.0//EN
CALSCALE:GREGORIAN
METHOD:PUBLISH
X-ORIGINAL-URL:https://gowanusdredgers.org
X-WR-CALDESC:Events for Gowanus Dredgers Canoe Club
REFRESH-INTERVAL;VALUE=DURATION:PT1H
X-Robots-Tag:noindex
X-PUBLISHED-TTL:PT1H
BEGIN:VTIMEZONE
TZID:America/New_York
BEGIN:DAYLIGHT
TZOFFSETFROM:-0500
TZOFFSETTO:-0400
TZNAME:EDT
DTSTART:20240310T070000
END:DAYLIGHT
BEGIN:STANDARD
TZOFFSETFROM:-0400
TZOFFSETTO:-0500
TZNAME:EST
DTSTART:20241103T060000
END:STANDARD
BEGIN:DAYLIGHT
TZOFFSETFROM:-0500
TZOFFSETTO:-0400
TZNAME:EDT
DTSTART:20250309T070000
END:DAYLIGHT
BEGIN:STANDARD
TZOFFSETFROM:-0400
TZOFFSETTO:-0500
TZNAME:EST
DTSTART:20251102T060000
END:STANDARD
BEGIN:DAYLIGHT
TZOFFSETFROM:-0500
TZOFFSETTO:-0400
TZNAME:EDT
DTSTART:20260308T070000
END:DAYLIGHT
BEGIN:STANDARD
TZOFFSETFROM:-0400
TZOFFSETTO:-0500
TZNAME:EST
DTSTART:20261101T060000
END:STANDARD
END:VTIMEZONE
BEGIN:VEVENT
DTSTART;TZID=America/New_York:20251204T180000
DTEND;TZID=America/New_York:20251204T203000
DTSTAMP:20260424T150436
CREATED:20251009T211339Z
LAST-MODIFIED:20251009T211339Z
UID:10000826-1764871200-1764880200@gowanusdredgers.org
SUMMARY:The Boathouse Jam: Winter Edition
DESCRIPTION:Keep jamming throughout the winter at the Gowanus Dredgers Boathouse. The focus of the winter jam is to work on harder bluegrass tunes in a welcoming group setting. Think tunes that are crooked\, go beyond I/IV/V\, or are outside the basic standards. Bring your acoustic instrument\, bring your jam busters\, and be ready to expand your jam comfort zone! \nDress warm! We play inside the Boathouse where the temperature tends to be in the 60s throughout the winter. \nSuggested donation $10
URL:https://gowanusdredgers.org/event/the-boathouse-jam-winter-edition/2025-12-04/
LOCATION:Gowanus Dredgers Canoe Club Boathouse\, 165 2nd St\, Brooklyn\, NY\, 11231\, United States
CATEGORIES:Community,Music
ATTACH;FMTTYPE=image/jpeg:https://gowanusdredgers.org/wp-content/uploads/2025/10/BoathouseJam-winter-scaled.jpg
END:VEVENT
BEGIN:VEVENT
DTSTART;TZID=America/New_York:20251212T190000
DTEND;TZID=America/New_York:20251212T220000
DTSTAMP:20260424T150436
CREATED:20251201T161025Z
LAST-MODIFIED:20251201T161137Z
UID:10000838-1765566000-1765576800@gowanusdredgers.org
SUMMARY:2025 End of Season Party
DESCRIPTION:  \nJoin us at the Boathouse on Friday\, December 12th from 7-10pm to celebrate the end of the 2025 season with us! \nBring a snack to share\, favorite memories\, or just yourself!
URL:https://gowanusdredgers.org/event/2025-end-of-season-party/
LOCATION:Gowanus Dredgers Canoe Club Boathouse\, 165 2nd St\, Brooklyn\, NY\, 11231\, United States
CATEGORIES:Community
ATTACH;FMTTYPE=image/jpeg:https://gowanusdredgers.org/wp-content/uploads/2025/12/PHOTO-2025-12-01-09-53-11-2-1.jpg
END:VEVENT
BEGIN:VEVENT
DTSTART;TZID=America/New_York:20251218T180000
DTEND;TZID=America/New_York:20251218T203000
DTSTAMP:20260424T150436
CREATED:20251009T211339Z
LAST-MODIFIED:20251009T211339Z
UID:10000827-1766080800-1766089800@gowanusdredgers.org
SUMMARY:The Boathouse Jam: Winter Edition
DESCRIPTION:Keep jamming throughout the winter at the Gowanus Dredgers Boathouse. The focus of the winter jam is to work on harder bluegrass tunes in a welcoming group setting. Think tunes that are crooked\, go beyond I/IV/V\, or are outside the basic standards. Bring your acoustic instrument\, bring your jam busters\, and be ready to expand your jam comfort zone! \nDress warm! We play inside the Boathouse where the temperature tends to be in the 60s throughout the winter. \nSuggested donation $10
URL:https://gowanusdredgers.org/event/the-boathouse-jam-winter-edition/2025-12-18/
LOCATION:Gowanus Dredgers Canoe Club Boathouse\, 165 2nd St\, Brooklyn\, NY\, 11231\, United States
CATEGORIES:Community,Music
ATTACH;FMTTYPE=image/jpeg:https://gowanusdredgers.org/wp-content/uploads/2025/10/BoathouseJam-winter-scaled.jpg
END:VEVENT
END:VCALENDAR