BEGIN:VCALENDAR
VERSION:2.0
PRODID:-//Gowanus Dredgers Canoe Club - ECPv6.15.20//NONSGML v1.0//EN
CALSCALE:GREGORIAN
METHOD:PUBLISH
X-WR-CALNAME:Gowanus Dredgers Canoe Club
X-ORIGINAL-URL:https://gowanusdredgers.org
X-WR-CALDESC:Events for Gowanus Dredgers Canoe Club
REFRESH-INTERVAL;VALUE=DURATION:PT1H
X-Robots-Tag:noindex
X-PUBLISHED-TTL:PT1H
BEGIN:VTIMEZONE
TZID:America/New_York
BEGIN:DAYLIGHT
TZOFFSETFROM:-0500
TZOFFSETTO:-0400
TZNAME:EDT
DTSTART:20250309T070000
END:DAYLIGHT
BEGIN:STANDARD
TZOFFSETFROM:-0400
TZOFFSETTO:-0500
TZNAME:EST
DTSTART:20251102T060000
END:STANDARD
BEGIN:DAYLIGHT
TZOFFSETFROM:-0500
TZOFFSETTO:-0400
TZNAME:EDT
DTSTART:20260308T070000
END:DAYLIGHT
BEGIN:STANDARD
TZOFFSETFROM:-0400
TZOFFSETTO:-0500
TZNAME:EST
DTSTART:20261101T060000
END:STANDARD
BEGIN:DAYLIGHT
TZOFFSETFROM:-0500
TZOFFSETTO:-0400
TZNAME:EDT
DTSTART:20270314T070000
END:DAYLIGHT
BEGIN:STANDARD
TZOFFSETFROM:-0400
TZOFFSETTO:-0500
TZNAME:EST
DTSTART:20271107T060000
END:STANDARD
END:VTIMEZONE
BEGIN:VEVENT
DTSTART;TZID=America/New_York:20260418T110000
DTEND;TZID=America/New_York:20260418T140000
DTSTAMP:20260424T213614
CREATED:20260405T001508Z
LAST-MODIFIED:20260420T005718Z
UID:10001121-1776510000-1776520800@gowanusdredgers.org
SUMMARY:Farm to Canal Felt Wool Crafting: SAUNA HATS and BIRTHDAY CAKE
DESCRIPTION:Come join us to make sauna hats out of local waste wool and celebrate one of our key wool gatherers day of birth! We will have materials to make hats\, birthday cake\, and coffee. Bring yourselves\, clothes that you’re comfortable getting a little dirty/wet\, and patience for the beautiful and long process that is wet felting!! \n​Limited materials available (ie waitlist\, RSVPs prioritized) but anyone welcome to come hang out! \nThese collaborative wet felting sessions will be a time to slow down and get to know the community while working with raw wool from farms in New York and New Jersey.
URL:https://gowanusdredgers.org/event/farm-to-canal-felt-wool-crafting-sauna-hats-and-birthday-cake/
LOCATION:Gowanus Dredgers Canoe Club Boathouse\, 165 2nd St\, Brooklyn\, NY\, 11231\, United States
CATEGORIES:Arts,Community
ATTACH;FMTTYPE=image/jpeg:https://gowanusdredgers.org/wp-content/uploads/2026/04/come_join_collaborative_Wool_Felting-V2-horizontal.jpg
END:VEVENT
BEGIN:VEVENT
DTSTART;TZID=America/New_York:20260419T130000
DTEND;TZID=America/New_York:20260419T170000
DTSTAMP:20260424T213614
CREATED:20260326T155135Z
LAST-MODIFIED:20260326T155135Z
UID:10001104-1776603600-1776618000@gowanusdredgers.org
SUMMARY:First Aid & CPR Class for Mariners
DESCRIPTION:Add valuable rescue skills to your toolbox by taking this certification class. CPR & First Aid is required to be a Trip Leader\, we hope you join us! \nYou can register for the workshop here. Members get a discount so now is the perfect time to join or renew! \nWe offer this CPR and first-aid training at cost. After completing the course\, you can opt to receive your AHA eCard\, which you can use as proof that you have successfully completed training.
URL:https://gowanusdredgers.org/event/first-aid-cpr-class-for-mariners-3/
LOCATION:Gowanus Dredgers Canoe Club Boathouse\, 165 2nd St\, Brooklyn\, NY\, 11231\, United States
CATEGORIES:Community
ATTACH;FMTTYPE=image/jpeg:https://gowanusdredgers.org/wp-content/uploads/2024/03/CPR_Mariners.jpeg
END:VEVENT
BEGIN:VEVENT
DTSTART;TZID=America/New_York:20260425T130000
DTEND;TZID=America/New_York:20260425T180000
DTSTAMP:20260424T213614
CREATED:20260405T002307Z
LAST-MODIFIED:20260405T002307Z
UID:10001122-1777122000-1777140000@gowanusdredgers.org
SUMMARY:Farm to Canal Felt Wool Crafting: Series Close Celebration
DESCRIPTION:Come celebrate our collaborative wet felting sessions! \nSee the final sheets and hear the story of the wool and water crossing. We’ll have a talk from 2-2:45 about the story of the work and the collaboration.
URL:https://gowanusdredgers.org/event/farm-to-canal-felt-wool-crafting-series-close-celebration/
LOCATION:Gowanus Dredgers Canoe Club Boathouse\, 165 2nd St\, Brooklyn\, NY\, 11231\, United States
CATEGORIES:Arts,Community
ATTACH;FMTTYPE=image/jpeg:https://gowanusdredgers.org/wp-content/uploads/2026/04/come_join_collaborative_Wool_Felting-V2-horizontal.jpg
END:VEVENT
BEGIN:VEVENT
DTSTART;TZID=America/New_York:20260628T110000
DTEND;TZID=America/New_York:20260628T150000
DTSTAMP:20260424T213614
CREATED:20260326T155354Z
LAST-MODIFIED:20260326T155354Z
UID:10001112-1782644400-1782658800@gowanusdredgers.org
SUMMARY:First Aid & CPR Class for Mariners
DESCRIPTION:Add valuable rescue skills to your toolbox by taking this certification class. CPR & First Aid is required to be a Trip Leader\, we hope you join us! \nYou can register for the workshop here. Members get a discount so now is the perfect time to join or renew! \nWe offer this CPR and first-aid training at cost. After completing the course\, you can opt to receive your AHA eCard\, which you can use as proof that you have successfully completed training.
URL:https://gowanusdredgers.org/event/first-aid-cpr-class-for-mariners-4/
LOCATION:Gowanus Dredgers Canoe Club Boathouse\, 165 2nd St\, Brooklyn\, NY\, 11231\, United States
CATEGORIES:Community
ATTACH;FMTTYPE=image/jpeg:https://gowanusdredgers.org/wp-content/uploads/2024/03/CPR_Mariners.jpeg
END:VEVENT
END:VCALENDAR