BEGIN:VCALENDAR
VERSION:2.0
PRODID:-//Gowanus Dredgers Canoe Club - ECPv6.15.20//NONSGML v1.0//EN
CALSCALE:GREGORIAN
METHOD:PUBLISH
X-WR-CALNAME:Gowanus Dredgers Canoe Club
X-ORIGINAL-URL:https://gowanusdredgers.org
X-WR-CALDESC:Events for Gowanus Dredgers Canoe Club
REFRESH-INTERVAL;VALUE=DURATION:PT1H
X-Robots-Tag:noindex
X-PUBLISHED-TTL:PT1H
BEGIN:VTIMEZONE
TZID:America/New_York
BEGIN:DAYLIGHT
TZOFFSETFROM:-0500
TZOFFSETTO:-0400
TZNAME:EDT
DTSTART:20230312T070000
END:DAYLIGHT
BEGIN:STANDARD
TZOFFSETFROM:-0400
TZOFFSETTO:-0500
TZNAME:EST
DTSTART:20231105T060000
END:STANDARD
BEGIN:DAYLIGHT
TZOFFSETFROM:-0500
TZOFFSETTO:-0400
TZNAME:EDT
DTSTART:20240310T070000
END:DAYLIGHT
BEGIN:STANDARD
TZOFFSETFROM:-0400
TZOFFSETTO:-0500
TZNAME:EST
DTSTART:20241103T060000
END:STANDARD
BEGIN:DAYLIGHT
TZOFFSETFROM:-0500
TZOFFSETTO:-0400
TZNAME:EDT
DTSTART:20250309T070000
END:DAYLIGHT
BEGIN:STANDARD
TZOFFSETFROM:-0400
TZOFFSETTO:-0500
TZNAME:EST
DTSTART:20251102T060000
END:STANDARD
BEGIN:DAYLIGHT
TZOFFSETFROM:-0500
TZOFFSETTO:-0400
TZNAME:EDT
DTSTART:20260308T070000
END:DAYLIGHT
BEGIN:STANDARD
TZOFFSETFROM:-0400
TZOFFSETTO:-0500
TZNAME:EST
DTSTART:20261101T060000
END:STANDARD
END:VTIMEZONE
BEGIN:VEVENT
DTSTART;TZID=America/New_York:20250812T190000
DTEND;TZID=America/New_York:20250812T203000
DTSTAMP:20260424T200128
CREATED:20250811T115229Z
LAST-MODIFIED:20250811T115229Z
UID:10000793-1755025200-1755030600@gowanusdredgers.org
SUMMARY:Q&A with John Henkelman: Paddler of the entire Hudson River
DESCRIPTION:John Henkelman is an experienced paddler\, Registered Maine Guide\, American Canoe Association instructor\, and Ph.D. student in Natural Resource Management whose research focuses on the human connection to rivers. This summer\, he is paddling the entire 315-mile length of the Hudson River — from its source in the Adirondacks to New York City — to raise awareness and funds for American Rivers\, a nonprofit dedicated to protecting and restoring waterways nationwide. Along the way\, John is measuring water quality\, documenting the river’s health\, and engaging with riverfront communities to understand their relationship with this iconic waterway. \nJohn’s paddle journey ended this weekend\, at our very own 19th St. Bunker dock! Join us Tuesday evening at the boathouse for a casual chat and Q&A with John to hear about his journey raising awareness\, measuring water quality\, and connecting with fellow paddlers!
URL:https://gowanusdredgers.org/event/qa-with-john-henkelman-paddler-of-the-entire-hudson-river/
LOCATION:Gowanus Dredgers Canoe Club Boathouse\, 165 2nd St\, Brooklyn\, NY\, 11231\, United States
CATEGORIES:Community,On the Water,Science & Ecology
ATTACH;FMTTYPE=image/png:https://gowanusdredgers.org/wp-content/uploads/2025/08/WhatsApp-Image-2025-08-10-at-21.41.10-16x9-1.png
END:VEVENT
BEGIN:VEVENT
DTSTART;TZID=America/New_York:20250506T190000
DTEND;TZID=America/New_York:20250506T203000
DTSTAMP:20260424T200128
CREATED:20250225T034648Z
LAST-MODIFIED:20250322T092310Z
UID:10000464-1746558000-1746563400@gowanusdredgers.org
SUMMARY:MUCKING THINGS UP: May
DESCRIPTION:MUCKING THINGS UP:\n\nan intertidal talk with the Gowanus Dredgers \n\n  \n\nMay 6\, 2025\n7 pm\nGowanus Dredgers Boathouse\n165 2nd Street\, Brooklyn\nFree\nCarrie Roble (she/her) is an aquatic ecologist\, science communicator\, STEM mentor\, and life-long water adventurer. As the head of Hudson River Park’s River Project\, Carrie leads complex coastal resiliency projects\, cross-sector partnerships for innovative STEM research\, place-based environmental education\, and interdisciplinary teams. She dedicates her work to the health of urban waterways and to empowering local communities to be environmental stewards through participatory science. Carrie has a M.S. in aquatic science and environmental justice from University of Michigan’s School for Environment and Sustainability and is a proud Bowdoin College polar bear. \nSiddhartha Hayes (he/him) is a field scientist\, aquarist\, etymology enthusiast\, and fish whisperer. As Manager of Research & Aquaria at Hudson River Park\, he conducts and oversees various ecological sampling projects\, from year-round fish trapping and river condition monitoring to surface water pathogens\, shoreline plastics\, oysters\, and more. He also manages the Pier 40 River Project Wetlab\, a flow-through aquarium of native Hudson River organisms that serves as one of the Park’s primary education sites. He has worked for 10 years to facilitate research that answers important questions about the river and its denizens and spark a sense of wonder by connecting people with their aquatic neighbors. Siddhartha has a Bachelor’s in Biology and Greek & Roman Studies from Vassar College. \n\n\nMade possible with support from Citizens Committee for New York City.
URL:https://gowanusdredgers.org/event/mucking-things-up-may/
LOCATION:Gowanus Dredgers Canoe Club Boathouse\, 165 2nd St\, Brooklyn\, NY\, 11231\, United States
CATEGORIES:Community,Science & Ecology
ATTACH;FMTTYPE=image/webp:https://gowanusdredgers.org/wp-content/uploads/2025/01/Mucking-Things-Up-Titleplate.webp
END:VEVENT
BEGIN:VEVENT
DTSTART;TZID=America/New_York:20250311T190000
DTEND;TZID=America/New_York:20250311T203000
DTSTAMP:20260424T200128
CREATED:20250221T224302Z
LAST-MODIFIED:20250303T142121Z
UID:10000444-1741719600-1741725000@gowanusdredgers.org
SUMMARY:MUCKING THINGS UP: CHARLES OLSON & JOHN HILL
DESCRIPTION:MUCKING THINGS UP: CHARLES OLSON & JOHN HILL\nan intertidal talk with the Gowanus Dredgers\n\n\nMarch 11\, 2025 7 pm\nGowanus Dredgers Boathouse\n165 2nd Street\, Brooklyn\nFree\n\n\nJoin the Gowanus Dredgers for a talk in our Mucking Things Up series! This is a series of informal talks focused more on storytelling than slideshows. Our speakers this month are CHARLES OLSON & JOHN HILL.\n\n\nCharles Olsen is an artist and sewer expert. Charles works for the Bureau of Water and Sewer Operations where he assists with planning drainage options in the face of climate change impacts. He has continued to make and exhibit his sculptures since 1981\, and is currently a member of Noho/M55 Gallery at 548 W. 28th St. in New York City. \nJohn Hill is an active diver in the local area with Randive based out of Keyport NJ. Since 1959 they’ve specialized in highly technical problem solving serving the maritime industry in NY/NJ. As Randive grows as a company they’ve been able to be apart of some really cool and important projects that he’s looking forward to telling us about. \n\n\nSupport from Citizens Committee for New York City.
URL:https://gowanusdredgers.org/event/mucking-things-up-3/
LOCATION:Gowanus Dredgers Canoe Club Boathouse\, 165 2nd St\, Brooklyn\, NY\, 11231\, United States
CATEGORIES:Community,Science & Ecology
ATTACH;FMTTYPE=image/webp:https://gowanusdredgers.org/wp-content/uploads/2025/01/Mucking-Things-Up-Titleplate.webp
END:VEVENT
BEGIN:VEVENT
DTSTART;TZID=America/New_York:20250220T190000
DTEND;TZID=America/New_York:20250220T203000
DTSTAMP:20260424T200128
CREATED:20250206T173338Z
LAST-MODIFIED:20250214T163520Z
UID:10000442-1740078000-1740083400@gowanusdredgers.org
SUMMARY:MUCKING THINGS UP: Cody Herrmann
DESCRIPTION:MUCKING THINGS UP: Cody Herrmann\nan intertidal talk with the Gowanus Dredgers\n\n\nFeb 20\, 2025 7 pm\nGowanus Dredgers Boathouse\n165 2nd Street\, Brooklyn\nFree\n\n\nJoin the Gowanus Dredgers for a talk in our new Mucking Things Up series launching this year! We’re hosting a series of informal talks focused more on storytelling than slideshows. Cody Herrmann will share her experiences working with Billion Oyster Project\, Guardians of Flushing Bay\, and other projects. Come learn about our harbor habitat!\n\nSupport from Citizens Committee for New York City.
URL:https://gowanusdredgers.org/event/mucking-things-up-2/
LOCATION:Gowanus Dredgers Canoe Club Boathouse\, 165 2nd St\, Brooklyn\, NY\, 11231\, United States
CATEGORIES:Community,Science & Ecology
ATTACH;FMTTYPE=image/webp:https://gowanusdredgers.org/wp-content/uploads/2025/01/Mucking-Things-Up-Titleplate.webp
END:VEVENT
BEGIN:VEVENT
DTSTART;TZID=America/New_York:20250127T190000
DTEND;TZID=America/New_York:20250127T203000
DTSTAMP:20260424T200128
CREATED:20250114T055740Z
LAST-MODIFIED:20250206T173247Z
UID:10000432-1738004400-1738009800@gowanusdredgers.org
SUMMARY:MUCKING THINGS UP: Noah Chesnin & Tanasia Swift
DESCRIPTION:MUCKING THINGS UP: Noah Chesnin & Tanasia Swift\n\nan intertidal talk with the Gowanus Dredgers \n\n \n\nJanuary 27\, 2025\n7 pm\nGowanus Dredgers Boathouse\n165 2nd Street\, Brooklyn\nFree\n  \n\nJoin the Gowanus Dredgers for the first talk in our new Mucking Things Up series launching this year! We’re hosting a series of informal talks focused more on storytelling than slideshows. Come learn about our harbor habitat.\n\n\nWe’ll be hearing from the Wildlife Conservation Society’s Noah Chesnin about the little-known Hudson Canyon\, a giant underwater landform out in the ocean in the coastal shelf off New York. There’s a movement afoot to designate it a national marine sanctuary\, and we’ll learn why it’s so special – from the marine species (including some Gowanus creatures) that need it for habitat to the chemosynthetic undersea vents awaiting further exploration in the Canyon. Learn about an upcoming series of dives into the Canyon coming up this summer. \n\n\nOur second speaker is someone who’s known around New York Harbor for her work with the Billion Oyster Project\, Tanasia Swift. A diver who knows a thing or two about many unusual nooks and crannies around the estuary\, Tanasia will let us know more about the organisms and ecosystems that we might not notice in our day-to-day interactions with the waters we encounter. \n\nSupport from Citizens Committee for New York City.
URL:https://gowanusdredgers.org/event/mucking-things-up-noah-chesnin-tanasia-swift/
LOCATION:Gowanus Dredgers Canoe Club Boathouse\, 165 2nd St\, Brooklyn\, NY\, 11231\, United States
CATEGORIES:Community,Science & Ecology
ATTACH;FMTTYPE=image/webp:https://gowanusdredgers.org/wp-content/uploads/2025/01/Mucking-Things-Up-Titleplate.webp
END:VEVENT
BEGIN:VEVENT
DTSTART;TZID=America/New_York:20241215T140000
DTEND;TZID=America/New_York:20241215T180000
DTSTAMP:20260424T200128
CREATED:20241110T220523Z
LAST-MODIFIED:20241208T021030Z
UID:10000394-1734271200-1734285600@gowanusdredgers.org
SUMMARY:Inner and Outer Transformations: The Climate Crisis By Olive Toran
DESCRIPTION:“Inner and Outer Transformations: The Climate Crisis\,” by Olive Toran\, is an immersive multimedia exhibition that weaves fine art photography\, poetry\, live music\, and community climate engagement activities into a cohesive experience. At its core is Olive’s journey\, reflecting the synergy between personal healing and climate action. Invoking spiritual solutions through poetry\, song\, and music—expressions rooted in her healing journey—Olive illustrates how inner transformation can inspire outer change. This ongoing dialogue between self and environment suggests that nurturing personal well-being can spark systemic transformation. Exploring the multimedia displays invites visitors to reconnect with nature\, foster resilience against eco-paralysis\, and deepen their commitment to environmental and social change. \nRSVP HERE [free] \nSunday\, December 15th\, 2:00 pm-6:00 pm \n2-5pm Exhibit viewing and climate adaptation activity\,\n5 – 6pm live music and Q&A \n \nOlive is a force on the front line of climate action\, leveraging her 12 years of expertise as a Communication Specialist and Climate Adaptation researcher having worked in Africa\, Asia\, Europe and the Caribbean\, to drive meaningful change. Olive has dedicated herself to addressing the urgent challenges posed by human-induced climate change by crafting compelling narratives that amplify the urgency of the climate crisis and calling for collective knowledge and action to foster context specific\, people centered climate solutions. \nhttps://www.olivetoran.com/
URL:https://gowanusdredgers.org/event/inner-and-outer-transformations-the-climate-crisis-by-olive-toran/
LOCATION:Gowanus Dredgers Canoe Club Boathouse\, 165 2nd St\, Brooklyn\, NY\, 11231\, United States
CATEGORIES:Arts,Community,Science & Ecology
ATTACH;FMTTYPE=image/jpeg:https://gowanusdredgers.org/wp-content/uploads/2024/11/Malaga-Spain-2023-July-Bird-Taking-Flight-©-Faith-Toran.jpg
END:VEVENT
BEGIN:VEVENT
DTSTART;TZID=America/New_York:20241013T090000
DTEND;TZID=America/New_York:20241013T130000
DTSTAMP:20260424T200128
CREATED:20240922T194921Z
LAST-MODIFIED:20241011T183533Z
UID:10000370-1728810000-1728824400@gowanusdredgers.org
SUMMARY:Annual Ribbed Mussel Population Survey
DESCRIPTION:Join the Gowanus Dredgers\, the Gowanus Canal Conservancy and local research scientists to help find\, count\, and measure ribbed mussels living in the Gowanus Canal. As part of our ongoing research into this hearty\, helpful bivalve\, we are investigating the variety of conditions in which they live and thrive through annual population surveys. \nWe’ll provide safety gear\, gloves\, and tools for documentation to all participants. Wear shoes with good wet-surface grip and clothes appropriate for scrabbling around in the damp\, intertidal zones of our local waterway! \nWe’ll start and end the day at the 2nd St. Boathouse. Registration for this event is now closed. Join us next year! \nPlease note October 27 is the rain date for this event. In case of weather\, we will notify participants by 8am.
URL:https://gowanusdredgers.org/event/annual-ribbed-mussel-population-survey/
LOCATION:Gowanus Dredgers Canoe Club Boathouse\, 165 2nd St\, Brooklyn\, NY\, 11231\, United States
CATEGORIES:Science & Ecology
ATTACH;FMTTYPE=image/jpeg:https://gowanusdredgers.org/wp-content/uploads/2024/03/Calendar_Placeholders_Mussels.jpg
END:VEVENT
END:VCALENDAR