BEGIN:VCALENDAR
VERSION:2.0
PRODID:-//Gowanus Dredgers Canoe Club - ECPv6.15.20//NONSGML v1.0//EN
CALSCALE:GREGORIAN
METHOD:PUBLISH
X-WR-CALNAME:Gowanus Dredgers Canoe Club
X-ORIGINAL-URL:https://gowanusdredgers.org
X-WR-CALDESC:Events for Gowanus Dredgers Canoe Club
REFRESH-INTERVAL;VALUE=DURATION:PT1H
X-Robots-Tag:noindex
X-PUBLISHED-TTL:PT1H
BEGIN:VTIMEZONE
TZID:America/New_York
BEGIN:DAYLIGHT
TZOFFSETFROM:-0500
TZOFFSETTO:-0400
TZNAME:EDT
DTSTART:20230312T070000
END:DAYLIGHT
BEGIN:STANDARD
TZOFFSETFROM:-0400
TZOFFSETTO:-0500
TZNAME:EST
DTSTART:20231105T060000
END:STANDARD
BEGIN:DAYLIGHT
TZOFFSETFROM:-0500
TZOFFSETTO:-0400
TZNAME:EDT
DTSTART:20240310T070000
END:DAYLIGHT
BEGIN:STANDARD
TZOFFSETFROM:-0400
TZOFFSETTO:-0500
TZNAME:EST
DTSTART:20241103T060000
END:STANDARD
BEGIN:DAYLIGHT
TZOFFSETFROM:-0500
TZOFFSETTO:-0400
TZNAME:EDT
DTSTART:20250309T070000
END:DAYLIGHT
BEGIN:STANDARD
TZOFFSETFROM:-0400
TZOFFSETTO:-0500
TZNAME:EST
DTSTART:20251102T060000
END:STANDARD
BEGIN:DAYLIGHT
TZOFFSETFROM:-0500
TZOFFSETTO:-0400
TZNAME:EDT
DTSTART:20260308T070000
END:DAYLIGHT
BEGIN:STANDARD
TZOFFSETFROM:-0400
TZOFFSETTO:-0500
TZNAME:EST
DTSTART:20261101T060000
END:STANDARD
END:VTIMEZONE
BEGIN:VEVENT
DTSTART;TZID=America/New_York:20250913T110000
DTEND;TZID=America/New_York:20250913T150000
DTSTAMP:20260424T182528
CREATED:20250711T220338Z
LAST-MODIFIED:20250711T220338Z
UID:10000779-1757761200-1757775600@gowanusdredgers.org
SUMMARY:Public Paddling Days at Bush Terminal Park
DESCRIPTION:Demonstration Public Paddling Days at Bush Terminal Park\nSaturday\, July 19\, 2:00 PM to 6:00 PM\nSaturday\, August 16\, 1:00 PM to 5:00 PM\nSaturday\, September 13\, 11:00 AM to 3:00 PM \nJoin us for three weekends of on-water fun at Bush Terminal Piers Park with free\, walk-up paddling in Sunset Park. \nWe’re planning on having a mixed fleet of sit-on-top kayaks\, canoes\, and stand-up paddle boards — along with a wooden rowing dory\, available for use on a first-come\, first-served basis. Kayak Polo will have some demonstrations available in August and September! Check back for more updates from our partners. \nThe Gowanus Dredgers\, NYC Watertrail Association\, Red Hook Boaters\, The Kayak Foundation\, and New York Kayak Polo are presenting demonstration public paddling days at Bush Terminal Park (in Sunset Park\, Brooklyn) to show the Parks Department and other stakeholders what’s possible this unique location is made into an official NYC kayak and canoe launch site\, and to advocate for a community boathouse on site. Join us!
URL:https://gowanusdredgers.org/event/public-paddling-days-at-bush-terminal-park-3/2025-09-13/
LOCATION:Bush Terminal Piers Park\, Marginal St. &\, 43rd St\, Brooklyn\, NY 11232
CATEGORIES:Community,On the Water
ATTACH;FMTTYPE=image/jpeg:https://gowanusdredgers.org/wp-content/uploads/2025/07/NVergalla_Dredgers_DSC02861.jpg
END:VEVENT
BEGIN:VEVENT
DTSTART;TZID=America/New_York:20250816T130000
DTEND;TZID=America/New_York:20250816T170000
DTSTAMP:20260424T182528
CREATED:20250711T220338Z
LAST-MODIFIED:20250711T220338Z
UID:10000778-1755349200-1755363600@gowanusdredgers.org
SUMMARY:Public Paddling Days at Bush Terminal Park
DESCRIPTION:Demonstration Public Paddling Days at Bush Terminal Park\nSaturday\, July 19\, 2:00 PM to 6:00 PM\nSaturday\, August 16\, 1:00 PM to 5:00 PM\nSaturday\, September 13\, 11:00 AM to 3:00 PM \nJoin us for three weekends of on-water fun at Bush Terminal Piers Park with free\, walk-up paddling in Sunset Park. \nWe’re planning on having a mixed fleet of sit-on-top kayaks\, canoes\, and stand-up paddle boards — along with a wooden rowing dory\, available for use on a first-come\, first-served basis. Kayak Polo will have some demonstrations available in August and September! Check back for more updates from our partners. \nThe Gowanus Dredgers\, NYC Watertrail Association\, Red Hook Boaters\, The Kayak Foundation\, and New York Kayak Polo are presenting demonstration public paddling days at Bush Terminal Park (in Sunset Park\, Brooklyn) to show the Parks Department and other stakeholders what’s possible this unique location is made into an official NYC kayak and canoe launch site\, and to advocate for a community boathouse on site. Join us!
URL:https://gowanusdredgers.org/event/public-paddling-days-at-bush-terminal-park-3/2025-08-16/
LOCATION:Bush Terminal Piers Park\, Marginal St. &\, 43rd St\, Brooklyn\, NY 11232
CATEGORIES:Community,On the Water
ATTACH;FMTTYPE=image/jpeg:https://gowanusdredgers.org/wp-content/uploads/2025/07/NVergalla_Dredgers_DSC02861.jpg
END:VEVENT
BEGIN:VEVENT
DTSTART;TZID=America/New_York:20250719T140000
DTEND;TZID=America/New_York:20250719T180000
DTSTAMP:20260424T182528
CREATED:20250711T220338Z
LAST-MODIFIED:20250711T220338Z
UID:10000777-1752933600-1752948000@gowanusdredgers.org
SUMMARY:Public Paddling Days at Bush Terminal Park
DESCRIPTION:Demonstration Public Paddling Days at Bush Terminal Park\nSaturday\, July 19\, 2:00 PM to 6:00 PM\nSaturday\, August 16\, 1:00 PM to 5:00 PM\nSaturday\, September 13\, 11:00 AM to 3:00 PM \nJoin us for three weekends of on-water fun at Bush Terminal Piers Park with free\, walk-up paddling in Sunset Park. \nWe’re planning on having a mixed fleet of sit-on-top kayaks\, canoes\, and stand-up paddle boards — along with a wooden rowing dory\, available for use on a first-come\, first-served basis. Kayak Polo will have some demonstrations available in August and September! Check back for more updates from our partners. \nThe Gowanus Dredgers\, NYC Watertrail Association\, Red Hook Boaters\, The Kayak Foundation\, and New York Kayak Polo are presenting demonstration public paddling days at Bush Terminal Park (in Sunset Park\, Brooklyn) to show the Parks Department and other stakeholders what’s possible this unique location is made into an official NYC kayak and canoe launch site\, and to advocate for a community boathouse on site. Join us!
URL:https://gowanusdredgers.org/event/public-paddling-days-at-bush-terminal-park-3/2025-07-19/
LOCATION:Bush Terminal Piers Park\, Marginal St. &\, 43rd St\, Brooklyn\, NY 11232
CATEGORIES:Community,On the Water
ATTACH;FMTTYPE=image/jpeg:https://gowanusdredgers.org/wp-content/uploads/2025/07/NVergalla_Dredgers_DSC02861.jpg
END:VEVENT
BEGIN:VEVENT
DTSTART;TZID=America/New_York:20250508T180000
DTEND;TZID=America/New_York:20250508T193000
DTSTAMP:20260424T182528
CREATED:20250505T145002Z
LAST-MODIFIED:20250505T145002Z
UID:10000596-1746727200-1746732600@gowanusdredgers.org
SUMMARY:Meeting: Help Grow Public Boating in Sunset Park!
DESCRIPTION:The NYC Water Trail Association and the Gowanus Dredgers are looking to offer another round of community boating events in Sunset Park this summer! We’ll be holding an organizational meeting on Thursday May 8 from 6-7:30 PM. The location is the lobby of Building A\, a waterfront warehouse at the end of 41st Street that was recently renovated by the city’s Economic Development Corporation.\n\nPlease consider joining us if you’re interested in seeing more community boating in Sunset Park! Whether you’re interested in volunteering or just participating in this summer’s events\, this event’s for you.\n\nWe’ll be deciding on dates and discussing logistics\, partnerships and promotional strategies\, etc. — as well as discussing the long-term possibilities for recreational boating and waterfront education in Sunset Park. The EDC plans to offer a substantial amount of ground floor space in Building A for use by community groups and water-dependent nonprofits\, so we’ll be discussing that\, as well as some of the nearby possibilities for water access.
URL:https://gowanusdredgers.org/event/meeting-help-grow-public-boating-in-sunset-park/
LOCATION:MADE Bush Terminal\, 13 42nd St\, Brooklyn\, NY\, 11232\, United States
CATEGORIES:Community
ATTACH;FMTTYPE=image/webp:https://gowanusdredgers.org/wp-content/uploads/2025/05/0-1.jpeg
END:VEVENT
BEGIN:VEVENT
DTSTART;TZID=America/New_York:20240824T120000
DTEND;TZID=America/New_York:20240824T160000
DTSTAMP:20260424T182528
CREATED:20240724T204705Z
LAST-MODIFIED:20240724T204705Z
UID:10000310-1724500800-1724515200@gowanusdredgers.org
SUMMARY:Public Paddling Days at Bush Terminal Park
DESCRIPTION:Demonstration Public Paddling Days at Bush Terminal Park\nSaturday\, July 27\, noon to 4:00 PM\nSaturday\, August 24\, noon to 4:00 PM \nThe Gowanus Dredgers\, NYC Watertrail Association\, and Red Hook Boaters\nare presenting demonstration public paddling days at Bush Terminal Park\n(in Sunset Park\, Brooklyn) to show the Parks Department and other\nstakeholders what’s possible if a boathouse is located at this unique\nlocation and if it’s made into an official NYC kayak and canoe launch\nsite. They’re planning on having a mixed fleet of sit-on-top kayaks and\ncanoes\, along with a wooden rowing dory\, available for use on a\nfirst-come\, first-served basis.
URL:https://gowanusdredgers.org/event/public-paddling-days-at-bush-terminal-park/2024-08-24/
LOCATION:Bush Terminal Piers Park\, Marginal St. &\, 43rd St\, Brooklyn\, NY 11232
CATEGORIES:On the Water
ATTACH;FMTTYPE=image/webp:https://gowanusdredgers.org/wp-content/uploads/2024/07/2024_card_front.webp
END:VEVENT
BEGIN:VEVENT
DTSTART;TZID=America/New_York:20240727T120000
DTEND;TZID=America/New_York:20240727T160000
DTSTAMP:20260424T182528
CREATED:20240724T204705Z
LAST-MODIFIED:20240724T204705Z
UID:10000309-1722081600-1722096000@gowanusdredgers.org
SUMMARY:Public Paddling Days at Bush Terminal Park
DESCRIPTION:Demonstration Public Paddling Days at Bush Terminal Park\nSaturday\, July 27\, noon to 4:00 PM\nSaturday\, August 24\, noon to 4:00 PM \nThe Gowanus Dredgers\, NYC Watertrail Association\, and Red Hook Boaters\nare presenting demonstration public paddling days at Bush Terminal Park\n(in Sunset Park\, Brooklyn) to show the Parks Department and other\nstakeholders what’s possible if a boathouse is located at this unique\nlocation and if it’s made into an official NYC kayak and canoe launch\nsite. They’re planning on having a mixed fleet of sit-on-top kayaks and\ncanoes\, along with a wooden rowing dory\, available for use on a\nfirst-come\, first-served basis.
URL:https://gowanusdredgers.org/event/public-paddling-days-at-bush-terminal-park/2024-07-27/
LOCATION:Bush Terminal Piers Park\, Marginal St. &\, 43rd St\, Brooklyn\, NY 11232
CATEGORIES:On the Water
ATTACH;FMTTYPE=image/webp:https://gowanusdredgers.org/wp-content/uploads/2024/07/2024_card_front.webp
END:VEVENT
END:VCALENDAR