BEGIN:VCALENDAR
VERSION:2.0
PRODID:-//Gowanus Dredgers Canoe Club - ECPv6.15.20//NONSGML v1.0//EN
CALSCALE:GREGORIAN
METHOD:PUBLISH
X-ORIGINAL-URL:https://gowanusdredgers.org
X-WR-CALDESC:Events for Gowanus Dredgers Canoe Club
REFRESH-INTERVAL;VALUE=DURATION:PT1H
X-Robots-Tag:noindex
X-PUBLISHED-TTL:PT1H
BEGIN:VTIMEZONE
TZID:America/New_York
BEGIN:DAYLIGHT
TZOFFSETFROM:-0500
TZOFFSETTO:-0400
TZNAME:EDT
DTSTART:20230312T070000
END:DAYLIGHT
BEGIN:STANDARD
TZOFFSETFROM:-0400
TZOFFSETTO:-0500
TZNAME:EST
DTSTART:20231105T060000
END:STANDARD
BEGIN:DAYLIGHT
TZOFFSETFROM:-0500
TZOFFSETTO:-0400
TZNAME:EDT
DTSTART:20240310T070000
END:DAYLIGHT
BEGIN:STANDARD
TZOFFSETFROM:-0400
TZOFFSETTO:-0500
TZNAME:EST
DTSTART:20241103T060000
END:STANDARD
BEGIN:DAYLIGHT
TZOFFSETFROM:-0500
TZOFFSETTO:-0400
TZNAME:EDT
DTSTART:20250309T070000
END:DAYLIGHT
BEGIN:STANDARD
TZOFFSETFROM:-0400
TZOFFSETTO:-0500
TZNAME:EST
DTSTART:20251102T060000
END:STANDARD
END:VTIMEZONE
BEGIN:VEVENT
DTSTART;TZID=America/New_York:20241130T130000
DTEND;TZID=America/New_York:20241130T170000
DTSTAMP:20260424T185903
CREATED:20240926T151009Z
LAST-MODIFIED:20241027T140348Z
UID:10000384-1732971600-1732986000@gowanusdredgers.org
SUMMARY:Jos Prol: ARRIVALS
DESCRIPTION:The Gowanus Dredgers are proud to present “ARRIVALS” by Joshua Prol. \nJos Prol was born in the Garden State\, fifteen miles west of the Hudson River. \nSince early childhood he explored pockets of nature nestled in urban sprawl and paddled on waterways of the New York Metropolitan area like the Passaic\, Raritan and Bronx Rivers. This fascination continued when he moved to New York in 2009 and ultimately led him to the home he found as a member of the Gowanus Dredgers. \nInterests in mathematics\, artistic expression and construction led him through an education in architecture and a career in structural engineering. Technical experience with the built environment\, deep interest in the rhythms of nature and unique location in a place where all meet in a dramatic way has inspired his new work. \nHe explores the relationship of things comprehensively ordered by human hand with bodies guided by forces beyond human control. He looks for patterns of order that may exist in fields that initially present themselves as chaos. He wonders whether a human individual has more similarities with a piece of driftwood that floats into the Gowanus Canal than we might think. \nJos Prol: ARRIVALS \nReception: November 9 (5-8pm)\nOpen 1-5 PM Saturdays in November [9\, 16\, 23\, 30] or by appointment
URL:https://gowanusdredgers.org/event/joshua-prol-gowanus-arrivals/2024-11-30/
LOCATION:Gowanus Dredgers Canoe Club Boathouse\, 165 2nd St\, Brooklyn\, NY\, 11231\, United States
CATEGORIES:Arts
ATTACH;FMTTYPE=image/webp:https://gowanusdredgers.org/wp-content/uploads/2024/09/DSC09077-scaled.jpg
END:VEVENT
BEGIN:VEVENT
DTSTART;TZID=America/New_York:20241123T130000
DTEND;TZID=America/New_York:20241123T170000
DTSTAMP:20260424T185903
CREATED:20240926T151009Z
LAST-MODIFIED:20241027T140348Z
UID:10000383-1732366800-1732381200@gowanusdredgers.org
SUMMARY:Jos Prol: ARRIVALS
DESCRIPTION:The Gowanus Dredgers are proud to present “ARRIVALS” by Joshua Prol. \nJos Prol was born in the Garden State\, fifteen miles west of the Hudson River. \nSince early childhood he explored pockets of nature nestled in urban sprawl and paddled on waterways of the New York Metropolitan area like the Passaic\, Raritan and Bronx Rivers. This fascination continued when he moved to New York in 2009 and ultimately led him to the home he found as a member of the Gowanus Dredgers. \nInterests in mathematics\, artistic expression and construction led him through an education in architecture and a career in structural engineering. Technical experience with the built environment\, deep interest in the rhythms of nature and unique location in a place where all meet in a dramatic way has inspired his new work. \nHe explores the relationship of things comprehensively ordered by human hand with bodies guided by forces beyond human control. He looks for patterns of order that may exist in fields that initially present themselves as chaos. He wonders whether a human individual has more similarities with a piece of driftwood that floats into the Gowanus Canal than we might think. \nJos Prol: ARRIVALS \nReception: November 9 (5-8pm)\nOpen 1-5 PM Saturdays in November [9\, 16\, 23\, 30] or by appointment
URL:https://gowanusdredgers.org/event/joshua-prol-gowanus-arrivals/2024-11-23/
LOCATION:Gowanus Dredgers Canoe Club Boathouse\, 165 2nd St\, Brooklyn\, NY\, 11231\, United States
CATEGORIES:Arts
ATTACH;FMTTYPE=image/webp:https://gowanusdredgers.org/wp-content/uploads/2024/09/DSC09077-scaled.jpg
END:VEVENT
BEGIN:VEVENT
DTSTART;TZID=America/New_York:20241116T130000
DTEND;TZID=America/New_York:20241116T170000
DTSTAMP:20260424T185903
CREATED:20240926T151009Z
LAST-MODIFIED:20241027T140348Z
UID:10000382-1731762000-1731776400@gowanusdredgers.org
SUMMARY:Jos Prol: ARRIVALS
DESCRIPTION:The Gowanus Dredgers are proud to present “ARRIVALS” by Joshua Prol. \nJos Prol was born in the Garden State\, fifteen miles west of the Hudson River. \nSince early childhood he explored pockets of nature nestled in urban sprawl and paddled on waterways of the New York Metropolitan area like the Passaic\, Raritan and Bronx Rivers. This fascination continued when he moved to New York in 2009 and ultimately led him to the home he found as a member of the Gowanus Dredgers. \nInterests in mathematics\, artistic expression and construction led him through an education in architecture and a career in structural engineering. Technical experience with the built environment\, deep interest in the rhythms of nature and unique location in a place where all meet in a dramatic way has inspired his new work. \nHe explores the relationship of things comprehensively ordered by human hand with bodies guided by forces beyond human control. He looks for patterns of order that may exist in fields that initially present themselves as chaos. He wonders whether a human individual has more similarities with a piece of driftwood that floats into the Gowanus Canal than we might think. \nJos Prol: ARRIVALS \nReception: November 9 (5-8pm)\nOpen 1-5 PM Saturdays in November [9\, 16\, 23\, 30] or by appointment
URL:https://gowanusdredgers.org/event/joshua-prol-gowanus-arrivals/2024-11-16/
LOCATION:Gowanus Dredgers Canoe Club Boathouse\, 165 2nd St\, Brooklyn\, NY\, 11231\, United States
CATEGORIES:Arts
ATTACH;FMTTYPE=image/webp:https://gowanusdredgers.org/wp-content/uploads/2024/09/DSC09077-scaled.jpg
END:VEVENT
BEGIN:VEVENT
DTSTART;TZID=America/New_York:20241109T130000
DTEND;TZID=America/New_York:20241109T200000
DTSTAMP:20260424T185903
CREATED:20240926T151009Z
LAST-MODIFIED:20241027T140348Z
UID:10000378-1731157200-1731182400@gowanusdredgers.org
SUMMARY:Jos Prol: ARRIVALS
DESCRIPTION:The Gowanus Dredgers are proud to present “ARRIVALS” by Joshua Prol. \nJos Prol was born in the Garden State\, fifteen miles west of the Hudson River. \nSince early childhood he explored pockets of nature nestled in urban sprawl and paddled on waterways of the New York Metropolitan area like the Passaic\, Raritan and Bronx Rivers. This fascination continued when he moved to New York in 2009 and ultimately led him to the home he found as a member of the Gowanus Dredgers. \nInterests in mathematics\, artistic expression and construction led him through an education in architecture and a career in structural engineering. Technical experience with the built environment\, deep interest in the rhythms of nature and unique location in a place where all meet in a dramatic way has inspired his new work. \nHe explores the relationship of things comprehensively ordered by human hand with bodies guided by forces beyond human control. He looks for patterns of order that may exist in fields that initially present themselves as chaos. He wonders whether a human individual has more similarities with a piece of driftwood that floats into the Gowanus Canal than we might think. \nJos Prol: ARRIVALS \nReception: November 9 (5-8pm)\nOpen 1-5 PM Saturdays in November [9\, 16\, 23\, 30] or by appointment
URL:https://gowanusdredgers.org/event/joshua-prol-gowanus-arrivals/2024-11-09/
LOCATION:Gowanus Dredgers Canoe Club Boathouse\, 165 2nd St\, Brooklyn\, NY\, 11231\, United States
CATEGORIES:Arts
ATTACH;FMTTYPE=image/webp:https://gowanusdredgers.org/wp-content/uploads/2024/09/DSC09077-scaled.jpg
END:VEVENT
BEGIN:VEVENT
DTSTART;TZID=America/New_York:20241026T130000
DTEND;TZID=America/New_York:20241026T170000
DTSTAMP:20260424T185903
CREATED:20240920T132138Z
LAST-MODIFIED:20241021T132410Z
UID:10000391-1729947600-1729962000@gowanusdredgers.org
SUMMARY:Gowanus Dredgers’ Members Exhibition
DESCRIPTION:Ahoy! The Gowanus Dredgers Boathouse is proud to present a group exhibition featuring artwork by members of the Gowanus Dredgers Canoe Club. Presented as part of Gowanus Open Studios 2024\, the exhibit includes sculpture\, photography\, painting\, drawing\, and collage that showcase the breadth of creativity and craftsmanship among the Dredgers’ members. \nFeatured artists include: \n\nGary Francis\nCallie Hirsh\nNene Humphry\nMia Martelli\nJos Prol\nNicole Vergalla\nBrad Vogel\n\nThe group exhibition will be on view October 5–26 (Saturdays\, 1–5pm or by appointment). \nThe Boathouse will be open 12-6pm on Saturday\, October 19 & Sunday\, October 20 for Gowanus Open Studios and Open House New York. \n\n\n\n﻿
URL:https://gowanusdredgers.org/event/gowanus-dredgers-members-exhibition/2024-10-26/
LOCATION:Gowanus Dredgers Canoe Club Boathouse\, 165 2nd St\, Brooklyn\, NY\, 11231\, United States
CATEGORIES:Arts
ATTACH;FMTTYPE=image/webp:https://gowanusdredgers.org/wp-content/uploads/2024/09/GowanusDredgers_Boathouse_DSC05280-scaled.jpg
END:VEVENT
BEGIN:VEVENT
DTSTART;TZID=America/New_York:20241020T120000
DTEND;TZID=America/New_York:20241020T180000
DTSTAMP:20260424T185903
CREATED:20240920T132138Z
LAST-MODIFIED:20241021T132410Z
UID:10000367-1729425600-1729447200@gowanusdredgers.org
SUMMARY:Gowanus Dredgers’ Members Exhibition
DESCRIPTION:Ahoy! The Gowanus Dredgers Boathouse is proud to present a group exhibition featuring artwork by members of the Gowanus Dredgers Canoe Club. Presented as part of Gowanus Open Studios 2024\, the exhibit includes sculpture\, photography\, painting\, drawing\, and collage that showcase the breadth of creativity and craftsmanship among the Dredgers’ members. \nFeatured artists include: \n\nGary Francis\nCallie Hirsh\nNene Humphry\nMia Martelli\nJos Prol\nNicole Vergalla\nBrad Vogel\n\nThe group exhibition will be on view October 5–26 (Saturdays\, 1–5pm or by appointment). \nThe Boathouse will be open 12-6pm on Saturday\, October 19 & Sunday\, October 20 for Gowanus Open Studios and Open House New York. \n\n\n\n﻿
URL:https://gowanusdredgers.org/event/gowanus-dredgers-members-exhibition/2024-10-20/
LOCATION:Gowanus Dredgers Canoe Club Boathouse\, 165 2nd St\, Brooklyn\, NY\, 11231\, United States
CATEGORIES:Arts
ATTACH;FMTTYPE=image/webp:https://gowanusdredgers.org/wp-content/uploads/2024/09/GowanusDredgers_Boathouse_DSC05280-scaled.jpg
END:VEVENT
BEGIN:VEVENT
DTSTART;TZID=America/New_York:20241019T120000
DTEND;TZID=America/New_York:20241019T180000
DTSTAMP:20260424T185903
CREATED:20240920T132138Z
LAST-MODIFIED:20241021T132410Z
UID:10000366-1729339200-1729360800@gowanusdredgers.org
SUMMARY:Gowanus Dredgers’ Members Exhibition
DESCRIPTION:Ahoy! The Gowanus Dredgers Boathouse is proud to present a group exhibition featuring artwork by members of the Gowanus Dredgers Canoe Club. Presented as part of Gowanus Open Studios 2024\, the exhibit includes sculpture\, photography\, painting\, drawing\, and collage that showcase the breadth of creativity and craftsmanship among the Dredgers’ members. \nFeatured artists include: \n\nGary Francis\nCallie Hirsh\nNene Humphry\nMia Martelli\nJos Prol\nNicole Vergalla\nBrad Vogel\n\nThe group exhibition will be on view October 5–26 (Saturdays\, 1–5pm or by appointment). \nThe Boathouse will be open 12-6pm on Saturday\, October 19 & Sunday\, October 20 for Gowanus Open Studios and Open House New York. \n\n\n\n﻿
URL:https://gowanusdredgers.org/event/gowanus-dredgers-members-exhibition/2024-10-19/
LOCATION:Gowanus Dredgers Canoe Club Boathouse\, 165 2nd St\, Brooklyn\, NY\, 11231\, United States
CATEGORIES:Arts
ATTACH;FMTTYPE=image/webp:https://gowanusdredgers.org/wp-content/uploads/2024/09/GowanusDredgers_Boathouse_DSC05280-scaled.jpg
END:VEVENT
BEGIN:VEVENT
DTSTART;TZID=America/New_York:20241012T130000
DTEND;TZID=America/New_York:20241012T170000
DTSTAMP:20260424T185903
CREATED:20240920T132138Z
LAST-MODIFIED:20241021T132410Z
UID:10000365-1728738000-1728752400@gowanusdredgers.org
SUMMARY:Gowanus Dredgers’ Members Exhibition
DESCRIPTION:Ahoy! The Gowanus Dredgers Boathouse is proud to present a group exhibition featuring artwork by members of the Gowanus Dredgers Canoe Club. Presented as part of Gowanus Open Studios 2024\, the exhibit includes sculpture\, photography\, painting\, drawing\, and collage that showcase the breadth of creativity and craftsmanship among the Dredgers’ members. \nFeatured artists include: \n\nGary Francis\nCallie Hirsh\nNene Humphry\nMia Martelli\nJos Prol\nNicole Vergalla\nBrad Vogel\n\nThe group exhibition will be on view October 5–26 (Saturdays\, 1–5pm or by appointment). \nThe Boathouse will be open 12-6pm on Saturday\, October 19 & Sunday\, October 20 for Gowanus Open Studios and Open House New York. \n\n\n\n﻿
URL:https://gowanusdredgers.org/event/gowanus-dredgers-members-exhibition/2024-10-12/
LOCATION:Gowanus Dredgers Canoe Club Boathouse\, 165 2nd St\, Brooklyn\, NY\, 11231\, United States
CATEGORIES:Arts
ATTACH;FMTTYPE=image/webp:https://gowanusdredgers.org/wp-content/uploads/2024/09/GowanusDredgers_Boathouse_DSC05280-scaled.jpg
END:VEVENT
BEGIN:VEVENT
DTSTART;TZID=America/New_York:20241005T130000
DTEND;TZID=America/New_York:20241005T170000
DTSTAMP:20260424T185903
CREATED:20240920T132138Z
LAST-MODIFIED:20241021T132410Z
UID:10000369-1728133200-1728147600@gowanusdredgers.org
SUMMARY:Gowanus Dredgers’ Members Exhibition
DESCRIPTION:Ahoy! The Gowanus Dredgers Boathouse is proud to present a group exhibition featuring artwork by members of the Gowanus Dredgers Canoe Club. Presented as part of Gowanus Open Studios 2024\, the exhibit includes sculpture\, photography\, painting\, drawing\, and collage that showcase the breadth of creativity and craftsmanship among the Dredgers’ members. \nFeatured artists include: \n\nGary Francis\nCallie Hirsh\nNene Humphry\nMia Martelli\nJos Prol\nNicole Vergalla\nBrad Vogel\n\nThe group exhibition will be on view October 5–26 (Saturdays\, 1–5pm or by appointment). \nThe Boathouse will be open 12-6pm on Saturday\, October 19 & Sunday\, October 20 for Gowanus Open Studios and Open House New York. \n\n\n\n﻿
URL:https://gowanusdredgers.org/event/gowanus-dredgers-members-exhibition/2024-10-05/
LOCATION:Gowanus Dredgers Canoe Club Boathouse\, 165 2nd St\, Brooklyn\, NY\, 11231\, United States
CATEGORIES:Arts
ATTACH;FMTTYPE=image/webp:https://gowanusdredgers.org/wp-content/uploads/2024/09/GowanusDredgers_Boathouse_DSC05280-scaled.jpg
END:VEVENT
END:VCALENDAR