BEGIN:VCALENDAR
VERSION:2.0
PRODID:-//Gowanus Dredgers Canoe Club - ECPv6.15.20//NONSGML v1.0//EN
CALSCALE:GREGORIAN
METHOD:PUBLISH
X-ORIGINAL-URL:https://gowanusdredgers.org
X-WR-CALDESC:Events for Gowanus Dredgers Canoe Club
REFRESH-INTERVAL;VALUE=DURATION:PT1H
X-Robots-Tag:noindex
X-PUBLISHED-TTL:PT1H
BEGIN:VTIMEZONE
TZID:America/New_York
BEGIN:DAYLIGHT
TZOFFSETFROM:-0500
TZOFFSETTO:-0400
TZNAME:EDT
DTSTART:20230312T070000
END:DAYLIGHT
BEGIN:STANDARD
TZOFFSETFROM:-0400
TZOFFSETTO:-0500
TZNAME:EST
DTSTART:20231105T060000
END:STANDARD
BEGIN:DAYLIGHT
TZOFFSETFROM:-0500
TZOFFSETTO:-0400
TZNAME:EDT
DTSTART:20240310T070000
END:DAYLIGHT
BEGIN:STANDARD
TZOFFSETFROM:-0400
TZOFFSETTO:-0500
TZNAME:EST
DTSTART:20241103T060000
END:STANDARD
BEGIN:DAYLIGHT
TZOFFSETFROM:-0500
TZOFFSETTO:-0400
TZNAME:EDT
DTSTART:20250309T070000
END:DAYLIGHT
BEGIN:STANDARD
TZOFFSETFROM:-0400
TZOFFSETTO:-0500
TZNAME:EST
DTSTART:20251102T060000
END:STANDARD
END:VTIMEZONE
BEGIN:VEVENT
DTSTART;TZID=America/New_York:20240928T130000
DTEND;TZID=America/New_York:20240928T170000
DTSTAMP:20260424T234833
CREATED:20240819T151856Z
LAST-MODIFIED:20240819T151856Z
UID:10000339-1727528400-1727542800@gowanusdredgers.org
SUMMARY:Janice McDonnell and Jen Ferguson – Dual Currents: Perspectives in Paint
DESCRIPTION:The Gowanus Dredgers Canoe Club is proud to present “Dual Currents: Perspectives in Paint\,” an exhibition by local artists Janice McDonnell and Jen Ferguson. While McDonnell’s vision starts from a place of representation\, Ferguson’s portrayals spring from an idealized imagining. Together their contrasting approaches transform the ways in which familiar and overlooked surroundings can be elevated and appreciated. \nDUAL CURRENTS: Perspectives in Paint\nReception: September 6 (5-8pm)\nOpen 1-5 PM Saturdays in September [7\, 14\, 21\,28] or by appointment \nClosing Reception: September 28 (1-5pm)\n\n\n\n\n\n			\n				\n			\n				\n				“Blue Heron” by Jen Ferguson\n				\n			\n				\n			\n				\n				“Sightseeing On The Canal” by Janice McDonnell\n				\n			\n				\n			\n				\n				“Overshadowed” by Janice McDonnell\n				\n			\n				\n			\n				\n				“Traveling Companions” by Janice McDonnell
URL:https://gowanusdredgers.org/event/janice-mcdonnell-and-jen-ferguson-dual-currents-perspectives-in-paint/2024-09-28/
LOCATION:Gowanus Dredgers Canoe Club Boathouse\, 165 2nd St\, Brooklyn\, NY\, 11231\, United States
CATEGORIES:Arts
ATTACH;FMTTYPE=image/webp:https://gowanusdredgers.org/wp-content/uploads/2024/08/Banner.jpg
END:VEVENT
BEGIN:VEVENT
DTSTART;TZID=America/New_York:20240921T130000
DTEND;TZID=America/New_York:20240921T170000
DTSTAMP:20260424T234833
CREATED:20240819T151856Z
LAST-MODIFIED:20240819T151856Z
UID:10000338-1726923600-1726938000@gowanusdredgers.org
SUMMARY:Janice McDonnell and Jen Ferguson – Dual Currents: Perspectives in Paint
DESCRIPTION:The Gowanus Dredgers Canoe Club is proud to present “Dual Currents: Perspectives in Paint\,” an exhibition by local artists Janice McDonnell and Jen Ferguson. While McDonnell’s vision starts from a place of representation\, Ferguson’s portrayals spring from an idealized imagining. Together their contrasting approaches transform the ways in which familiar and overlooked surroundings can be elevated and appreciated. \nDUAL CURRENTS: Perspectives in Paint\nReception: September 6 (5-8pm)\nOpen 1-5 PM Saturdays in September [7\, 14\, 21\,28] or by appointment \nClosing Reception: September 28 (1-5pm)\n\n\n\n\n\n			\n				\n			\n				\n				“Traveling Companions” by Janice McDonnell\n				\n			\n				\n			\n				\n				“Overshadowed” by Janice McDonnell\n				\n			\n				\n			\n				\n				“Sightseeing On The Canal” by Janice McDonnell\n				\n			\n				\n			\n				\n				“Blue Heron” by Jen Ferguson
URL:https://gowanusdredgers.org/event/janice-mcdonnell-and-jen-ferguson-dual-currents-perspectives-in-paint/2024-09-21/
LOCATION:Gowanus Dredgers Canoe Club Boathouse\, 165 2nd St\, Brooklyn\, NY\, 11231\, United States
CATEGORIES:Arts
ATTACH;FMTTYPE=image/webp:https://gowanusdredgers.org/wp-content/uploads/2024/08/Banner.jpg
END:VEVENT
BEGIN:VEVENT
DTSTART;TZID=America/New_York:20240914T130000
DTEND;TZID=America/New_York:20240914T170000
DTSTAMP:20260424T234833
CREATED:20240819T151856Z
LAST-MODIFIED:20240819T151856Z
UID:10000337-1726318800-1726333200@gowanusdredgers.org
SUMMARY:Janice McDonnell and Jen Ferguson – Dual Currents: Perspectives in Paint
DESCRIPTION:The Gowanus Dredgers Canoe Club is proud to present “Dual Currents: Perspectives in Paint\,” an exhibition by local artists Janice McDonnell and Jen Ferguson. While McDonnell’s vision starts from a place of representation\, Ferguson’s portrayals spring from an idealized imagining. Together their contrasting approaches transform the ways in which familiar and overlooked surroundings can be elevated and appreciated. \nDUAL CURRENTS: Perspectives in Paint\nReception: September 6 (5-8pm)\nOpen 1-5 PM Saturdays in September [7\, 14\, 21\,28] or by appointment \nClosing Reception: September 28 (1-5pm)\n\n\n\n\n\n			\n				\n			\n				\n				“Overshadowed” by Janice McDonnell\n				\n			\n				\n			\n				\n				“Traveling Companions” by Janice McDonnell\n				\n			\n				\n			\n				\n				“Sightseeing On The Canal” by Janice McDonnell\n				\n			\n				\n			\n				\n				“Blue Heron” by Jen Ferguson
URL:https://gowanusdredgers.org/event/janice-mcdonnell-and-jen-ferguson-dual-currents-perspectives-in-paint/2024-09-14/
LOCATION:Gowanus Dredgers Canoe Club Boathouse\, 165 2nd St\, Brooklyn\, NY\, 11231\, United States
CATEGORIES:Arts
ATTACH;FMTTYPE=image/webp:https://gowanusdredgers.org/wp-content/uploads/2024/08/Banner.jpg
END:VEVENT
BEGIN:VEVENT
DTSTART;TZID=America/New_York:20240907T130000
DTEND;TZID=America/New_York:20240907T170000
DTSTAMP:20260424T234833
CREATED:20240819T151856Z
LAST-MODIFIED:20240819T151856Z
UID:10000336-1725714000-1725728400@gowanusdredgers.org
SUMMARY:Janice McDonnell and Jen Ferguson – Dual Currents: Perspectives in Paint
DESCRIPTION:The Gowanus Dredgers Canoe Club is proud to present “Dual Currents: Perspectives in Paint\,” an exhibition by local artists Janice McDonnell and Jen Ferguson. While McDonnell’s vision starts from a place of representation\, Ferguson’s portrayals spring from an idealized imagining. Together their contrasting approaches transform the ways in which familiar and overlooked surroundings can be elevated and appreciated. \nDUAL CURRENTS: Perspectives in Paint\nReception: September 6 (5-8pm)\nOpen 1-5 PM Saturdays in September [7\, 14\, 21\,28] or by appointment \nClosing Reception: September 28 (1-5pm)\n\n\n\n\n\n			\n				\n			\n				\n				“Blue Heron” by Jen Ferguson\n				\n			\n				\n			\n				\n				“Overshadowed” by Janice McDonnell\n				\n			\n				\n			\n				\n				“Traveling Companions” by Janice McDonnell\n				\n			\n				\n			\n				\n				“Sightseeing On The Canal” by Janice McDonnell
URL:https://gowanusdredgers.org/event/janice-mcdonnell-and-jen-ferguson-dual-currents-perspectives-in-paint/2024-09-07/
LOCATION:Gowanus Dredgers Canoe Club Boathouse\, 165 2nd St\, Brooklyn\, NY\, 11231\, United States
CATEGORIES:Arts
ATTACH;FMTTYPE=image/webp:https://gowanusdredgers.org/wp-content/uploads/2024/08/Banner.jpg
END:VEVENT
BEGIN:VEVENT
DTSTART;TZID=America/New_York:20240906T170000
DTEND;TZID=America/New_York:20240906T200000
DTSTAMP:20260424T234833
CREATED:20240819T151856Z
LAST-MODIFIED:20240819T151856Z
UID:10000335-1725642000-1725652800@gowanusdredgers.org
SUMMARY:Janice McDonnell and Jen Ferguson – Dual Currents: Perspectives in Paint
DESCRIPTION:The Gowanus Dredgers Canoe Club is proud to present “Dual Currents: Perspectives in Paint\,” an exhibition by local artists Janice McDonnell and Jen Ferguson. While McDonnell’s vision starts from a place of representation\, Ferguson’s portrayals spring from an idealized imagining. Together their contrasting approaches transform the ways in which familiar and overlooked surroundings can be elevated and appreciated. \nDUAL CURRENTS: Perspectives in Paint\nReception: September 6 (5-8pm)\nOpen 1-5 PM Saturdays in September [7\, 14\, 21\,28] or by appointment \nClosing Reception: September 28 (1-5pm)\n\n\n\n\n\n			\n				\n			\n				\n				“Blue Heron” by Jen Ferguson\n				\n			\n				\n			\n				\n				“Traveling Companions” by Janice McDonnell\n				\n			\n				\n			\n				\n				“Sightseeing On The Canal” by Janice McDonnell\n				\n			\n				\n			\n				\n				“Overshadowed” by Janice McDonnell
URL:https://gowanusdredgers.org/event/janice-mcdonnell-and-jen-ferguson-dual-currents-perspectives-in-paint/2024-09-06/
LOCATION:Gowanus Dredgers Canoe Club Boathouse\, 165 2nd St\, Brooklyn\, NY\, 11231\, United States
CATEGORIES:Arts
ATTACH;FMTTYPE=image/webp:https://gowanusdredgers.org/wp-content/uploads/2024/08/Banner.jpg
END:VEVENT
END:VCALENDAR