BEGIN:VCALENDAR
VERSION:2.0
PRODID:-//Gowanus Dredgers Canoe Club - ECPv6.15.20//NONSGML v1.0//EN
CALSCALE:GREGORIAN
METHOD:PUBLISH
X-WR-CALNAME:Gowanus Dredgers Canoe Club
X-ORIGINAL-URL:https://gowanusdredgers.org
X-WR-CALDESC:Events for Gowanus Dredgers Canoe Club
REFRESH-INTERVAL;VALUE=DURATION:PT1H
X-Robots-Tag:noindex
X-PUBLISHED-TTL:PT1H
BEGIN:VTIMEZONE
TZID:America/New_York
BEGIN:DAYLIGHT
TZOFFSETFROM:-0500
TZOFFSETTO:-0400
TZNAME:EDT
DTSTART:20240310T070000
END:DAYLIGHT
BEGIN:STANDARD
TZOFFSETFROM:-0400
TZOFFSETTO:-0500
TZNAME:EST
DTSTART:20241103T060000
END:STANDARD
BEGIN:DAYLIGHT
TZOFFSETFROM:-0500
TZOFFSETTO:-0400
TZNAME:EDT
DTSTART:20250309T070000
END:DAYLIGHT
BEGIN:STANDARD
TZOFFSETFROM:-0400
TZOFFSETTO:-0500
TZNAME:EST
DTSTART:20251102T060000
END:STANDARD
BEGIN:DAYLIGHT
TZOFFSETFROM:-0500
TZOFFSETTO:-0400
TZNAME:EDT
DTSTART:20260308T070000
END:DAYLIGHT
BEGIN:STANDARD
TZOFFSETFROM:-0400
TZOFFSETTO:-0500
TZNAME:EST
DTSTART:20261101T060000
END:STANDARD
END:VTIMEZONE
BEGIN:VEVENT
DTSTART;TZID=America/New_York:20250801T193000
DTEND;TZID=America/New_York:20250801T213000
DTSTAMP:20260424T230937
CREATED:20250422T205454Z
LAST-MODIFIED:20250729T213734Z
UID:10000594-1754076600-1754083800@gowanusdredgers.org
SUMMARY:Unheard-of + The Gowanus Dredgers Present: System Architecture
DESCRIPTION:Multimedia exploration of digital excess and AI featuring ensemble and Vocaloid\n\n\n\n\nSystem Architecture: Quiñones and Van Zandt Lane\nDate: August 1st\, 2025\, 8PM Music\, 7:30PM Boat Launch\nLocation: Gowanus Dredgers Bunker (2 19th Street Brooklyn\, NY 11232)\n🎟️ Free RSVP for land viewing\, Paddle Tickets available here 🎟️ \nSystem Architecture features the workshop premiere of Eyecandy\, a multimedia song-cycle by Christian Quiñones for chamber ensemble and virtual singer (Vocaloid Synthesizer)\, exploring themes of virtual excess\, internet fatigue\, and digital humor\, drawing from personal experiences with mental health and the online world. Christian Quiñones is a Puerto Rican composer who explores personal and vulnerable stories through the lens of cultural identity. From sampling to auto-tune\, interactive multimedia\, Christian is interested in interacting with existing music to create intertextual narratives. We also feature Quinones’s Loud Music for Quiet Places. \n—— \nThis program is supported\, in part\, by public funds from the New York City Department of Cultural Affairs in partnership with the City Council. \nUnheard-of’s performances are made possible by the New York State Council on the Arts with the support of the Office of the Governor and the New York State Legislature. \nWeather may postpone event.
URL:https://gowanusdredgers.org/event/unheard-of-the-gowanus-dredgers-present-system-architecture/
LOCATION:Gowanus Dredgers Bunker (19th St.)\, 2 19th St.\, Brooklyn\, NY
CATEGORIES:Arts,Music,On the Water
ATTACH;FMTTYPE=image/png:https://gowanusdredgers.org/wp-content/uploads/2025/04/Add-a-subheading-2160-x-1080-px.png
GEO:40.66731229192;-74.000079337986
X-APPLE-STRUCTURED-LOCATION;VALUE=URI;X-ADDRESS=Gowanus Dredgers Bunker (19th St.) 2 19th St. Brooklyn NY;X-APPLE-RADIUS=500;X-TITLE=2 19th St.:geo:-74.000079337986,40.66731229192
END:VEVENT
BEGIN:VEVENT
DTSTART;TZID=America/New_York:20250806T180000
DTEND;TZID=America/New_York:20250806T203000
DTSTAMP:20260424T230937
CREATED:20250225T042301Z
LAST-MODIFIED:20250330T160353Z
UID:10000521-1754503200-1754512200@gowanusdredgers.org
SUMMARY:The Boathouse Jam
DESCRIPTION:Wednesdays April 2 through October 29th\, 2025 6:00 – 8:30 PM  \nThe Boathouse Jam is hosted by the Gowanus Dredgers Canoe Club to activate our shoreline while fostering the continued resurgence of acoustical collaborations in Brooklyn. We are inclusive of all – young & old\, new & seasoned musicians. Just bring a smile and your musical instrument and/or your voice to join our one night makeshift band. \nChristian Apuzzo leads most sessions. He is a Brooklyn-based vocalist\, guitarist\, and music educator. Long Island-raised\, this musician started his journey as a certified public school music teacher but has since found the wide-open pastures of the freelance music world in NYC. Playing mostly folk\, bluegrass\, and country music\, Christian plays with numerous groups all over our five boroughs including bluegrass group Cole Quest and the City Pickers and local supergroup the Grass Messengers. He also teaches music lessons and classes for all ages at Jalopy Theatre in Red Hook\, Brooklyn. \nFree but a $5 suggested donation is encouraged\, limited beverages are provided. \nThe Boathouse is located at 165 2nd Street\, Brooklyn NY between Bond Street and the Gowanus Canal. Sessions are rain or shine\, we gather outside the Boathouse unless it’s cold or raining then we move inside.
URL:https://gowanusdredgers.org/event/the-boathouse-jam-2/2025-08-06/
LOCATION:Gowanus Dredgers Canoe Club Boathouse\, 165 2nd St\, Brooklyn\, NY\, 11231\, United States
CATEGORIES:Music
ATTACH;FMTTYPE=image/webp:https://gowanusdredgers.org/wp-content/uploads/2024/01/BoathouseJam_NVergalla_DSC09946-scaled-e1725556152256.jpg
END:VEVENT
BEGIN:VEVENT
DTSTART;TZID=America/New_York:20250807T180000
DTEND;TZID=America/New_York:20250807T203000
DTSTAMP:20260424T230937
CREATED:20250701T181053Z
LAST-MODIFIED:20250926T205957Z
UID:10000701-1754589600-1754598600@gowanusdredgers.org
SUMMARY:Gowanus Jug & String Band Sessions
DESCRIPTION:Thursday evenings starting May 1st\, 6-8:30 at the Gowanus Dredgers Boathouse 165 2nd Street between Bond and the Gowanus Canal. We are excited to expand our musical offerings with this new weekly jam.\nJam Leader: Papa Ernie Vega\nDredger Host: Liz Rabson Schnore\n$5 Suggested Donation\n  \nWhat  Jug band and String band music?\n\nLet’s start with String band music. Black String band music\, which will be our focus\, was created by Southern Blacks and pre-dates the Blues & Jazz. Groups which consisted of mostly stringed instruments (guitar\, banjo\, bass\, violin\, mandolin\, ukulele\, etc) performed a wide variety of songs and styles for all manner of social functions and for personal enjoyment;  two-steps\, waltzes and breakdowns for dances\, ballads and love songs\, humorous & novelty songs\, as well as blues\, jazz\, and pop tunes as they came into fashion. This genre\, sadly\, was under-represented by the burgeoning recording industry in the 1920’s and 30’s\, which helped contribute to its already declining popularity in the wake of the success of the Blues and Jazz: though groups like the Mississippi Sheiks and the Dallas String Band did make great and popular recordings. The genre never completely died out\, however\, and is alive and well today thanks to the perseverance of its practitioners and the dedication of its fans\, which has led to a rediscovery and a new appreciation by audiences young and old. \nJug band music developed in the early 20th century within Southern Black communities and was essentially a string band with a jug used as a “poor man’s tuba”\, in the role of a bass instrument. Other household items as instruments were popular as well; washboard and/or spoons for percussion\, washtub bass\, and kazoo. These combined with the guitars\, banjos\, mandolins/violins of the traditional string band\, along with the harmonica\, made for a unique sound that won the hearts of the public in the early days of the recording industry. The Memphis Jug Band and Cannon’s Jug Stompers recorded well over a hundred examples of blues\, ballads\, pop and dance numbers – and they’re just the tip of the iceberg. The genre found new life in the Folk Music Revival of the 1960’s and remains popular to this day.\nThese sessions will be open to Intermediate and above players\, and we encourage you to sing along and bring a song to lead. To lead a song\, you will be expected to sing it loudly enough for those around you to hear\, to know the key you will sing in\, and to explain the chord changes and form of the song if need be.  We may also discuss some ideas for performing in an ensemble to help everyone find their place in the music. \n\n\nPapa Ernie Vega is a NYC singer\, instrumentalist\, bandleader\, teacher\, songwriter and performing/recording artist. He has over 20 years of professional experience and has performed at the Newport Folk Festival\, the Jug Band Jubilee and the Osaka Jug Band Festival. He also taught and performed at the Port Townsend Acoustic Blues Festival from 2016-2021. He is a lover of fine cheap food\, old movies\, humor\, and photography.
URL:https://gowanusdredgers.org/event/gowanus-jug-string-band-sessions-2/2025-08-07/
LOCATION:Gowanus Dredgers Canoe Club Boathouse\, 165 2nd St\, Brooklyn\, NY\, 11231\, United States
CATEGORIES:Music
ATTACH;FMTTYPE=image/jpeg:https://gowanusdredgers.org/wp-content/uploads/2025/04/Gowanus-jug-and-string-band-sessions-landscape-2.jpg
END:VEVENT
BEGIN:VEVENT
DTSTART;TZID=America/New_York:20250809T150000
DTEND;TZID=America/New_York:20250809T170000
DTSTAMP:20260424T230937
CREATED:20250730T022552Z
LAST-MODIFIED:20250730T023436Z
UID:10000792-1754751600-1754758800@gowanusdredgers.org
SUMMARY:Yacht Rock Pop-Up Choir: Join us at the Dock for some Soft Rock
DESCRIPTION:Yacht Rock Choir invites you to our next Pop-Up Choir\, where we teach one smooth song in 4-part harmony and sing it together in a fun (and often nautical) location. \nThis time\, we’re singing “Smooth Operator” by Sade! \n\nLocation: \nGowanus Dredgers Boathouse\n165 2nd Street\, Gowanus\, Brooklyn (between Bond and the Gowanus Canal)\n\nDate and time: \nSaturday\, August 9 from 3:00 PM to 5:00 PM \nWhat’s a Pop-Up Choir?\nIt’s all about singing a song you know and love (in 4-part harmony)\, with a group of laid-back folks and no pressure to be perfect. We teach by ear (no sheet music!) and end with a chill outdoor performance you’ll be proud to share. Here’s what it looks and sounds like:\nI Can’t Go For That (No Can Do) Pop-Up\nLove Will Keep Us Together Pop-Up\nI Keep Forgettin’ Pop-Up \nWhat is Yacht Rock Choir?\nYacht Rock Choir is Brooklyn’s own no-audition “yacht-cappella” choir devoted to the soft rock hits of the ’70s and ’80s—the smooth stuff\, with jazz and soul influences. Think Michael McDonald\, Hall & Oates\, Kenny Loggins\, and Sade. We run by season (like a sports league\, but smoother) and host occasional pop-ups like this one for folks who just want to dip a toe in. \nRSVP HERE!\n\nSpace is limited\, so grab your spot and let’s get yachty.\n\nInstagram: @yachtrockchoir\nwww.yachtrockchoir.com
URL:https://gowanusdredgers.org/event/join-us-at-the-dock-for-some-soft-rock/
LOCATION:Gowanus Dredgers Canoe Club Boathouse\, 165 2nd St\, Brooklyn\, NY\, 11231\, United States
CATEGORIES:Community,Music
ATTACH;FMTTYPE=image/png:https://gowanusdredgers.org/wp-content/uploads/2025/07/Smooth-operator-pop-up-rectangle-events-2.png
END:VEVENT
BEGIN:VEVENT
DTSTART;TZID=America/New_York:20250813T180000
DTEND;TZID=America/New_York:20250813T203000
DTSTAMP:20260424T230937
CREATED:20250225T042301Z
LAST-MODIFIED:20250330T160353Z
UID:10000522-1755108000-1755117000@gowanusdredgers.org
SUMMARY:The Boathouse Jam
DESCRIPTION:Wednesdays April 2 through October 29th\, 2025 6:00 – 8:30 PM  \nThe Boathouse Jam is hosted by the Gowanus Dredgers Canoe Club to activate our shoreline while fostering the continued resurgence of acoustical collaborations in Brooklyn. We are inclusive of all – young & old\, new & seasoned musicians. Just bring a smile and your musical instrument and/or your voice to join our one night makeshift band. \nChristian Apuzzo leads most sessions. He is a Brooklyn-based vocalist\, guitarist\, and music educator. Long Island-raised\, this musician started his journey as a certified public school music teacher but has since found the wide-open pastures of the freelance music world in NYC. Playing mostly folk\, bluegrass\, and country music\, Christian plays with numerous groups all over our five boroughs including bluegrass group Cole Quest and the City Pickers and local supergroup the Grass Messengers. He also teaches music lessons and classes for all ages at Jalopy Theatre in Red Hook\, Brooklyn. \nFree but a $5 suggested donation is encouraged\, limited beverages are provided. \nThe Boathouse is located at 165 2nd Street\, Brooklyn NY between Bond Street and the Gowanus Canal. Sessions are rain or shine\, we gather outside the Boathouse unless it’s cold or raining then we move inside.
URL:https://gowanusdredgers.org/event/the-boathouse-jam-2/2025-08-13/
LOCATION:Gowanus Dredgers Canoe Club Boathouse\, 165 2nd St\, Brooklyn\, NY\, 11231\, United States
CATEGORIES:Music
ATTACH;FMTTYPE=image/webp:https://gowanusdredgers.org/wp-content/uploads/2024/01/BoathouseJam_NVergalla_DSC09946-scaled-e1725556152256.jpg
END:VEVENT
BEGIN:VEVENT
DTSTART;TZID=America/New_York:20250814T180000
DTEND;TZID=America/New_York:20250814T203000
DTSTAMP:20260424T230937
CREATED:20250701T181053Z
LAST-MODIFIED:20250926T205957Z
UID:10000702-1755194400-1755203400@gowanusdredgers.org
SUMMARY:Gowanus Jug & String Band Sessions
DESCRIPTION:Thursday evenings starting May 1st\, 6-8:30 at the Gowanus Dredgers Boathouse 165 2nd Street between Bond and the Gowanus Canal. We are excited to expand our musical offerings with this new weekly jam.\nJam Leader: Papa Ernie Vega\nDredger Host: Liz Rabson Schnore\n$5 Suggested Donation\n  \nWhat  Jug band and String band music?\n\nLet’s start with String band music. Black String band music\, which will be our focus\, was created by Southern Blacks and pre-dates the Blues & Jazz. Groups which consisted of mostly stringed instruments (guitar\, banjo\, bass\, violin\, mandolin\, ukulele\, etc) performed a wide variety of songs and styles for all manner of social functions and for personal enjoyment;  two-steps\, waltzes and breakdowns for dances\, ballads and love songs\, humorous & novelty songs\, as well as blues\, jazz\, and pop tunes as they came into fashion. This genre\, sadly\, was under-represented by the burgeoning recording industry in the 1920’s and 30’s\, which helped contribute to its already declining popularity in the wake of the success of the Blues and Jazz: though groups like the Mississippi Sheiks and the Dallas String Band did make great and popular recordings. The genre never completely died out\, however\, and is alive and well today thanks to the perseverance of its practitioners and the dedication of its fans\, which has led to a rediscovery and a new appreciation by audiences young and old. \nJug band music developed in the early 20th century within Southern Black communities and was essentially a string band with a jug used as a “poor man’s tuba”\, in the role of a bass instrument. Other household items as instruments were popular as well; washboard and/or spoons for percussion\, washtub bass\, and kazoo. These combined with the guitars\, banjos\, mandolins/violins of the traditional string band\, along with the harmonica\, made for a unique sound that won the hearts of the public in the early days of the recording industry. The Memphis Jug Band and Cannon’s Jug Stompers recorded well over a hundred examples of blues\, ballads\, pop and dance numbers – and they’re just the tip of the iceberg. The genre found new life in the Folk Music Revival of the 1960’s and remains popular to this day.\nThese sessions will be open to Intermediate and above players\, and we encourage you to sing along and bring a song to lead. To lead a song\, you will be expected to sing it loudly enough for those around you to hear\, to know the key you will sing in\, and to explain the chord changes and form of the song if need be.  We may also discuss some ideas for performing in an ensemble to help everyone find their place in the music. \n\n\nPapa Ernie Vega is a NYC singer\, instrumentalist\, bandleader\, teacher\, songwriter and performing/recording artist. He has over 20 years of professional experience and has performed at the Newport Folk Festival\, the Jug Band Jubilee and the Osaka Jug Band Festival. He also taught and performed at the Port Townsend Acoustic Blues Festival from 2016-2021. He is a lover of fine cheap food\, old movies\, humor\, and photography.
URL:https://gowanusdredgers.org/event/gowanus-jug-string-band-sessions-2/2025-08-14/
LOCATION:Gowanus Dredgers Canoe Club Boathouse\, 165 2nd St\, Brooklyn\, NY\, 11231\, United States
CATEGORIES:Music
ATTACH;FMTTYPE=image/jpeg:https://gowanusdredgers.org/wp-content/uploads/2025/04/Gowanus-jug-and-string-band-sessions-landscape-2.jpg
END:VEVENT
BEGIN:VEVENT
DTSTART;TZID=America/New_York:20250820T180000
DTEND;TZID=America/New_York:20250820T203000
DTSTAMP:20260424T230937
CREATED:20250225T042301Z
LAST-MODIFIED:20250330T160353Z
UID:10000523-1755712800-1755721800@gowanusdredgers.org
SUMMARY:The Boathouse Jam
DESCRIPTION:Wednesdays April 2 through October 29th\, 2025 6:00 – 8:30 PM  \nThe Boathouse Jam is hosted by the Gowanus Dredgers Canoe Club to activate our shoreline while fostering the continued resurgence of acoustical collaborations in Brooklyn. We are inclusive of all – young & old\, new & seasoned musicians. Just bring a smile and your musical instrument and/or your voice to join our one night makeshift band. \nChristian Apuzzo leads most sessions. He is a Brooklyn-based vocalist\, guitarist\, and music educator. Long Island-raised\, this musician started his journey as a certified public school music teacher but has since found the wide-open pastures of the freelance music world in NYC. Playing mostly folk\, bluegrass\, and country music\, Christian plays with numerous groups all over our five boroughs including bluegrass group Cole Quest and the City Pickers and local supergroup the Grass Messengers. He also teaches music lessons and classes for all ages at Jalopy Theatre in Red Hook\, Brooklyn. \nFree but a $5 suggested donation is encouraged\, limited beverages are provided. \nThe Boathouse is located at 165 2nd Street\, Brooklyn NY between Bond Street and the Gowanus Canal. Sessions are rain or shine\, we gather outside the Boathouse unless it’s cold or raining then we move inside.
URL:https://gowanusdredgers.org/event/the-boathouse-jam-2/2025-08-20/
LOCATION:Gowanus Dredgers Canoe Club Boathouse\, 165 2nd St\, Brooklyn\, NY\, 11231\, United States
CATEGORIES:Music
ATTACH;FMTTYPE=image/webp:https://gowanusdredgers.org/wp-content/uploads/2024/01/BoathouseJam_NVergalla_DSC09946-scaled-e1725556152256.jpg
END:VEVENT
BEGIN:VEVENT
DTSTART;TZID=America/New_York:20250821T180000
DTEND;TZID=America/New_York:20250821T203000
DTSTAMP:20260424T230937
CREATED:20250701T181053Z
LAST-MODIFIED:20250926T205957Z
UID:10000703-1755799200-1755808200@gowanusdredgers.org
SUMMARY:Gowanus Jug & String Band Sessions
DESCRIPTION:Thursday evenings starting May 1st\, 6-8:30 at the Gowanus Dredgers Boathouse 165 2nd Street between Bond and the Gowanus Canal. We are excited to expand our musical offerings with this new weekly jam.\nJam Leader: Papa Ernie Vega\nDredger Host: Liz Rabson Schnore\n$5 Suggested Donation\n  \nWhat  Jug band and String band music?\n\nLet’s start with String band music. Black String band music\, which will be our focus\, was created by Southern Blacks and pre-dates the Blues & Jazz. Groups which consisted of mostly stringed instruments (guitar\, banjo\, bass\, violin\, mandolin\, ukulele\, etc) performed a wide variety of songs and styles for all manner of social functions and for personal enjoyment;  two-steps\, waltzes and breakdowns for dances\, ballads and love songs\, humorous & novelty songs\, as well as blues\, jazz\, and pop tunes as they came into fashion. This genre\, sadly\, was under-represented by the burgeoning recording industry in the 1920’s and 30’s\, which helped contribute to its already declining popularity in the wake of the success of the Blues and Jazz: though groups like the Mississippi Sheiks and the Dallas String Band did make great and popular recordings. The genre never completely died out\, however\, and is alive and well today thanks to the perseverance of its practitioners and the dedication of its fans\, which has led to a rediscovery and a new appreciation by audiences young and old. \nJug band music developed in the early 20th century within Southern Black communities and was essentially a string band with a jug used as a “poor man’s tuba”\, in the role of a bass instrument. Other household items as instruments were popular as well; washboard and/or spoons for percussion\, washtub bass\, and kazoo. These combined with the guitars\, banjos\, mandolins/violins of the traditional string band\, along with the harmonica\, made for a unique sound that won the hearts of the public in the early days of the recording industry. The Memphis Jug Band and Cannon’s Jug Stompers recorded well over a hundred examples of blues\, ballads\, pop and dance numbers – and they’re just the tip of the iceberg. The genre found new life in the Folk Music Revival of the 1960’s and remains popular to this day.\nThese sessions will be open to Intermediate and above players\, and we encourage you to sing along and bring a song to lead. To lead a song\, you will be expected to sing it loudly enough for those around you to hear\, to know the key you will sing in\, and to explain the chord changes and form of the song if need be.  We may also discuss some ideas for performing in an ensemble to help everyone find their place in the music. \n\n\nPapa Ernie Vega is a NYC singer\, instrumentalist\, bandleader\, teacher\, songwriter and performing/recording artist. He has over 20 years of professional experience and has performed at the Newport Folk Festival\, the Jug Band Jubilee and the Osaka Jug Band Festival. He also taught and performed at the Port Townsend Acoustic Blues Festival from 2016-2021. He is a lover of fine cheap food\, old movies\, humor\, and photography.
URL:https://gowanusdredgers.org/event/gowanus-jug-string-band-sessions-2/2025-08-21/
LOCATION:Gowanus Dredgers Canoe Club Boathouse\, 165 2nd St\, Brooklyn\, NY\, 11231\, United States
CATEGORIES:Music
ATTACH;FMTTYPE=image/jpeg:https://gowanusdredgers.org/wp-content/uploads/2025/04/Gowanus-jug-and-string-band-sessions-landscape-2.jpg
END:VEVENT
BEGIN:VEVENT
DTSTART;TZID=America/New_York:20250827T180000
DTEND;TZID=America/New_York:20250827T203000
DTSTAMP:20260424T230937
CREATED:20250225T042301Z
LAST-MODIFIED:20250330T160353Z
UID:10000524-1756317600-1756326600@gowanusdredgers.org
SUMMARY:The Boathouse Jam
DESCRIPTION:Wednesdays April 2 through October 29th\, 2025 6:00 – 8:30 PM  \nThe Boathouse Jam is hosted by the Gowanus Dredgers Canoe Club to activate our shoreline while fostering the continued resurgence of acoustical collaborations in Brooklyn. We are inclusive of all – young & old\, new & seasoned musicians. Just bring a smile and your musical instrument and/or your voice to join our one night makeshift band. \nChristian Apuzzo leads most sessions. He is a Brooklyn-based vocalist\, guitarist\, and music educator. Long Island-raised\, this musician started his journey as a certified public school music teacher but has since found the wide-open pastures of the freelance music world in NYC. Playing mostly folk\, bluegrass\, and country music\, Christian plays with numerous groups all over our five boroughs including bluegrass group Cole Quest and the City Pickers and local supergroup the Grass Messengers. He also teaches music lessons and classes for all ages at Jalopy Theatre in Red Hook\, Brooklyn. \nFree but a $5 suggested donation is encouraged\, limited beverages are provided. \nThe Boathouse is located at 165 2nd Street\, Brooklyn NY between Bond Street and the Gowanus Canal. Sessions are rain or shine\, we gather outside the Boathouse unless it’s cold or raining then we move inside.
URL:https://gowanusdredgers.org/event/the-boathouse-jam-2/2025-08-27/
LOCATION:Gowanus Dredgers Canoe Club Boathouse\, 165 2nd St\, Brooklyn\, NY\, 11231\, United States
CATEGORIES:Music
ATTACH;FMTTYPE=image/webp:https://gowanusdredgers.org/wp-content/uploads/2024/01/BoathouseJam_NVergalla_DSC09946-scaled-e1725556152256.jpg
END:VEVENT
BEGIN:VEVENT
DTSTART;TZID=America/New_York:20250828T180000
DTEND;TZID=America/New_York:20250828T203000
DTSTAMP:20260424T230937
CREATED:20250701T181053Z
LAST-MODIFIED:20250926T205957Z
UID:10000704-1756404000-1756413000@gowanusdredgers.org
SUMMARY:Gowanus Jug & String Band Sessions
DESCRIPTION:Thursday evenings starting May 1st\, 6-8:30 at the Gowanus Dredgers Boathouse 165 2nd Street between Bond and the Gowanus Canal. We are excited to expand our musical offerings with this new weekly jam.\nJam Leader: Papa Ernie Vega\nDredger Host: Liz Rabson Schnore\n$5 Suggested Donation\n  \nWhat  Jug band and String band music?\n\nLet’s start with String band music. Black String band music\, which will be our focus\, was created by Southern Blacks and pre-dates the Blues & Jazz. Groups which consisted of mostly stringed instruments (guitar\, banjo\, bass\, violin\, mandolin\, ukulele\, etc) performed a wide variety of songs and styles for all manner of social functions and for personal enjoyment;  two-steps\, waltzes and breakdowns for dances\, ballads and love songs\, humorous & novelty songs\, as well as blues\, jazz\, and pop tunes as they came into fashion. This genre\, sadly\, was under-represented by the burgeoning recording industry in the 1920’s and 30’s\, which helped contribute to its already declining popularity in the wake of the success of the Blues and Jazz: though groups like the Mississippi Sheiks and the Dallas String Band did make great and popular recordings. The genre never completely died out\, however\, and is alive and well today thanks to the perseverance of its practitioners and the dedication of its fans\, which has led to a rediscovery and a new appreciation by audiences young and old. \nJug band music developed in the early 20th century within Southern Black communities and was essentially a string band with a jug used as a “poor man’s tuba”\, in the role of a bass instrument. Other household items as instruments were popular as well; washboard and/or spoons for percussion\, washtub bass\, and kazoo. These combined with the guitars\, banjos\, mandolins/violins of the traditional string band\, along with the harmonica\, made for a unique sound that won the hearts of the public in the early days of the recording industry. The Memphis Jug Band and Cannon’s Jug Stompers recorded well over a hundred examples of blues\, ballads\, pop and dance numbers – and they’re just the tip of the iceberg. The genre found new life in the Folk Music Revival of the 1960’s and remains popular to this day.\nThese sessions will be open to Intermediate and above players\, and we encourage you to sing along and bring a song to lead. To lead a song\, you will be expected to sing it loudly enough for those around you to hear\, to know the key you will sing in\, and to explain the chord changes and form of the song if need be.  We may also discuss some ideas for performing in an ensemble to help everyone find their place in the music. \n\n\nPapa Ernie Vega is a NYC singer\, instrumentalist\, bandleader\, teacher\, songwriter and performing/recording artist. He has over 20 years of professional experience and has performed at the Newport Folk Festival\, the Jug Band Jubilee and the Osaka Jug Band Festival. He also taught and performed at the Port Townsend Acoustic Blues Festival from 2016-2021. He is a lover of fine cheap food\, old movies\, humor\, and photography.
URL:https://gowanusdredgers.org/event/gowanus-jug-string-band-sessions-2/2025-08-28/
LOCATION:Gowanus Dredgers Canoe Club Boathouse\, 165 2nd St\, Brooklyn\, NY\, 11231\, United States
CATEGORIES:Music
ATTACH;FMTTYPE=image/jpeg:https://gowanusdredgers.org/wp-content/uploads/2025/04/Gowanus-jug-and-string-band-sessions-landscape-2.jpg
END:VEVENT
END:VCALENDAR