BEGIN:VCALENDAR
VERSION:2.0
PRODID:-//Gowanus Dredgers Canoe Club - ECPv6.15.20//NONSGML v1.0//EN
CALSCALE:GREGORIAN
METHOD:PUBLISH
X-WR-CALNAME:Gowanus Dredgers Canoe Club
X-ORIGINAL-URL:https://gowanusdredgers.org
X-WR-CALDESC:Events for Gowanus Dredgers Canoe Club
REFRESH-INTERVAL;VALUE=DURATION:PT1H
X-Robots-Tag:noindex
X-PUBLISHED-TTL:PT1H
BEGIN:VTIMEZONE
TZID:America/New_York
BEGIN:DAYLIGHT
TZOFFSETFROM:-0500
TZOFFSETTO:-0400
TZNAME:EDT
DTSTART:20240310T070000
END:DAYLIGHT
BEGIN:STANDARD
TZOFFSETFROM:-0400
TZOFFSETTO:-0500
TZNAME:EST
DTSTART:20241103T060000
END:STANDARD
BEGIN:DAYLIGHT
TZOFFSETFROM:-0500
TZOFFSETTO:-0400
TZNAME:EDT
DTSTART:20250309T070000
END:DAYLIGHT
BEGIN:STANDARD
TZOFFSETFROM:-0400
TZOFFSETTO:-0500
TZNAME:EST
DTSTART:20251102T060000
END:STANDARD
BEGIN:DAYLIGHT
TZOFFSETFROM:-0500
TZOFFSETTO:-0400
TZNAME:EDT
DTSTART:20260308T070000
END:DAYLIGHT
BEGIN:STANDARD
TZOFFSETFROM:-0400
TZOFFSETTO:-0500
TZNAME:EST
DTSTART:20261101T060000
END:STANDARD
END:VTIMEZONE
BEGIN:VEVENT
DTSTART;TZID=America/New_York:20250903T180000
DTEND;TZID=America/New_York:20250903T203000
DTSTAMP:20260424T212623
CREATED:20250225T042301Z
LAST-MODIFIED:20250330T160353Z
UID:10000525-1756922400-1756931400@gowanusdredgers.org
SUMMARY:The Boathouse Jam
DESCRIPTION:Wednesdays April 2 through October 29th\, 2025 6:00 – 8:30 PM  \nThe Boathouse Jam is hosted by the Gowanus Dredgers Canoe Club to activate our shoreline while fostering the continued resurgence of acoustical collaborations in Brooklyn. We are inclusive of all – young & old\, new & seasoned musicians. Just bring a smile and your musical instrument and/or your voice to join our one night makeshift band. \nChristian Apuzzo leads most sessions. He is a Brooklyn-based vocalist\, guitarist\, and music educator. Long Island-raised\, this musician started his journey as a certified public school music teacher but has since found the wide-open pastures of the freelance music world in NYC. Playing mostly folk\, bluegrass\, and country music\, Christian plays with numerous groups all over our five boroughs including bluegrass group Cole Quest and the City Pickers and local supergroup the Grass Messengers. He also teaches music lessons and classes for all ages at Jalopy Theatre in Red Hook\, Brooklyn. \nFree but a $5 suggested donation is encouraged\, limited beverages are provided. \nThe Boathouse is located at 165 2nd Street\, Brooklyn NY between Bond Street and the Gowanus Canal. Sessions are rain or shine\, we gather outside the Boathouse unless it’s cold or raining then we move inside.
URL:https://gowanusdredgers.org/event/the-boathouse-jam-2/2025-09-03/
LOCATION:Gowanus Dredgers Canoe Club Boathouse\, 165 2nd St\, Brooklyn\, NY\, 11231\, United States
CATEGORIES:Music
ATTACH;FMTTYPE=image/webp:https://gowanusdredgers.org/wp-content/uploads/2024/01/BoathouseJam_NVergalla_DSC09946-scaled-e1725556152256.jpg
END:VEVENT
BEGIN:VEVENT
DTSTART;TZID=America/New_York:20250904T180000
DTEND;TZID=America/New_York:20250904T203000
DTSTAMP:20260424T212623
CREATED:20250701T181053Z
LAST-MODIFIED:20250926T205957Z
UID:10000705-1757008800-1757017800@gowanusdredgers.org
SUMMARY:Gowanus Jug & String Band Sessions
DESCRIPTION:Thursday evenings starting May 1st\, 6-8:30 at the Gowanus Dredgers Boathouse 165 2nd Street between Bond and the Gowanus Canal. We are excited to expand our musical offerings with this new weekly jam.\nJam Leader: Papa Ernie Vega\nDredger Host: Liz Rabson Schnore\n$5 Suggested Donation\n  \nWhat  Jug band and String band music?\n\nLet’s start with String band music. Black String band music\, which will be our focus\, was created by Southern Blacks and pre-dates the Blues & Jazz. Groups which consisted of mostly stringed instruments (guitar\, banjo\, bass\, violin\, mandolin\, ukulele\, etc) performed a wide variety of songs and styles for all manner of social functions and for personal enjoyment;  two-steps\, waltzes and breakdowns for dances\, ballads and love songs\, humorous & novelty songs\, as well as blues\, jazz\, and pop tunes as they came into fashion. This genre\, sadly\, was under-represented by the burgeoning recording industry in the 1920’s and 30’s\, which helped contribute to its already declining popularity in the wake of the success of the Blues and Jazz: though groups like the Mississippi Sheiks and the Dallas String Band did make great and popular recordings. The genre never completely died out\, however\, and is alive and well today thanks to the perseverance of its practitioners and the dedication of its fans\, which has led to a rediscovery and a new appreciation by audiences young and old. \nJug band music developed in the early 20th century within Southern Black communities and was essentially a string band with a jug used as a “poor man’s tuba”\, in the role of a bass instrument. Other household items as instruments were popular as well; washboard and/or spoons for percussion\, washtub bass\, and kazoo. These combined with the guitars\, banjos\, mandolins/violins of the traditional string band\, along with the harmonica\, made for a unique sound that won the hearts of the public in the early days of the recording industry. The Memphis Jug Band and Cannon’s Jug Stompers recorded well over a hundred examples of blues\, ballads\, pop and dance numbers – and they’re just the tip of the iceberg. The genre found new life in the Folk Music Revival of the 1960’s and remains popular to this day.\nThese sessions will be open to Intermediate and above players\, and we encourage you to sing along and bring a song to lead. To lead a song\, you will be expected to sing it loudly enough for those around you to hear\, to know the key you will sing in\, and to explain the chord changes and form of the song if need be.  We may also discuss some ideas for performing in an ensemble to help everyone find their place in the music. \n\n\nPapa Ernie Vega is a NYC singer\, instrumentalist\, bandleader\, teacher\, songwriter and performing/recording artist. He has over 20 years of professional experience and has performed at the Newport Folk Festival\, the Jug Band Jubilee and the Osaka Jug Band Festival. He also taught and performed at the Port Townsend Acoustic Blues Festival from 2016-2021. He is a lover of fine cheap food\, old movies\, humor\, and photography.
URL:https://gowanusdredgers.org/event/gowanus-jug-string-band-sessions-2/2025-09-04/
LOCATION:Gowanus Dredgers Canoe Club Boathouse\, 165 2nd St\, Brooklyn\, NY\, 11231\, United States
CATEGORIES:Music
ATTACH;FMTTYPE=image/jpeg:https://gowanusdredgers.org/wp-content/uploads/2025/04/Gowanus-jug-and-string-band-sessions-landscape-2.jpg
END:VEVENT
BEGIN:VEVENT
DTSTART;TZID=America/New_York:20250910T180000
DTEND;TZID=America/New_York:20250910T203000
DTSTAMP:20260424T212623
CREATED:20250225T042301Z
LAST-MODIFIED:20250330T160353Z
UID:10000526-1757527200-1757536200@gowanusdredgers.org
SUMMARY:The Boathouse Jam
DESCRIPTION:Wednesdays April 2 through October 29th\, 2025 6:00 – 8:30 PM  \nThe Boathouse Jam is hosted by the Gowanus Dredgers Canoe Club to activate our shoreline while fostering the continued resurgence of acoustical collaborations in Brooklyn. We are inclusive of all – young & old\, new & seasoned musicians. Just bring a smile and your musical instrument and/or your voice to join our one night makeshift band. \nChristian Apuzzo leads most sessions. He is a Brooklyn-based vocalist\, guitarist\, and music educator. Long Island-raised\, this musician started his journey as a certified public school music teacher but has since found the wide-open pastures of the freelance music world in NYC. Playing mostly folk\, bluegrass\, and country music\, Christian plays with numerous groups all over our five boroughs including bluegrass group Cole Quest and the City Pickers and local supergroup the Grass Messengers. He also teaches music lessons and classes for all ages at Jalopy Theatre in Red Hook\, Brooklyn. \nFree but a $5 suggested donation is encouraged\, limited beverages are provided. \nThe Boathouse is located at 165 2nd Street\, Brooklyn NY between Bond Street and the Gowanus Canal. Sessions are rain or shine\, we gather outside the Boathouse unless it’s cold or raining then we move inside.
URL:https://gowanusdredgers.org/event/the-boathouse-jam-2/2025-09-10/
LOCATION:Gowanus Dredgers Canoe Club Boathouse\, 165 2nd St\, Brooklyn\, NY\, 11231\, United States
CATEGORIES:Music
ATTACH;FMTTYPE=image/webp:https://gowanusdredgers.org/wp-content/uploads/2024/01/BoathouseJam_NVergalla_DSC09946-scaled-e1725556152256.jpg
END:VEVENT
BEGIN:VEVENT
DTSTART;TZID=America/New_York:20250911T180000
DTEND;TZID=America/New_York:20250911T203000
DTSTAMP:20260424T212623
CREATED:20250701T181053Z
LAST-MODIFIED:20250926T205957Z
UID:10000706-1757613600-1757622600@gowanusdredgers.org
SUMMARY:Gowanus Jug & String Band Sessions
DESCRIPTION:Thursday evenings starting May 1st\, 6-8:30 at the Gowanus Dredgers Boathouse 165 2nd Street between Bond and the Gowanus Canal. We are excited to expand our musical offerings with this new weekly jam.\nJam Leader: Papa Ernie Vega\nDredger Host: Liz Rabson Schnore\n$5 Suggested Donation\n  \nWhat  Jug band and String band music?\n\nLet’s start with String band music. Black String band music\, which will be our focus\, was created by Southern Blacks and pre-dates the Blues & Jazz. Groups which consisted of mostly stringed instruments (guitar\, banjo\, bass\, violin\, mandolin\, ukulele\, etc) performed a wide variety of songs and styles for all manner of social functions and for personal enjoyment;  two-steps\, waltzes and breakdowns for dances\, ballads and love songs\, humorous & novelty songs\, as well as blues\, jazz\, and pop tunes as they came into fashion. This genre\, sadly\, was under-represented by the burgeoning recording industry in the 1920’s and 30’s\, which helped contribute to its already declining popularity in the wake of the success of the Blues and Jazz: though groups like the Mississippi Sheiks and the Dallas String Band did make great and popular recordings. The genre never completely died out\, however\, and is alive and well today thanks to the perseverance of its practitioners and the dedication of its fans\, which has led to a rediscovery and a new appreciation by audiences young and old. \nJug band music developed in the early 20th century within Southern Black communities and was essentially a string band with a jug used as a “poor man’s tuba”\, in the role of a bass instrument. Other household items as instruments were popular as well; washboard and/or spoons for percussion\, washtub bass\, and kazoo. These combined with the guitars\, banjos\, mandolins/violins of the traditional string band\, along with the harmonica\, made for a unique sound that won the hearts of the public in the early days of the recording industry. The Memphis Jug Band and Cannon’s Jug Stompers recorded well over a hundred examples of blues\, ballads\, pop and dance numbers – and they’re just the tip of the iceberg. The genre found new life in the Folk Music Revival of the 1960’s and remains popular to this day.\nThese sessions will be open to Intermediate and above players\, and we encourage you to sing along and bring a song to lead. To lead a song\, you will be expected to sing it loudly enough for those around you to hear\, to know the key you will sing in\, and to explain the chord changes and form of the song if need be.  We may also discuss some ideas for performing in an ensemble to help everyone find their place in the music. \n\n\nPapa Ernie Vega is a NYC singer\, instrumentalist\, bandleader\, teacher\, songwriter and performing/recording artist. He has over 20 years of professional experience and has performed at the Newport Folk Festival\, the Jug Band Jubilee and the Osaka Jug Band Festival. He also taught and performed at the Port Townsend Acoustic Blues Festival from 2016-2021. He is a lover of fine cheap food\, old movies\, humor\, and photography.
URL:https://gowanusdredgers.org/event/gowanus-jug-string-band-sessions-2/2025-09-11/
LOCATION:Gowanus Dredgers Canoe Club Boathouse\, 165 2nd St\, Brooklyn\, NY\, 11231\, United States
CATEGORIES:Music
ATTACH;FMTTYPE=image/jpeg:https://gowanusdredgers.org/wp-content/uploads/2025/04/Gowanus-jug-and-string-band-sessions-landscape-2.jpg
END:VEVENT
BEGIN:VEVENT
DTSTART;TZID=America/New_York:20250913T180000
DTEND;TZID=America/New_York:20250913T220000
DTSTAMP:20260424T212623
CREATED:20250804T215139Z
LAST-MODIFIED:20250804T215139Z
UID:10000582-1757786400-1757800800@gowanusdredgers.org
SUMMARY:Ukulele Cabaret: Ukulele Harvest
DESCRIPTION:Celebrating two decades of songs\, costumes and shenanigans.\n\n\n\n\n\nFor twenty years the Ukulele Cabaret has provided a stage for musicians\, artists and performers from New York’s underground ukulele scene!  \n\nJoin us at:\nGowanus Dredgers Boathouse\n165 2nd St\, Brooklyn\nhttps://ukulelecabaret.com/\nFeaturing: Alan Drogin and Steve Swartz\,Amie Amis\, Angus Loten\, Anthony Rev Wills III\, Carol Wierzbicki\, Dana McCoy\, Gio Gaynor\, Jamie Scandal\, Les Chauds Lapins\, Lloyd United\, Pete Sturman\, Rush Kress\, Saint and Sinners\, Uke Goldberg\, Uke Skywalker and Ukelinda hosted by Sonic Uke. \n\n\n \nTed and Jason of Sonic Uke started the cabaret in May 2005 in the back of Julius bar in West Village. After outgrowing our stage there we settled in for a residency at legendary East Village gastropub Jimmy’s 43\, with cameos at Barbes\, The Zipper Factory and Banjo Jim’s before moving to The Red Room at the KGB Bar — an East Village speakeasy that in 1914 was the headquarters of Emma Goldman’s Secret Society of anarchists.
URL:https://gowanusdredgers.org/event/ukulele-cabaret-2025-dredgers-season-2/
LOCATION:Gowanus Dredgers Canoe Club Boathouse\, 165 2nd St\, Brooklyn\, NY\, 11231\, United States
CATEGORIES:Music
ATTACH;FMTTYPE=image/jpeg:https://gowanusdredgers.org/wp-content/uploads/2025/03/ukuleleharvest13.jpeg
END:VEVENT
BEGIN:VEVENT
DTSTART;TZID=America/New_York:20250917T180000
DTEND;TZID=America/New_York:20250917T203000
DTSTAMP:20260424T212623
CREATED:20250225T042301Z
LAST-MODIFIED:20250330T160353Z
UID:10000527-1758132000-1758141000@gowanusdredgers.org
SUMMARY:The Boathouse Jam
DESCRIPTION:Wednesdays April 2 through October 29th\, 2025 6:00 – 8:30 PM  \nThe Boathouse Jam is hosted by the Gowanus Dredgers Canoe Club to activate our shoreline while fostering the continued resurgence of acoustical collaborations in Brooklyn. We are inclusive of all – young & old\, new & seasoned musicians. Just bring a smile and your musical instrument and/or your voice to join our one night makeshift band. \nChristian Apuzzo leads most sessions. He is a Brooklyn-based vocalist\, guitarist\, and music educator. Long Island-raised\, this musician started his journey as a certified public school music teacher but has since found the wide-open pastures of the freelance music world in NYC. Playing mostly folk\, bluegrass\, and country music\, Christian plays with numerous groups all over our five boroughs including bluegrass group Cole Quest and the City Pickers and local supergroup the Grass Messengers. He also teaches music lessons and classes for all ages at Jalopy Theatre in Red Hook\, Brooklyn. \nFree but a $5 suggested donation is encouraged\, limited beverages are provided. \nThe Boathouse is located at 165 2nd Street\, Brooklyn NY between Bond Street and the Gowanus Canal. Sessions are rain or shine\, we gather outside the Boathouse unless it’s cold or raining then we move inside.
URL:https://gowanusdredgers.org/event/the-boathouse-jam-2/2025-09-17/
LOCATION:Gowanus Dredgers Canoe Club Boathouse\, 165 2nd St\, Brooklyn\, NY\, 11231\, United States
CATEGORIES:Music
ATTACH;FMTTYPE=image/webp:https://gowanusdredgers.org/wp-content/uploads/2024/01/BoathouseJam_NVergalla_DSC09946-scaled-e1725556152256.jpg
END:VEVENT
BEGIN:VEVENT
DTSTART;TZID=America/New_York:20250918T180000
DTEND;TZID=America/New_York:20250918T203000
DTSTAMP:20260424T212623
CREATED:20250701T181053Z
LAST-MODIFIED:20250926T205957Z
UID:10000707-1758218400-1758227400@gowanusdredgers.org
SUMMARY:Gowanus Jug & String Band Sessions
DESCRIPTION:Thursday evenings starting May 1st\, 6-8:30 at the Gowanus Dredgers Boathouse 165 2nd Street between Bond and the Gowanus Canal. We are excited to expand our musical offerings with this new weekly jam.\nJam Leader: Papa Ernie Vega\nDredger Host: Liz Rabson Schnore\n$5 Suggested Donation\n  \nWhat  Jug band and String band music?\n\nLet’s start with String band music. Black String band music\, which will be our focus\, was created by Southern Blacks and pre-dates the Blues & Jazz. Groups which consisted of mostly stringed instruments (guitar\, banjo\, bass\, violin\, mandolin\, ukulele\, etc) performed a wide variety of songs and styles for all manner of social functions and for personal enjoyment;  two-steps\, waltzes and breakdowns for dances\, ballads and love songs\, humorous & novelty songs\, as well as blues\, jazz\, and pop tunes as they came into fashion. This genre\, sadly\, was under-represented by the burgeoning recording industry in the 1920’s and 30’s\, which helped contribute to its already declining popularity in the wake of the success of the Blues and Jazz: though groups like the Mississippi Sheiks and the Dallas String Band did make great and popular recordings. The genre never completely died out\, however\, and is alive and well today thanks to the perseverance of its practitioners and the dedication of its fans\, which has led to a rediscovery and a new appreciation by audiences young and old. \nJug band music developed in the early 20th century within Southern Black communities and was essentially a string band with a jug used as a “poor man’s tuba”\, in the role of a bass instrument. Other household items as instruments were popular as well; washboard and/or spoons for percussion\, washtub bass\, and kazoo. These combined with the guitars\, banjos\, mandolins/violins of the traditional string band\, along with the harmonica\, made for a unique sound that won the hearts of the public in the early days of the recording industry. The Memphis Jug Band and Cannon’s Jug Stompers recorded well over a hundred examples of blues\, ballads\, pop and dance numbers – and they’re just the tip of the iceberg. The genre found new life in the Folk Music Revival of the 1960’s and remains popular to this day.\nThese sessions will be open to Intermediate and above players\, and we encourage you to sing along and bring a song to lead. To lead a song\, you will be expected to sing it loudly enough for those around you to hear\, to know the key you will sing in\, and to explain the chord changes and form of the song if need be.  We may also discuss some ideas for performing in an ensemble to help everyone find their place in the music. \n\n\nPapa Ernie Vega is a NYC singer\, instrumentalist\, bandleader\, teacher\, songwriter and performing/recording artist. He has over 20 years of professional experience and has performed at the Newport Folk Festival\, the Jug Band Jubilee and the Osaka Jug Band Festival. He also taught and performed at the Port Townsend Acoustic Blues Festival from 2016-2021. He is a lover of fine cheap food\, old movies\, humor\, and photography.
URL:https://gowanusdredgers.org/event/gowanus-jug-string-band-sessions-2/2025-09-18/
LOCATION:Gowanus Dredgers Canoe Club Boathouse\, 165 2nd St\, Brooklyn\, NY\, 11231\, United States
CATEGORIES:Music
ATTACH;FMTTYPE=image/jpeg:https://gowanusdredgers.org/wp-content/uploads/2025/04/Gowanus-jug-and-string-band-sessions-landscape-2.jpg
END:VEVENT
BEGIN:VEVENT
DTSTART;TZID=America/New_York:20250924T180000
DTEND;TZID=America/New_York:20250924T203000
DTSTAMP:20260424T212623
CREATED:20250225T042301Z
LAST-MODIFIED:20250330T160353Z
UID:10000528-1758736800-1758745800@gowanusdredgers.org
SUMMARY:The Boathouse Jam
DESCRIPTION:Wednesdays April 2 through October 29th\, 2025 6:00 – 8:30 PM  \nThe Boathouse Jam is hosted by the Gowanus Dredgers Canoe Club to activate our shoreline while fostering the continued resurgence of acoustical collaborations in Brooklyn. We are inclusive of all – young & old\, new & seasoned musicians. Just bring a smile and your musical instrument and/or your voice to join our one night makeshift band. \nChristian Apuzzo leads most sessions. He is a Brooklyn-based vocalist\, guitarist\, and music educator. Long Island-raised\, this musician started his journey as a certified public school music teacher but has since found the wide-open pastures of the freelance music world in NYC. Playing mostly folk\, bluegrass\, and country music\, Christian plays with numerous groups all over our five boroughs including bluegrass group Cole Quest and the City Pickers and local supergroup the Grass Messengers. He also teaches music lessons and classes for all ages at Jalopy Theatre in Red Hook\, Brooklyn. \nFree but a $5 suggested donation is encouraged\, limited beverages are provided. \nThe Boathouse is located at 165 2nd Street\, Brooklyn NY between Bond Street and the Gowanus Canal. Sessions are rain or shine\, we gather outside the Boathouse unless it’s cold or raining then we move inside.
URL:https://gowanusdredgers.org/event/the-boathouse-jam-2/2025-09-24/
LOCATION:Gowanus Dredgers Canoe Club Boathouse\, 165 2nd St\, Brooklyn\, NY\, 11231\, United States
CATEGORIES:Music
ATTACH;FMTTYPE=image/webp:https://gowanusdredgers.org/wp-content/uploads/2024/01/BoathouseJam_NVergalla_DSC09946-scaled-e1725556152256.jpg
END:VEVENT
BEGIN:VEVENT
DTSTART;TZID=America/New_York:20250925T180000
DTEND;TZID=America/New_York:20250925T203000
DTSTAMP:20260424T212623
CREATED:20250701T181053Z
LAST-MODIFIED:20250926T205957Z
UID:10000708-1758823200-1758832200@gowanusdredgers.org
SUMMARY:Gowanus Jug & String Band Sessions
DESCRIPTION:Thursday evenings starting May 1st\, 6-8:30 at the Gowanus Dredgers Boathouse 165 2nd Street between Bond and the Gowanus Canal. We are excited to expand our musical offerings with this new weekly jam.\nJam Leader: Papa Ernie Vega\nDredger Host: Liz Rabson Schnore\n$5 Suggested Donation\n  \nWhat  Jug band and String band music?\n\nLet’s start with String band music. Black String band music\, which will be our focus\, was created by Southern Blacks and pre-dates the Blues & Jazz. Groups which consisted of mostly stringed instruments (guitar\, banjo\, bass\, violin\, mandolin\, ukulele\, etc) performed a wide variety of songs and styles for all manner of social functions and for personal enjoyment;  two-steps\, waltzes and breakdowns for dances\, ballads and love songs\, humorous & novelty songs\, as well as blues\, jazz\, and pop tunes as they came into fashion. This genre\, sadly\, was under-represented by the burgeoning recording industry in the 1920’s and 30’s\, which helped contribute to its already declining popularity in the wake of the success of the Blues and Jazz: though groups like the Mississippi Sheiks and the Dallas String Band did make great and popular recordings. The genre never completely died out\, however\, and is alive and well today thanks to the perseverance of its practitioners and the dedication of its fans\, which has led to a rediscovery and a new appreciation by audiences young and old. \nJug band music developed in the early 20th century within Southern Black communities and was essentially a string band with a jug used as a “poor man’s tuba”\, in the role of a bass instrument. Other household items as instruments were popular as well; washboard and/or spoons for percussion\, washtub bass\, and kazoo. These combined with the guitars\, banjos\, mandolins/violins of the traditional string band\, along with the harmonica\, made for a unique sound that won the hearts of the public in the early days of the recording industry. The Memphis Jug Band and Cannon’s Jug Stompers recorded well over a hundred examples of blues\, ballads\, pop and dance numbers – and they’re just the tip of the iceberg. The genre found new life in the Folk Music Revival of the 1960’s and remains popular to this day.\nThese sessions will be open to Intermediate and above players\, and we encourage you to sing along and bring a song to lead. To lead a song\, you will be expected to sing it loudly enough for those around you to hear\, to know the key you will sing in\, and to explain the chord changes and form of the song if need be.  We may also discuss some ideas for performing in an ensemble to help everyone find their place in the music. \n\n\nPapa Ernie Vega is a NYC singer\, instrumentalist\, bandleader\, teacher\, songwriter and performing/recording artist. He has over 20 years of professional experience and has performed at the Newport Folk Festival\, the Jug Band Jubilee and the Osaka Jug Band Festival. He also taught and performed at the Port Townsend Acoustic Blues Festival from 2016-2021. He is a lover of fine cheap food\, old movies\, humor\, and photography.
URL:https://gowanusdredgers.org/event/gowanus-jug-string-band-sessions-2/2025-09-25/
LOCATION:Gowanus Dredgers Canoe Club Boathouse\, 165 2nd St\, Brooklyn\, NY\, 11231\, United States
CATEGORIES:Music
ATTACH;FMTTYPE=image/jpeg:https://gowanusdredgers.org/wp-content/uploads/2025/04/Gowanus-jug-and-string-band-sessions-landscape-2.jpg
END:VEVENT
BEGIN:VEVENT
DTSTART;TZID=America/New_York:20250927T180000
DTEND;TZID=America/New_York:20250927T213000
DTSTAMP:20260424T212623
CREATED:20250422T205710Z
LAST-MODIFIED:20250827T143911Z
UID:10000595-1758996000-1759008600@gowanusdredgers.org
SUMMARY:Unheard-of + Gowanus Dredgers Present: Fire Ecologies Album Release Party
DESCRIPTION:Fire Ecologies Album Release Party \nDate: September 27th\, 2025\, 6:30PM Music\, 6PM Canoe Launch\nLocation: Gowanus Dredgers Bunker\, 2 19th St\, Brooklyn\, NY 11232 \nJoin Unheard-of Ensemble\, the Dredgers\, and Christopher Stark for our Fire Ecologies album release party. The ensemble performs the entire album live followed by an afterparty featuring food and drink from some of our favorite Brooklyn breweries and distilleries. \nFire Ecologies is an album length Chamber Music America commission from Rome Prize-winning composer Christopher Stark\, exploring America’s changing landscapes in the face of climate change. The work incorporates field recordings of the 2020 California wildfires and sounds from Chris’s travel across Montana\, Oregon\, and California as well as parts of Colorado as well as explorations of nature from America’s heartland surrounding Missouri. The album will be released on New Focus Recordings and available in-person at the show. \n🎟️ Free RSVP for land viewing\, Paddle Tickets available here 🎟️ \n—— \nThis performance takes place on the Gowanus Canal\, from the 19th St. Bunker location. The audience can immerse themselves in the experience on the Gowanus\, enjoying the program from on land or on water. Limited boat access and on-water support are provided by The Gowanus Dredgers. Attendees may arrive in their own vessels\, as well. \nWeather may postpone event. \n—— \nThis program is supported\, in part\, by public funds from the New York City Department of Cultural Affairs in partnership with the City Council. \nUnheard-of’s performances are made possible by the New York State Council on the Arts with the support of the Office of the Governor and the New York State Legislature.
URL:https://gowanusdredgers.org/event/unheard-of-gowanus-dredgers-present-fire-ecologies-album-release-party/
LOCATION:Gowanus Dredgers Bunker (19th St.)\, 2 19th St.\, Brooklyn\, NY
CATEGORIES:Arts,Music,On the Water
ATTACH;FMTTYPE=image/avif:https://gowanusdredgers.org/wp-content/uploads/2025/04/Unheard-of-Gowanus-Dredgers-Present-Fire-Ecologies-Album-Release-Party.avif
GEO:40.66731229192;-74.000079337986
X-APPLE-STRUCTURED-LOCATION;VALUE=URI;X-ADDRESS=Gowanus Dredgers Bunker (19th St.) 2 19th St. Brooklyn NY;X-APPLE-RADIUS=500;X-TITLE=2 19th St.:geo:-74.000079337986,40.66731229192
END:VEVENT
END:VCALENDAR