BEGIN:VCALENDAR
VERSION:2.0
PRODID:-//Gowanus Dredgers Canoe Club - ECPv6.15.20//NONSGML v1.0//EN
CALSCALE:GREGORIAN
METHOD:PUBLISH
X-ORIGINAL-URL:https://gowanusdredgers.org
X-WR-CALDESC:Events for Gowanus Dredgers Canoe Club
REFRESH-INTERVAL;VALUE=DURATION:PT1H
X-Robots-Tag:noindex
X-PUBLISHED-TTL:PT1H
BEGIN:VTIMEZONE
TZID:America/New_York
BEGIN:DAYLIGHT
TZOFFSETFROM:-0500
TZOFFSETTO:-0400
TZNAME:EDT
DTSTART:20250309T070000
END:DAYLIGHT
BEGIN:STANDARD
TZOFFSETFROM:-0400
TZOFFSETTO:-0500
TZNAME:EST
DTSTART:20251102T060000
END:STANDARD
BEGIN:DAYLIGHT
TZOFFSETFROM:-0500
TZOFFSETTO:-0400
TZNAME:EDT
DTSTART:20260308T070000
END:DAYLIGHT
BEGIN:STANDARD
TZOFFSETFROM:-0400
TZOFFSETTO:-0500
TZNAME:EST
DTSTART:20261101T060000
END:STANDARD
BEGIN:DAYLIGHT
TZOFFSETFROM:-0500
TZOFFSETTO:-0400
TZNAME:EDT
DTSTART:20270314T070000
END:DAYLIGHT
BEGIN:STANDARD
TZOFFSETFROM:-0400
TZOFFSETTO:-0500
TZNAME:EST
DTSTART:20271107T060000
END:STANDARD
END:VTIMEZONE
BEGIN:VEVENT
DTSTART;TZID=America/New_York:20260305T180000
DTEND;TZID=America/New_York:20260305T203000
DTSTAMP:20260424T120909
CREATED:20251009T211339Z
LAST-MODIFIED:20251009T211339Z
UID:10000832-1772733600-1772742600@gowanusdredgers.org
SUMMARY:The Boathouse Jam: Winter Edition
DESCRIPTION:Keep jamming throughout the winter at the Gowanus Dredgers Boathouse. The focus of the winter jam is to work on harder bluegrass tunes in a welcoming group setting. Think tunes that are crooked\, go beyond I/IV/V\, or are outside the basic standards. Bring your acoustic instrument\, bring your jam busters\, and be ready to expand your jam comfort zone! \nDress warm! We play inside the Boathouse where the temperature tends to be in the 60s throughout the winter. \nSuggested donation $10
URL:https://gowanusdredgers.org/event/the-boathouse-jam-winter-edition/2026-03-05/
LOCATION:Gowanus Dredgers Canoe Club Boathouse\, 165 2nd St\, Brooklyn\, NY\, 11231\, United States
CATEGORIES:Community,Music
ATTACH;FMTTYPE=image/jpeg:https://gowanusdredgers.org/wp-content/uploads/2025/10/BoathouseJam-winter-scaled.jpg
END:VEVENT
BEGIN:VEVENT
DTSTART;TZID=America/New_York:20260319T180000
DTEND;TZID=America/New_York:20260319T203000
DTSTAMP:20260424T120909
CREATED:20251009T211339Z
LAST-MODIFIED:20251009T211339Z
UID:10000833-1773943200-1773952200@gowanusdredgers.org
SUMMARY:The Boathouse Jam: Winter Edition
DESCRIPTION:Keep jamming throughout the winter at the Gowanus Dredgers Boathouse. The focus of the winter jam is to work on harder bluegrass tunes in a welcoming group setting. Think tunes that are crooked\, go beyond I/IV/V\, or are outside the basic standards. Bring your acoustic instrument\, bring your jam busters\, and be ready to expand your jam comfort zone! \nDress warm! We play inside the Boathouse where the temperature tends to be in the 60s throughout the winter. \nSuggested donation $10
URL:https://gowanusdredgers.org/event/the-boathouse-jam-winter-edition/2026-03-19/
LOCATION:Gowanus Dredgers Canoe Club Boathouse\, 165 2nd St\, Brooklyn\, NY\, 11231\, United States
CATEGORIES:Community,Music
ATTACH;FMTTYPE=image/jpeg:https://gowanusdredgers.org/wp-content/uploads/2025/10/BoathouseJam-winter-scaled.jpg
END:VEVENT
END:VCALENDAR