BEGIN:VCALENDAR
VERSION:2.0
PRODID:-//Gowanus Dredgers Canoe Club - ECPv6.15.20//NONSGML v1.0//EN
CALSCALE:GREGORIAN
METHOD:PUBLISH
X-ORIGINAL-URL:https://gowanusdredgers.org
X-WR-CALDESC:Events for Gowanus Dredgers Canoe Club
REFRESH-INTERVAL;VALUE=DURATION:PT1H
X-Robots-Tag:noindex
X-PUBLISHED-TTL:PT1H
BEGIN:VTIMEZONE
TZID:America/New_York
BEGIN:DAYLIGHT
TZOFFSETFROM:-0500
TZOFFSETTO:-0400
TZNAME:EDT
DTSTART:20250309T070000
END:DAYLIGHT
BEGIN:STANDARD
TZOFFSETFROM:-0400
TZOFFSETTO:-0500
TZNAME:EST
DTSTART:20251102T060000
END:STANDARD
BEGIN:DAYLIGHT
TZOFFSETFROM:-0500
TZOFFSETTO:-0400
TZNAME:EDT
DTSTART:20260308T070000
END:DAYLIGHT
BEGIN:STANDARD
TZOFFSETFROM:-0400
TZOFFSETTO:-0500
TZNAME:EST
DTSTART:20261101T060000
END:STANDARD
BEGIN:DAYLIGHT
TZOFFSETFROM:-0500
TZOFFSETTO:-0400
TZNAME:EDT
DTSTART:20270314T070000
END:DAYLIGHT
BEGIN:STANDARD
TZOFFSETFROM:-0400
TZOFFSETTO:-0500
TZNAME:EST
DTSTART:20271107T060000
END:STANDARD
END:VTIMEZONE
BEGIN:VEVENT
DTSTART;TZID=America/New_York:20260912T180000
DTEND;TZID=America/New_York:20260912T220000
DTSTAMP:20260424T182526
CREATED:20260419T213606Z
LAST-MODIFIED:20260419T213716Z
UID:10001103-1789236000-1789250400@gowanusdredgers.org
SUMMARY:Ukulele Cabaret
DESCRIPTION:For twenty years the Ukulele Cabaret has provided a stage for musicians\, artists and performers from New York’s underground ukulele scene. \n\nTed and Jason of Sonic Uke started the cabaret in May 2005 in the back of Julius bar in West Village. After outgrowing our stage there we settled in for a residency at legendary East Village gastropub Jimmy’s 43\, with cameos at Barbes\, The Zipper Factory and Banjo Jim’s before moving to The Red Room at the KGB Bar — an East Village speakeasy that in 1914 was the headquarters of Emma Goldman’s Secret Society of anarchists.
URL:https://gowanusdredgers.org/event/ukulele-cabaret-4/
LOCATION:Gowanus Dredgers Canoe Club Boathouse\, 165 2nd St\, Brooklyn\, NY\, 11231\, United States
CATEGORIES:Music
ATTACH;FMTTYPE=image/webp:https://gowanusdredgers.org/wp-content/uploads/2026/04/BP_Nightof1000Dollys_042124-23-1.webp
END:VEVENT
END:VCALENDAR