BEGIN:VCALENDAR
VERSION:2.0
PRODID:-//Gowanus Dredgers Canoe Club - ECPv6.15.20//NONSGML v1.0//EN
CALSCALE:GREGORIAN
METHOD:PUBLISH
X-ORIGINAL-URL:https://gowanusdredgers.org
X-WR-CALDESC:Events for Gowanus Dredgers Canoe Club
REFRESH-INTERVAL;VALUE=DURATION:PT1H
X-Robots-Tag:noindex
X-PUBLISHED-TTL:PT1H
BEGIN:VTIMEZONE
TZID:America/New_York
BEGIN:DAYLIGHT
TZOFFSETFROM:-0500
TZOFFSETTO:-0400
TZNAME:EDT
DTSTART:20250309T070000
END:DAYLIGHT
BEGIN:STANDARD
TZOFFSETFROM:-0400
TZOFFSETTO:-0500
TZNAME:EST
DTSTART:20251102T060000
END:STANDARD
BEGIN:DAYLIGHT
TZOFFSETFROM:-0500
TZOFFSETTO:-0400
TZNAME:EDT
DTSTART:20260308T070000
END:DAYLIGHT
BEGIN:STANDARD
TZOFFSETFROM:-0400
TZOFFSETTO:-0500
TZNAME:EST
DTSTART:20261101T060000
END:STANDARD
BEGIN:DAYLIGHT
TZOFFSETFROM:-0500
TZOFFSETTO:-0400
TZNAME:EDT
DTSTART:20270314T070000
END:DAYLIGHT
BEGIN:STANDARD
TZOFFSETFROM:-0400
TZOFFSETTO:-0500
TZNAME:EST
DTSTART:20271107T060000
END:STANDARD
END:VTIMEZONE
BEGIN:VEVENT
DTSTART;TZID=America/New_York:20260424T183000
DTEND;TZID=America/New_York:20260424T220000
DTSTAMP:20260424T102347
CREATED:20260326T153725Z
LAST-MODIFIED:20260326T161441Z
UID:10001111-1777055400-1777068000@gowanusdredgers.org
SUMMARY:A Climate Justice Benefit: Lumberob\, Blanket Approval\, Outer Shapes & Arlo Indigo
DESCRIPTION:COLLECTIVE SCREAM x EELPIT PRESENTS \nA Climate Justice Benefit Show\nLUMBEROB\nBLANKET APPROVAL\nOUTER SHAPES\nARLO INDIGO \nFRIDAY APRIL 24\, 2026\n6PM DOORS | 6:30PM MUSIC\n$15 – 20 Suggested Donation [Tickets]\nALL AGES \nAll proceeds will be donated to local organizations Gowanus Dredgers and UPROSE. \nGowanus Dredgers promotes waterfront stewardship and is raising awareness of sewer overflow issues that affect our Gowanus Canal in Brooklyn\, NY. Since 1999 the Dredgers have empowered people to care for the Gowanus Canal through advocacy\, conservation\, and education. \nFounded in 1966\, UPROSE is Brooklyn’s oldest Puerto Rican and Latino community-based organization and a nationally recognized leader in climate justice. We build a Just Transition in Sunset Park through community organizing\, energy democracy\, and cultural expression. Learn more at uprose.org. \n(🎨 Flyer by Youngshim Gontijo @artofpoiesis)
URL:https://gowanusdredgers.org/event/a-climate-justice-benefit-lumberob-blanket-approval-outer-shapes-arlo-indigo/
LOCATION:NY
CATEGORIES:Arts,Music
ATTACH;FMTTYPE=image/jpeg:https://gowanusdredgers.org/wp-content/uploads/2026/03/SnapInsta.to_657590052_18398104210145213_8167944776535371835_n.jpg
END:VEVENT
BEGIN:VEVENT
DTSTART;TZID=America/New_York:20260426T160000
DTEND;TZID=America/New_York:20260426T180000
DTSTAMP:20260424T102347
CREATED:20260316T184926Z
LAST-MODIFIED:20260330T175947Z
UID:10001100-1777219200-1777226400@gowanusdredgers.org
SUMMARY:Yacht Rock Pop-Up Choir: Brandy (You’re a Fine Girl)
DESCRIPTION:Yacht Rock Pop-Up Choir: Brandy (You’re a Fine Girl) \nSunday\, April 26 • 4–6pm \nIn this two-hour\, open-to-all singing experience\, we’ll learn “Brandy (You’re a Fine Girl)” by Looking Glass— entirely by ear — and then perform it together outdoors by the water. \nParticipants will also have the option to join the Yacht Rock Choir for a community performance at the Boathouse on Sunday\, June 28 at 5pm.\n\nYou can check photos and videos from past pop-up choirs (such as Sade’s “Smooth Operator” and “I Can’t Go For That” by Hall & Oates) at this link: http://www.yachtrockchoir.com/pop-up\n\nSuggested donation $10 \nRSVP here \nWhat is Yacht Rock Choir? \nYacht Rock Choir is a Brooklyn community choir dedicated to the smooth sounds of late-70s and early-80s soft rock – artists like Michael McDonald\, Toto\, or Hall & Oates. \nFounded by Michelle Neuringer\, the choir brings together singers of all levels to learn rich vocal harmonies in a relaxed\, welcoming environment. \n\n@yachtrockchoir\nwww.yachtrockchoir.com
URL:https://gowanusdredgers.org/event/pop-up-choir-yacht-rock-by-the-water/
LOCATION:Gowanus Dredgers Canoe Club Boathouse\, 165 2nd St\, Brooklyn\, NY\, 11231\, United States
CATEGORIES:Music
ATTACH;FMTTYPE=image/png:https://gowanusdredgers.org/wp-content/uploads/2026/03/brandy-pop-up-choir-newsletter-IG.png
END:VEVENT
END:VCALENDAR