BEGIN:VCALENDAR
VERSION:2.0
PRODID:-//Gowanus Dredgers Canoe Club - ECPv6.15.20//NONSGML v1.0//EN
CALSCALE:GREGORIAN
METHOD:PUBLISH
X-ORIGINAL-URL:https://gowanusdredgers.org
X-WR-CALDESC:Events for Gowanus Dredgers Canoe Club
REFRESH-INTERVAL;VALUE=DURATION:PT1H
X-Robots-Tag:noindex
X-PUBLISHED-TTL:PT1H
BEGIN:VTIMEZONE
TZID:America/New_York
BEGIN:DAYLIGHT
TZOFFSETFROM:-0500
TZOFFSETTO:-0400
TZNAME:EDT
DTSTART:20240310T070000
END:DAYLIGHT
BEGIN:STANDARD
TZOFFSETFROM:-0400
TZOFFSETTO:-0500
TZNAME:EST
DTSTART:20241103T060000
END:STANDARD
BEGIN:DAYLIGHT
TZOFFSETFROM:-0500
TZOFFSETTO:-0400
TZNAME:EDT
DTSTART:20250309T070000
END:DAYLIGHT
BEGIN:STANDARD
TZOFFSETFROM:-0400
TZOFFSETTO:-0500
TZNAME:EST
DTSTART:20251102T060000
END:STANDARD
BEGIN:DAYLIGHT
TZOFFSETFROM:-0500
TZOFFSETTO:-0400
TZNAME:EDT
DTSTART:20260308T070000
END:DAYLIGHT
BEGIN:STANDARD
TZOFFSETFROM:-0400
TZOFFSETTO:-0500
TZNAME:EST
DTSTART:20261101T060000
END:STANDARD
END:VTIMEZONE
BEGIN:VEVENT
DTSTART;TZID=America/New_York:20250420T100000
DTEND;TZID=America/New_York:20250420T180000
DTSTAMP:20260424T193818
CREATED:20250225T033906Z
LAST-MODIFIED:20250225T033906Z
UID:10000462-1745143200-1745172000@gowanusdredgers.org
SUMMARY:Boathouse Spring Clean
DESCRIPTION:Join us at the Boathouse for our annual Spring Clean! Help us organize\, clean and get ready for the coming season. \nWear clothes you don’t mind getting a bit messy in– we’ll have all sorts of tasks on our to-do list from light construction\, to painting\, to sorting through donations and organizing our ‘kitchen’ supplies. Expect a self-driven afternoon\, and come with your creative ideas for streamlining our organization!
URL:https://gowanusdredgers.org/event/boathouse-spring-clean/
LOCATION:Gowanus Dredgers Canoe Club Boathouse\, 165 2nd St\, Brooklyn\, NY\, 11231\, United States
CATEGORIES:Community
ATTACH;FMTTYPE=image/webp:https://gowanusdredgers.org/wp-content/uploads/2025/02/BoathouseSpringClean.webp
END:VEVENT
END:VCALENDAR