BEGIN:VCALENDAR
VERSION:2.0
PRODID:-//Gowanus Dredgers Canoe Club - ECPv6.15.20//NONSGML v1.0//EN
CALSCALE:GREGORIAN
METHOD:PUBLISH
X-ORIGINAL-URL:https://gowanusdredgers.org
X-WR-CALDESC:Events for Gowanus Dredgers Canoe Club
REFRESH-INTERVAL;VALUE=DURATION:PT1H
X-Robots-Tag:noindex
X-PUBLISHED-TTL:PT1H
BEGIN:VTIMEZONE
TZID:America/New_York
BEGIN:DAYLIGHT
TZOFFSETFROM:-0500
TZOFFSETTO:-0400
TZNAME:EDT
DTSTART:20230312T070000
END:DAYLIGHT
BEGIN:STANDARD
TZOFFSETFROM:-0400
TZOFFSETTO:-0500
TZNAME:EST
DTSTART:20231105T060000
END:STANDARD
BEGIN:DAYLIGHT
TZOFFSETFROM:-0500
TZOFFSETTO:-0400
TZNAME:EDT
DTSTART:20240310T070000
END:DAYLIGHT
BEGIN:STANDARD
TZOFFSETFROM:-0400
TZOFFSETTO:-0500
TZNAME:EST
DTSTART:20241103T060000
END:STANDARD
BEGIN:DAYLIGHT
TZOFFSETFROM:-0500
TZOFFSETTO:-0400
TZNAME:EDT
DTSTART:20250309T070000
END:DAYLIGHT
BEGIN:STANDARD
TZOFFSETFROM:-0400
TZOFFSETTO:-0500
TZNAME:EST
DTSTART:20251102T060000
END:STANDARD
BEGIN:DAYLIGHT
TZOFFSETFROM:-0500
TZOFFSETTO:-0400
TZNAME:EDT
DTSTART:20260308T070000
END:DAYLIGHT
BEGIN:STANDARD
TZOFFSETFROM:-0400
TZOFFSETTO:-0500
TZNAME:EST
DTSTART:20261101T060000
END:STANDARD
BEGIN:DAYLIGHT
TZOFFSETFROM:-0500
TZOFFSETTO:-0400
TZNAME:EDT
DTSTART:20270314T070000
END:DAYLIGHT
BEGIN:STANDARD
TZOFFSETFROM:-0400
TZOFFSETTO:-0500
TZNAME:EST
DTSTART:20271107T060000
END:STANDARD
END:VTIMEZONE
BEGIN:VEVENT
DTSTART;TZID=America/New_York:20260419T130000
DTEND;TZID=America/New_York:20260419T170000
DTSTAMP:20260424T132708
CREATED:20260326T155135Z
LAST-MODIFIED:20260326T155135Z
UID:10001104-1776603600-1776618000@gowanusdredgers.org
SUMMARY:First Aid & CPR Class for Mariners
DESCRIPTION:Add valuable rescue skills to your toolbox by taking this certification class. CPR & First Aid is required to be a Trip Leader\, we hope you join us! \nYou can register for the workshop here. Members get a discount so now is the perfect time to join or renew! \nWe offer this CPR and first-aid training at cost. After completing the course\, you can opt to receive your AHA eCard\, which you can use as proof that you have successfully completed training.
URL:https://gowanusdredgers.org/event/first-aid-cpr-class-for-mariners-3/
LOCATION:Gowanus Dredgers Canoe Club Boathouse\, 165 2nd St\, Brooklyn\, NY\, 11231\, United States
CATEGORIES:Community
ATTACH;FMTTYPE=image/jpeg:https://gowanusdredgers.org/wp-content/uploads/2024/03/CPR_Mariners.jpeg
END:VEVENT
BEGIN:VEVENT
DTSTART;TZID=America/New_York:20250419T110000
DTEND;TZID=America/New_York:20250419T160000
DTSTAMP:20260424T132708
CREATED:20250205T001324Z
LAST-MODIFIED:20250205T001324Z
UID:10000440-1745060400-1745078400@gowanusdredgers.org
SUMMARY:First Aid & CPR Class for Mariners
DESCRIPTION:Add valuable rescue skills to your toolbox by taking this certification class. CPR & First Aid is required to be a Trip Leader\, we hope you join us! \nYou can register for the workshop here. Members get a discount so now is the perfect time to join or renew!
URL:https://gowanusdredgers.org/event/first-aid-cpr-class-for-mariners-2/
LOCATION:Gowanus Dredgers Canoe Club Boathouse\, 165 2nd St\, Brooklyn\, NY\, 11231\, United States
CATEGORIES:Community
ATTACH;FMTTYPE=image/jpeg:https://gowanusdredgers.org/wp-content/uploads/2024/03/CPR_Mariners.jpeg
END:VEVENT
BEGIN:VEVENT
DTSTART;TZID=America/New_York:20240414T110000
DTEND;TZID=America/New_York:20240414T160000
DTSTAMP:20260424T132708
CREATED:20240303T170153Z
LAST-MODIFIED:20240322T192414Z
UID:10000110-1713092400-1713110400@gowanusdredgers.org
SUMMARY:First Aid & CPR Class for Mariners
DESCRIPTION:Add valuable rescue skills to your toolbox by taking this certification class. CPR & First Aid is required to be a Trip Leader\, we hope you join us! \nYou can register for the workshop here. Members get a discount so now is the perfect time to join or renew!
URL:https://gowanusdredgers.org/event/first-aid-cpr-class-for-mariners/
LOCATION:Gowanus Dredgers Canoe Club Boathouse\, 165 2nd St\, Brooklyn\, NY\, 11231\, United States
CATEGORIES:Community
ATTACH;FMTTYPE=image/jpeg:https://gowanusdredgers.org/wp-content/uploads/2024/03/CPR_Mariners.jpeg
END:VEVENT
END:VCALENDAR