BEGIN:VCALENDAR
VERSION:2.0
PRODID:-//Gowanus Dredgers Canoe Club - ECPv6.15.20//NONSGML v1.0//EN
CALSCALE:GREGORIAN
METHOD:PUBLISH
X-ORIGINAL-URL:https://gowanusdredgers.org
X-WR-CALDESC:Events for Gowanus Dredgers Canoe Club
REFRESH-INTERVAL;VALUE=DURATION:PT1H
X-Robots-Tag:noindex
X-PUBLISHED-TTL:PT1H
BEGIN:VTIMEZONE
TZID:America/New_York
BEGIN:DAYLIGHT
TZOFFSETFROM:-0500
TZOFFSETTO:-0400
TZNAME:EDT
DTSTART:20250309T070000
END:DAYLIGHT
BEGIN:STANDARD
TZOFFSETFROM:-0400
TZOFFSETTO:-0500
TZNAME:EST
DTSTART:20251102T060000
END:STANDARD
BEGIN:DAYLIGHT
TZOFFSETFROM:-0500
TZOFFSETTO:-0400
TZNAME:EDT
DTSTART:20260308T070000
END:DAYLIGHT
BEGIN:STANDARD
TZOFFSETFROM:-0400
TZOFFSETTO:-0500
TZNAME:EST
DTSTART:20261101T060000
END:STANDARD
BEGIN:DAYLIGHT
TZOFFSETFROM:-0500
TZOFFSETTO:-0400
TZNAME:EDT
DTSTART:20270314T070000
END:DAYLIGHT
BEGIN:STANDARD
TZOFFSETFROM:-0400
TZOFFSETTO:-0500
TZNAME:EST
DTSTART:20271107T060000
END:STANDARD
END:VTIMEZONE
BEGIN:VEVENT
DTSTART;TZID=America/New_York:20260422T180000
DTEND;TZID=America/New_York:20260422T203000
DTSTAMP:20260424T115232
CREATED:20260306T195758Z
LAST-MODIFIED:20260326T160606Z
UID:10000850-1776880800-1776889800@gowanusdredgers.org
SUMMARY:Boathouse Bluegrass Jam
DESCRIPTION:The Boathouse Jam every Wednesday evening 6-8:30 April-Oct. Just come\, bring an acoustic instrument. \nThe Boathouse Jam is hosted by the Gowanus Dredgers Canoe Club to activate our shoreline while fostering the continued resurgence of acoustical collaborations in Brooklyn. We are inclusive of all – young & old\, new & seasoned musicians. Just bring a smile and your musical instrument and/or your voice to join our one night makeshift band. \nChristian Apuzzo leads most sessions. He is a Brooklyn-based vocalist\, guitarist\, and music educator. Long Island-raised\, this musician started his journey as a certified public school music teacher but has since found the wide-open pastures of the freelance music world in NYC. Playing mostly folk\, bluegrass\, and country music\, Christian plays with numerous groups all over our five boroughs including bluegrass group Cole Quest and the City Pickers and local supergroup the Grass Messengers. He also teaches music lessons and classes for all ages at Jalopy Theatre in Red Hook\, Brooklyn. \nFree but a $5 suggested donation is encouraged\, limited beverages are provided. \nThe Boathouse is located at 165 2nd Street\, Brooklyn NY between Bond Street and the Gowanus Canal. Sessions are rain or shine\, we gather outside the Boathouse unless it’s cold or raining then we move inside. \n\n\n\n\n\n\n\n\n\n\nSince 1999\, the Dredgers have empowered people to care for the Gowanus Canal through advocacy\, conservation\, and education. Our organization promotes waterfront stewardship and is raising awareness of sewer overflow issues that affect our Gowanus Canal in Brooklyn\, NY.
URL:https://gowanusdredgers.org/event/boathouse-bluegrass-jam/2026-04-22/
LOCATION:Gowanus Dredgers Canoe Club Boathouse\, 165 2nd St\, Brooklyn\, NY\, 11231\, United States
CATEGORIES:Music
ATTACH;FMTTYPE=image/heic:https://gowanusdredgers.org/wp-content/uploads/2026/03/IMG_1751-scaled.jpg
END:VEVENT
BEGIN:VEVENT
DTSTART;TZID=America/New_York:20260421T180000
DTEND;TZID=America/New_York:20260421T203000
DTSTAMP:20260424T115232
CREATED:20260306T202919Z
LAST-MODIFIED:20260326T160755Z
UID:10001014-1776794400-1776803400@gowanusdredgers.org
SUMMARY:Gowanus Jug & String Band Sessions
DESCRIPTION:Tuesday evenings\, 6-8:30 April through October. \nAt the Gowanus Dredgers Boathouse 165 2nd Street between Bond and the Gowanus Canal. We are excited to expand our musical offerings with this new weekly jam.\nDredger Host: Liz Rabson Schnore\nJam Leader: Papa Ernie Vega \nWhat Jug band and String band music?\nLet’s start with String band music. Black String band music\, which will be our focus\, was created by Southern Blacks and pre-dates the Blues & Jazz. Groups which consisted of mostly stringed instruments (guitar\, banjo\, bass\, violin\, mandolin\, ukulele\, etc) performed a wide variety of songs and styles for all manner of social functions and for personal enjoyment; two-steps\, waltzes and breakdowns for dances\, ballads and love songs\, humorous & novelty songs\, as well as blues\, jazz\, and pop tunes as they came into fashion. This genre\, sadly\, was under-represented by the burgeoning recording industry in the 1920’s and 30’s\, which helped contribute to its already declining popularity in the wake of the success of the Blues and Jazz: though groups like the Mississippi Sheiks and the Dallas String Band did make great and popular recordings. The genre never completely died out\, however\, and is alive and well today thanks to the perseverance of its practitioners and the dedication of its fans\, which has led to a rediscovery and a new appreciation by audiences young and old. \nJug band music developed in the early 20th century within Southern Black communities and was essentially a string band with a jug used as a “poor man’s tuba”\, in the role of a bass instrument. Other household items as instruments were popular as well; washboard and/or spoons for percussion\, washtub bass\, and kazoo. These combined with the guitars\, banjos\, mandolins/violins of the traditional string band\, along with the harmonica\, made for a unique sound that won the hearts of the public in the early days of the recording industry. The Memphis Jug Band and Cannon’s Jug Stompers recorded well over a hundred examples of blues\, ballads\, pop and dance numbers – and they’re just the tip of the iceberg. The genre found new life in the Folk Music Revival of the 1960’s and remains popular to this day.\nThese sessions will be open to Intermediate and above players\, and we encourage you to sing along and bring a song to lead. To lead a song\, you will be expected to sing it loudly enough for those around you to hear\, to know the key you will sing in\, and to explain the chord changes and form of the song if need be. We may also discuss some ideas for performing in an ensemble to help everyone find their place in the music. \nPapa Ernie Vega is a NYC singer\, instrumentalist\, bandleader\, teacher\, songwriter and performing/recording artist. He has over 20 years of professional experience and has performed at the Newport Folk Festival\, the Jug Band Jubilee and the Osaka Jug Band Festival. He also taught and performed at the Port Townsend Acoustic Blues Festival from 2016-2021. He is a lover of fine cheap food\, old movies\, humor\, and photography.
URL:https://gowanusdredgers.org/event/gowanus-jug-string-band-sessions-3/2026-04-21/
LOCATION:Gowanus Dredgers Canoe Club Boathouse\, 165 2nd St\, Brooklyn\, NY\, 11231\, United States
CATEGORIES:Music
ATTACH;FMTTYPE=image/heic:https://gowanusdredgers.org/wp-content/uploads/2026/03/IMG_2581-scaled.jpg
END:VEVENT
BEGIN:VEVENT
DTSTART;TZID=America/New_York:20260415T180000
DTEND;TZID=America/New_York:20260415T203000
DTSTAMP:20260424T115232
CREATED:20260306T195758Z
LAST-MODIFIED:20260326T160606Z
UID:10000849-1776276000-1776285000@gowanusdredgers.org
SUMMARY:Boathouse Bluegrass Jam
DESCRIPTION:The Boathouse Jam every Wednesday evening 6-8:30 April-Oct. Just come\, bring an acoustic instrument. \nThe Boathouse Jam is hosted by the Gowanus Dredgers Canoe Club to activate our shoreline while fostering the continued resurgence of acoustical collaborations in Brooklyn. We are inclusive of all – young & old\, new & seasoned musicians. Just bring a smile and your musical instrument and/or your voice to join our one night makeshift band. \nChristian Apuzzo leads most sessions. He is a Brooklyn-based vocalist\, guitarist\, and music educator. Long Island-raised\, this musician started his journey as a certified public school music teacher but has since found the wide-open pastures of the freelance music world in NYC. Playing mostly folk\, bluegrass\, and country music\, Christian plays with numerous groups all over our five boroughs including bluegrass group Cole Quest and the City Pickers and local supergroup the Grass Messengers. He also teaches music lessons and classes for all ages at Jalopy Theatre in Red Hook\, Brooklyn. \nFree but a $5 suggested donation is encouraged\, limited beverages are provided. \nThe Boathouse is located at 165 2nd Street\, Brooklyn NY between Bond Street and the Gowanus Canal. Sessions are rain or shine\, we gather outside the Boathouse unless it’s cold or raining then we move inside. \n\n\n\n\n\n\n\n\n\n\nSince 1999\, the Dredgers have empowered people to care for the Gowanus Canal through advocacy\, conservation\, and education. Our organization promotes waterfront stewardship and is raising awareness of sewer overflow issues that affect our Gowanus Canal in Brooklyn\, NY.
URL:https://gowanusdredgers.org/event/boathouse-bluegrass-jam/2026-04-15/
LOCATION:Gowanus Dredgers Canoe Club Boathouse\, 165 2nd St\, Brooklyn\, NY\, 11231\, United States
CATEGORIES:Music
ATTACH;FMTTYPE=image/heic:https://gowanusdredgers.org/wp-content/uploads/2026/03/IMG_1751-scaled.jpg
END:VEVENT
BEGIN:VEVENT
DTSTART;TZID=America/New_York:20260414T180000
DTEND;TZID=America/New_York:20260414T203000
DTSTAMP:20260424T115232
CREATED:20260306T202919Z
LAST-MODIFIED:20260326T160755Z
UID:10001013-1776189600-1776198600@gowanusdredgers.org
SUMMARY:Gowanus Jug & String Band Sessions
DESCRIPTION:Tuesday evenings\, 6-8:30 April through October. \nAt the Gowanus Dredgers Boathouse 165 2nd Street between Bond and the Gowanus Canal. We are excited to expand our musical offerings with this new weekly jam.\nDredger Host: Liz Rabson Schnore\nJam Leader: Papa Ernie Vega \nWhat Jug band and String band music?\nLet’s start with String band music. Black String band music\, which will be our focus\, was created by Southern Blacks and pre-dates the Blues & Jazz. Groups which consisted of mostly stringed instruments (guitar\, banjo\, bass\, violin\, mandolin\, ukulele\, etc) performed a wide variety of songs and styles for all manner of social functions and for personal enjoyment; two-steps\, waltzes and breakdowns for dances\, ballads and love songs\, humorous & novelty songs\, as well as blues\, jazz\, and pop tunes as they came into fashion. This genre\, sadly\, was under-represented by the burgeoning recording industry in the 1920’s and 30’s\, which helped contribute to its already declining popularity in the wake of the success of the Blues and Jazz: though groups like the Mississippi Sheiks and the Dallas String Band did make great and popular recordings. The genre never completely died out\, however\, and is alive and well today thanks to the perseverance of its practitioners and the dedication of its fans\, which has led to a rediscovery and a new appreciation by audiences young and old. \nJug band music developed in the early 20th century within Southern Black communities and was essentially a string band with a jug used as a “poor man’s tuba”\, in the role of a bass instrument. Other household items as instruments were popular as well; washboard and/or spoons for percussion\, washtub bass\, and kazoo. These combined with the guitars\, banjos\, mandolins/violins of the traditional string band\, along with the harmonica\, made for a unique sound that won the hearts of the public in the early days of the recording industry. The Memphis Jug Band and Cannon’s Jug Stompers recorded well over a hundred examples of blues\, ballads\, pop and dance numbers – and they’re just the tip of the iceberg. The genre found new life in the Folk Music Revival of the 1960’s and remains popular to this day.\nThese sessions will be open to Intermediate and above players\, and we encourage you to sing along and bring a song to lead. To lead a song\, you will be expected to sing it loudly enough for those around you to hear\, to know the key you will sing in\, and to explain the chord changes and form of the song if need be. We may also discuss some ideas for performing in an ensemble to help everyone find their place in the music. \nPapa Ernie Vega is a NYC singer\, instrumentalist\, bandleader\, teacher\, songwriter and performing/recording artist. He has over 20 years of professional experience and has performed at the Newport Folk Festival\, the Jug Band Jubilee and the Osaka Jug Band Festival. He also taught and performed at the Port Townsend Acoustic Blues Festival from 2016-2021. He is a lover of fine cheap food\, old movies\, humor\, and photography.
URL:https://gowanusdredgers.org/event/gowanus-jug-string-band-sessions-3/2026-04-14/
LOCATION:Gowanus Dredgers Canoe Club Boathouse\, 165 2nd St\, Brooklyn\, NY\, 11231\, United States
CATEGORIES:Music
ATTACH;FMTTYPE=image/heic:https://gowanusdredgers.org/wp-content/uploads/2026/03/IMG_2581-scaled.jpg
END:VEVENT
BEGIN:VEVENT
DTSTART;TZID=America/New_York:20260408T180000
DTEND;TZID=America/New_York:20260408T203000
DTSTAMP:20260424T115232
CREATED:20260306T195758Z
LAST-MODIFIED:20260326T160606Z
UID:10000848-1775671200-1775680200@gowanusdredgers.org
SUMMARY:Boathouse Bluegrass Jam
DESCRIPTION:The Boathouse Jam every Wednesday evening 6-8:30 April-Oct. Just come\, bring an acoustic instrument. \nThe Boathouse Jam is hosted by the Gowanus Dredgers Canoe Club to activate our shoreline while fostering the continued resurgence of acoustical collaborations in Brooklyn. We are inclusive of all – young & old\, new & seasoned musicians. Just bring a smile and your musical instrument and/or your voice to join our one night makeshift band. \nChristian Apuzzo leads most sessions. He is a Brooklyn-based vocalist\, guitarist\, and music educator. Long Island-raised\, this musician started his journey as a certified public school music teacher but has since found the wide-open pastures of the freelance music world in NYC. Playing mostly folk\, bluegrass\, and country music\, Christian plays with numerous groups all over our five boroughs including bluegrass group Cole Quest and the City Pickers and local supergroup the Grass Messengers. He also teaches music lessons and classes for all ages at Jalopy Theatre in Red Hook\, Brooklyn. \nFree but a $5 suggested donation is encouraged\, limited beverages are provided. \nThe Boathouse is located at 165 2nd Street\, Brooklyn NY between Bond Street and the Gowanus Canal. Sessions are rain or shine\, we gather outside the Boathouse unless it’s cold or raining then we move inside. \n\n\n\n\n\n\n\n\n\n\nSince 1999\, the Dredgers have empowered people to care for the Gowanus Canal through advocacy\, conservation\, and education. Our organization promotes waterfront stewardship and is raising awareness of sewer overflow issues that affect our Gowanus Canal in Brooklyn\, NY.
URL:https://gowanusdredgers.org/event/boathouse-bluegrass-jam/2026-04-08/
LOCATION:Gowanus Dredgers Canoe Club Boathouse\, 165 2nd St\, Brooklyn\, NY\, 11231\, United States
CATEGORIES:Music
ATTACH;FMTTYPE=image/heic:https://gowanusdredgers.org/wp-content/uploads/2026/03/IMG_1751-scaled.jpg
END:VEVENT
BEGIN:VEVENT
DTSTART;TZID=America/New_York:20260407T180000
DTEND;TZID=America/New_York:20260407T203000
DTSTAMP:20260424T115232
CREATED:20260306T202919Z
LAST-MODIFIED:20260326T160755Z
UID:10001012-1775584800-1775593800@gowanusdredgers.org
SUMMARY:Gowanus Jug & String Band Sessions
DESCRIPTION:Tuesday evenings\, 6-8:30 April through October. \nAt the Gowanus Dredgers Boathouse 165 2nd Street between Bond and the Gowanus Canal. We are excited to expand our musical offerings with this new weekly jam.\nDredger Host: Liz Rabson Schnore\nJam Leader: Papa Ernie Vega \nWhat Jug band and String band music?\nLet’s start with String band music. Black String band music\, which will be our focus\, was created by Southern Blacks and pre-dates the Blues & Jazz. Groups which consisted of mostly stringed instruments (guitar\, banjo\, bass\, violin\, mandolin\, ukulele\, etc) performed a wide variety of songs and styles for all manner of social functions and for personal enjoyment; two-steps\, waltzes and breakdowns for dances\, ballads and love songs\, humorous & novelty songs\, as well as blues\, jazz\, and pop tunes as they came into fashion. This genre\, sadly\, was under-represented by the burgeoning recording industry in the 1920’s and 30’s\, which helped contribute to its already declining popularity in the wake of the success of the Blues and Jazz: though groups like the Mississippi Sheiks and the Dallas String Band did make great and popular recordings. The genre never completely died out\, however\, and is alive and well today thanks to the perseverance of its practitioners and the dedication of its fans\, which has led to a rediscovery and a new appreciation by audiences young and old. \nJug band music developed in the early 20th century within Southern Black communities and was essentially a string band with a jug used as a “poor man’s tuba”\, in the role of a bass instrument. Other household items as instruments were popular as well; washboard and/or spoons for percussion\, washtub bass\, and kazoo. These combined with the guitars\, banjos\, mandolins/violins of the traditional string band\, along with the harmonica\, made for a unique sound that won the hearts of the public in the early days of the recording industry. The Memphis Jug Band and Cannon’s Jug Stompers recorded well over a hundred examples of blues\, ballads\, pop and dance numbers – and they’re just the tip of the iceberg. The genre found new life in the Folk Music Revival of the 1960’s and remains popular to this day.\nThese sessions will be open to Intermediate and above players\, and we encourage you to sing along and bring a song to lead. To lead a song\, you will be expected to sing it loudly enough for those around you to hear\, to know the key you will sing in\, and to explain the chord changes and form of the song if need be. We may also discuss some ideas for performing in an ensemble to help everyone find their place in the music. \nPapa Ernie Vega is a NYC singer\, instrumentalist\, bandleader\, teacher\, songwriter and performing/recording artist. He has over 20 years of professional experience and has performed at the Newport Folk Festival\, the Jug Band Jubilee and the Osaka Jug Band Festival. He also taught and performed at the Port Townsend Acoustic Blues Festival from 2016-2021. He is a lover of fine cheap food\, old movies\, humor\, and photography.
URL:https://gowanusdredgers.org/event/gowanus-jug-string-band-sessions-3/2026-04-07/
LOCATION:Gowanus Dredgers Canoe Club Boathouse\, 165 2nd St\, Brooklyn\, NY\, 11231\, United States
CATEGORIES:Music
ATTACH;FMTTYPE=image/heic:https://gowanusdredgers.org/wp-content/uploads/2026/03/IMG_2581-scaled.jpg
END:VEVENT
BEGIN:VEVENT
DTSTART;TZID=America/New_York:20260401T180000
DTEND;TZID=America/New_York:20260401T203000
DTSTAMP:20260424T115232
CREATED:20260306T195758Z
LAST-MODIFIED:20260326T160606Z
UID:10000847-1775066400-1775075400@gowanusdredgers.org
SUMMARY:Boathouse Bluegrass Jam
DESCRIPTION:The Boathouse Jam every Wednesday evening 6-8:30 April-Oct. Just come\, bring an acoustic instrument. \nThe Boathouse Jam is hosted by the Gowanus Dredgers Canoe Club to activate our shoreline while fostering the continued resurgence of acoustical collaborations in Brooklyn. We are inclusive of all – young & old\, new & seasoned musicians. Just bring a smile and your musical instrument and/or your voice to join our one night makeshift band. \nChristian Apuzzo leads most sessions. He is a Brooklyn-based vocalist\, guitarist\, and music educator. Long Island-raised\, this musician started his journey as a certified public school music teacher but has since found the wide-open pastures of the freelance music world in NYC. Playing mostly folk\, bluegrass\, and country music\, Christian plays with numerous groups all over our five boroughs including bluegrass group Cole Quest and the City Pickers and local supergroup the Grass Messengers. He also teaches music lessons and classes for all ages at Jalopy Theatre in Red Hook\, Brooklyn. \nFree but a $5 suggested donation is encouraged\, limited beverages are provided. \nThe Boathouse is located at 165 2nd Street\, Brooklyn NY between Bond Street and the Gowanus Canal. Sessions are rain or shine\, we gather outside the Boathouse unless it’s cold or raining then we move inside. \n\n\n\n\n\n\n\n\n\n\nSince 1999\, the Dredgers have empowered people to care for the Gowanus Canal through advocacy\, conservation\, and education. Our organization promotes waterfront stewardship and is raising awareness of sewer overflow issues that affect our Gowanus Canal in Brooklyn\, NY.
URL:https://gowanusdredgers.org/event/boathouse-bluegrass-jam/2026-04-01/
LOCATION:Gowanus Dredgers Canoe Club Boathouse\, 165 2nd St\, Brooklyn\, NY\, 11231\, United States
CATEGORIES:Music
ATTACH;FMTTYPE=image/heic:https://gowanusdredgers.org/wp-content/uploads/2026/03/IMG_1751-scaled.jpg
END:VEVENT
END:VCALENDAR